BEGIN:VCALENDAR
VERSION:2.0
PRODID:http://www.kufer.de/kuferweb / DE
METHOD:PUBLISH
CALSCALE:GREGORIAN
X-WR-TIMEZONE:Europe/Berlin
BEGIN:VTIMEZONE
TZID:Europe/Berlin
X-LIC-LOCATION:Europe/Berlin
BEGIN:DAYLIGHT
TZOFFSETFROM:+0100
TZOFFSETTO:+0200
TZNAME:CEST
DTSTART;TZID=Europe/Berlin:19700329T020000
RRULE:FREQ=YEARLY;INTERVAL=1;BYDAY=-1SU;BYMONTH=3
END:DAYLIGHT
BEGIN:STANDARD
TZOFFSETFROM:+0200
TZOFFSETTO:+0100
TZNAME:CET
DTSTART;TZID=Europe/Berlin:19701025T030000
RRULE:FREQ=YEARLY;INTERVAL=1;BYDAY=-1SU;BYMONTH=10
END:STANDARD
END:VTIMEZONE
BEGIN:VEVENT
DTSTAMP:20260421T135832
DTSTART;TZID=Europe/Berlin:20260721T103000
DTEND;TZID=Europe/Berlin:20260721T113000
UID:261OF30212-20260721T103000@VHSUNTERLAND
SUMMARY:Gesundheitsgymnastik 60+ (261OF30212) 
LOCATION:of Kulturforum Saline, Hauptstraße 8, 74254 Offenau
END:VEVENT
BEGIN:VEVENT
DTSTAMP:20260421T135832
DTSTART;TZID=Europe/Berlin:20260728T103000
DTEND;TZID=Europe/Berlin:20260728T113000
UID:261OF30212-20260728T103000@VHSUNTERLAND
SUMMARY:Gesundheitsgymnastik 60+ (261OF30212) 
LOCATION:of Kulturforum Saline, Hauptstraße 8, 74254 Offenau
END:VEVENT
BEGIN:VEVENT
DTSTAMP:20260421T135832
DTSTART;TZID=Europe/Berlin:20260804T103000
DTEND;TZID=Europe/Berlin:20260804T113000
UID:261OF30212-20260804T103000@VHSUNTERLAND
SUMMARY:Gesundheitsgymnastik 60+ (261OF30212) 
LOCATION:of Kulturforum Saline, Hauptstraße 8, 74254 Offenau
END:VEVENT
BEGIN:VEVENT
DTSTAMP:20260421T135832
DTSTART;TZID=Europe/Berlin:20260811T103000
DTEND;TZID=Europe/Berlin:20260811T113000
UID:261OF30212-20260811T103000@VHSUNTERLAND
SUMMARY:Gesundheitsgymnastik 60+ (261OF30212) 
LOCATION:of Kulturforum Saline, Hauptstraße 8, 74254 Offenau
END:VEVENT
BEGIN:VEVENT
DTSTAMP:20260421T135832
DTSTART;TZID=Europe/Berlin:20260818T103000
DTEND;TZID=Europe/Berlin:20260818T113000
UID:261OF30212-20260818T103000@VHSUNTERLAND
SUMMARY:Gesundheitsgymnastik 60+ (261OF30212) 
LOCATION:of Kulturforum Saline, Hauptstraße 8, 74254 Offenau
END:VEVENT
BEGIN:VEVENT
DTSTAMP:20260421T135832
DTSTART;TZID=Europe/Berlin:20260825T103000
DTEND;TZID=Europe/Berlin:20260825T113000
UID:261OF30212-20260825T103000@VHSUNTERLAND
SUMMARY:Gesundheitsgymnastik 60+ (261OF30212) 
LOCATION:of Kulturforum Saline, Hauptstraße 8, 74254 Offenau
END:VEVENT
BEGIN:VEVENT
DTSTAMP:20260421T135832
DTSTART;TZID=Europe/Berlin:20260901T103000
DTEND;TZID=Europe/Berlin:20260901T113000
UID:261OF30212-20260901T103000@VHSUNTERLAND
SUMMARY:Gesundheitsgymnastik 60+ (261OF30212) 
LOCATION:of Kulturforum Saline, Hauptstraße 8, 74254 Offenau
END:VEVENT
BEGIN:VEVENT
DTSTAMP:20260421T135832
DTSTART;TZID=Europe/Berlin:20260908T103000
DTEND;TZID=Europe/Berlin:20260908T113000
UID:261OF30212-20260908T103000@VHSUNTERLAND
SUMMARY:Gesundheitsgymnastik 60+ (261OF30212) 
LOCATION:of Kulturforum Saline, Hauptstraße 8, 74254 Offenau
END:VEVENT
END:VCALENDAR