BEGIN:VCALENDAR
VERSION:2.0
PRODID:http://www.kufer.de/kuferweb / DE
METHOD:PUBLISH
CALSCALE:GREGORIAN
X-WR-TIMEZONE:Europe/Berlin
BEGIN:VTIMEZONE
TZID:Europe/Berlin
X-LIC-LOCATION:Europe/Berlin
BEGIN:DAYLIGHT
TZOFFSETFROM:+0100
TZOFFSETTO:+0200
TZNAME:CEST
DTSTART;TZID=Europe/Berlin:19700329T020000
RRULE:FREQ=YEARLY;INTERVAL=1;BYDAY=-1SU;BYMONTH=3
END:DAYLIGHT
BEGIN:STANDARD
TZOFFSETFROM:+0200
TZOFFSETTO:+0100
TZNAME:CET
DTSTART;TZID=Europe/Berlin:19701025T030000
RRULE:FREQ=YEARLY;INTERVAL=1;BYDAY=-1SU;BYMONTH=10
END:STANDARD
END:VTIMEZONE
BEGIN:VEVENT
DTSTAMP:20260421T172659
DTSTART;TZID=Europe/Berlin:20260705T150000
DTEND;TZID=Europe/Berlin:20260705T180000
UID:261OF21330-20260705T150000@VHSUNTERLAND
SUMMARY:Trommelklang am Neckar für Erwachsene und Jugendliche ab 12 Jahren (261OF21330) 
LOCATION:of Treffpunkt: Am Neckar, St. Alban, Pfalzstraße 18, 74254 Offenau
END:VEVENT
END:VCALENDAR