BEGIN:VCALENDAR
VERSION:2.0
PRODID:http://www.kufer.de/kuferweb / DE
METHOD:PUBLISH
CALSCALE:GREGORIAN
X-WR-TIMEZONE:Europe/Berlin
BEGIN:VTIMEZONE
TZID:Europe/Berlin
X-LIC-LOCATION:Europe/Berlin
BEGIN:DAYLIGHT
TZOFFSETFROM:+0100
TZOFFSETTO:+0200
TZNAME:CEST
DTSTART;TZID=Europe/Berlin:19700329T020000
RRULE:FREQ=YEARLY;INTERVAL=1;BYDAY=-1SU;BYMONTH=3
END:DAYLIGHT
BEGIN:STANDARD
TZOFFSETFROM:+0200
TZOFFSETTO:+0100
TZNAME:CET
DTSTART;TZID=Europe/Berlin:19701025T030000
RRULE:FREQ=YEARLY;INTERVAL=1;BYDAY=-1SU;BYMONTH=10
END:STANDARD
END:VTIMEZONE
BEGIN:VEVENT
DTSTAMP:20260422T140208
DTSTART;TZID=Europe/Berlin:20260226T174500
DTEND;TZID=Europe/Berlin:20260226T191500
UID:261NW30130-20260226T174500@VHSUNTERLAND
SUMMARY:Yoga  für Anfänger*innen und Fortgeschrittene (261NW30130) 
LOCATION:nw Reblandhalle, Saal 3, Reblandstraße 31, 74382 Neckarwestheim
END:VEVENT
BEGIN:VEVENT
DTSTAMP:20260422T140208
DTSTART;TZID=Europe/Berlin:20260305T174500
DTEND;TZID=Europe/Berlin:20260305T191500
UID:261NW30130-20260305T174500@VHSUNTERLAND
SUMMARY:Yoga  für Anfänger*innen und Fortgeschrittene (261NW30130) 
LOCATION:nw Reblandhalle, Saal 3, Reblandstraße 31, 74382 Neckarwestheim
END:VEVENT
BEGIN:VEVENT
DTSTAMP:20260422T140208
DTSTART;TZID=Europe/Berlin:20260312T174500
DTEND;TZID=Europe/Berlin:20260312T191500
UID:261NW30130-20260312T174500@VHSUNTERLAND
SUMMARY:Yoga  für Anfänger*innen und Fortgeschrittene (261NW30130) 
LOCATION:nw Reblandhalle, Saal 3, Reblandstraße 31, 74382 Neckarwestheim
END:VEVENT
BEGIN:VEVENT
DTSTAMP:20260422T140208
DTSTART;TZID=Europe/Berlin:20260319T174500
DTEND;TZID=Europe/Berlin:20260319T191500
UID:261NW30130-20260319T174500@VHSUNTERLAND
SUMMARY:Yoga  für Anfänger*innen und Fortgeschrittene (261NW30130) 
LOCATION:nw Reblandhalle, Saal 3, Reblandstraße 31, 74382 Neckarwestheim
END:VEVENT
BEGIN:VEVENT
DTSTAMP:20260422T140208
DTSTART;TZID=Europe/Berlin:20260326T174500
DTEND;TZID=Europe/Berlin:20260326T191500
UID:261NW30130-20260326T174500@VHSUNTERLAND
SUMMARY:Yoga  für Anfänger*innen und Fortgeschrittene (261NW30130) 
LOCATION:nw Reblandhalle, Saal 3, Reblandstraße 31, 74382 Neckarwestheim
END:VEVENT
BEGIN:VEVENT
DTSTAMP:20260422T140208
DTSTART;TZID=Europe/Berlin:20260416T174500
DTEND;TZID=Europe/Berlin:20260416T191500
UID:261NW30130-20260416T174500@VHSUNTERLAND
SUMMARY:Yoga  für Anfänger*innen und Fortgeschrittene (261NW30130) 
LOCATION:nw Reblandhalle, Saal 3, Reblandstraße 31, 74382 Neckarwestheim
END:VEVENT
BEGIN:VEVENT
DTSTAMP:20260422T140208
DTSTART;TZID=Europe/Berlin:20260423T174500
DTEND;TZID=Europe/Berlin:20260423T191500
UID:261NW30130-20260423T174500@VHSUNTERLAND
SUMMARY:Yoga  für Anfänger*innen und Fortgeschrittene (261NW30130) 
LOCATION:nw Reblandhalle, Saal 3, Reblandstraße 31, 74382 Neckarwestheim
END:VEVENT
BEGIN:VEVENT
DTSTAMP:20260422T140208
DTSTART;TZID=Europe/Berlin:20260430T174500
DTEND;TZID=Europe/Berlin:20260430T191500
UID:261NW30130-20260430T174500@VHSUNTERLAND
SUMMARY:Yoga  für Anfänger*innen und Fortgeschrittene (261NW30130) 
LOCATION:nw Reblandhalle, Saal 3, Reblandstraße 31, 74382 Neckarwestheim
END:VEVENT
BEGIN:VEVENT
DTSTAMP:20260422T140208
DTSTART;TZID=Europe/Berlin:20260507T174500
DTEND;TZID=Europe/Berlin:20260507T191500
UID:261NW30130-20260507T174500@VHSUNTERLAND
SUMMARY:Yoga  für Anfänger*innen und Fortgeschrittene (261NW30130) 
LOCATION:nw Reblandhalle, Saal 3, Reblandstraße 31, 74382 Neckarwestheim
END:VEVENT
END:VCALENDAR