BEGIN:VCALENDAR
VERSION:2.0
PRODID:http://www.kufer.de/kuferweb / DE
METHOD:PUBLISH
CALSCALE:GREGORIAN
X-WR-TIMEZONE:Europe/Berlin
BEGIN:VTIMEZONE
TZID:Europe/Berlin
X-LIC-LOCATION:Europe/Berlin
BEGIN:DAYLIGHT
TZOFFSETFROM:+0100
TZOFFSETTO:+0200
TZNAME:CEST
DTSTART;TZID=Europe/Berlin:19700329T020000
RRULE:FREQ=YEARLY;INTERVAL=1;BYDAY=-1SU;BYMONTH=3
END:DAYLIGHT
BEGIN:STANDARD
TZOFFSETFROM:+0200
TZOFFSETTO:+0100
TZNAME:CET
DTSTART;TZID=Europe/Berlin:19701025T030000
RRULE:FREQ=YEARLY;INTERVAL=1;BYDAY=-1SU;BYMONTH=10
END:STANDARD
END:VTIMEZONE
BEGIN:VEVENT
DTSTAMP:20260422T110709
DTSTART;TZID=Europe/Berlin:20260507T174500
DTEND;TZID=Europe/Berlin:20260507T184500
UID:261NS30237-20260507T174500@VHSUNTERLAND
SUMMARY:ZUMBA® (261NS30237) 
LOCATION:ns Stein Turn- und Festhalle, Lobenbacher Straße 8, 74196 Neuenstadt
END:VEVENT
BEGIN:VEVENT
DTSTAMP:20260422T110709
DTSTART;TZID=Europe/Berlin:20260521T174500
DTEND;TZID=Europe/Berlin:20260521T184500
UID:261NS30237-20260521T174500@VHSUNTERLAND
SUMMARY:ZUMBA® (261NS30237) 
LOCATION:ns Stein Turn- und Festhalle, Lobenbacher Straße 8, 74196 Neuenstadt
END:VEVENT
BEGIN:VEVENT
DTSTAMP:20260422T110709
DTSTART;TZID=Europe/Berlin:20260611T174500
DTEND;TZID=Europe/Berlin:20260611T184500
UID:261NS30237-20260611T174500@VHSUNTERLAND
SUMMARY:ZUMBA® (261NS30237) 
LOCATION:ns Stein Turn- und Festhalle, Lobenbacher Straße 8, 74196 Neuenstadt
END:VEVENT
BEGIN:VEVENT
DTSTAMP:20260422T110709
DTSTART;TZID=Europe/Berlin:20260618T174500
DTEND;TZID=Europe/Berlin:20260618T184500
UID:261NS30237-20260618T174500@VHSUNTERLAND
SUMMARY:ZUMBA® (261NS30237) 
LOCATION:ns Stein Turn- und Festhalle, Lobenbacher Straße 8, 74196 Neuenstadt
END:VEVENT
BEGIN:VEVENT
DTSTAMP:20260422T110709
DTSTART;TZID=Europe/Berlin:20260625T174500
DTEND;TZID=Europe/Berlin:20260625T184500
UID:261NS30237-20260625T174500@VHSUNTERLAND
SUMMARY:ZUMBA® (261NS30237) 
LOCATION:ns Stein Turn- und Festhalle, Lobenbacher Straße 8, 74196 Neuenstadt
END:VEVENT
BEGIN:VEVENT
DTSTAMP:20260422T110709
DTSTART;TZID=Europe/Berlin:20260702T174500
DTEND;TZID=Europe/Berlin:20260702T184500
UID:261NS30237-20260702T174500@VHSUNTERLAND
SUMMARY:ZUMBA® (261NS30237) 
LOCATION:ns Stein Turn- und Festhalle, Lobenbacher Straße 8, 74196 Neuenstadt
END:VEVENT
BEGIN:VEVENT
DTSTAMP:20260422T110709
DTSTART;TZID=Europe/Berlin:20260709T174500
DTEND;TZID=Europe/Berlin:20260709T184500
UID:261NS30237-20260709T174500@VHSUNTERLAND
SUMMARY:ZUMBA® (261NS30237) 
LOCATION:ns Stein Turn- und Festhalle, Lobenbacher Straße 8, 74196 Neuenstadt
END:VEVENT
BEGIN:VEVENT
DTSTAMP:20260422T110709
DTSTART;TZID=Europe/Berlin:20260716T174500
DTEND;TZID=Europe/Berlin:20260716T184500
UID:261NS30237-20260716T174500@VHSUNTERLAND
SUMMARY:ZUMBA® (261NS30237) 
LOCATION:ns Stein Turn- und Festhalle, Lobenbacher Straße 8, 74196 Neuenstadt
END:VEVENT
END:VCALENDAR