BEGIN:VCALENDAR
VERSION:2.0
PRODID:http://www.kufer.de/kuferweb / DE
METHOD:PUBLISH
CALSCALE:GREGORIAN
X-WR-TIMEZONE:Europe/Berlin
BEGIN:VTIMEZONE
TZID:Europe/Berlin
X-LIC-LOCATION:Europe/Berlin
BEGIN:DAYLIGHT
TZOFFSETFROM:+0100
TZOFFSETTO:+0200
TZNAME:CEST
DTSTART;TZID=Europe/Berlin:19700329T020000
RRULE:FREQ=YEARLY;INTERVAL=1;BYDAY=-1SU;BYMONTH=3
END:DAYLIGHT
BEGIN:STANDARD
TZOFFSETFROM:+0200
TZOFFSETTO:+0100
TZNAME:CET
DTSTART;TZID=Europe/Berlin:19701025T030000
RRULE:FREQ=YEARLY;INTERVAL=1;BYDAY=-1SU;BYMONTH=10
END:STANDARD
END:VTIMEZONE
BEGIN:VEVENT
DTSTAMP:20260422T074427
DTSTART;TZID=Europe/Berlin:20260226T174500
DTEND;TZID=Europe/Berlin:20260226T184500
UID:261NS30236-20260226T174500@VHSUNTERLAND
SUMMARY:ZUMBA® (261NS30236) 
LOCATION:ns Stein Turn- und Festhalle, Lobenbacher Straße 8, 74196 Neuenstadt
END:VEVENT
BEGIN:VEVENT
DTSTAMP:20260422T074427
DTSTART;TZID=Europe/Berlin:20260305T174500
DTEND;TZID=Europe/Berlin:20260305T184500
UID:261NS30236-20260305T174500@VHSUNTERLAND
SUMMARY:ZUMBA® (261NS30236) 
LOCATION:ns Stein Turn- und Festhalle, Lobenbacher Straße 8, 74196 Neuenstadt
END:VEVENT
BEGIN:VEVENT
DTSTAMP:20260422T074427
DTSTART;TZID=Europe/Berlin:20260319T174500
DTEND;TZID=Europe/Berlin:20260319T184500
UID:261NS30236-20260319T174500@VHSUNTERLAND
SUMMARY:ZUMBA® (261NS30236) 
LOCATION:ns Stein Turn- und Festhalle, Lobenbacher Straße 8, 74196 Neuenstadt
END:VEVENT
BEGIN:VEVENT
DTSTAMP:20260422T074427
DTSTART;TZID=Europe/Berlin:20260326T174500
DTEND;TZID=Europe/Berlin:20260326T184500
UID:261NS30236-20260326T174500@VHSUNTERLAND
SUMMARY:ZUMBA® (261NS30236) 
LOCATION:ns Stein Turn- und Festhalle, Lobenbacher Straße 8, 74196 Neuenstadt
END:VEVENT
BEGIN:VEVENT
DTSTAMP:20260422T074427
DTSTART;TZID=Europe/Berlin:20260416T174500
DTEND;TZID=Europe/Berlin:20260416T184500
UID:261NS30236-20260416T174500@VHSUNTERLAND
SUMMARY:ZUMBA® (261NS30236) 
LOCATION:ns Stein Turn- und Festhalle, Lobenbacher Straße 8, 74196 Neuenstadt
END:VEVENT
BEGIN:VEVENT
DTSTAMP:20260422T074427
DTSTART;TZID=Europe/Berlin:20260423T174500
DTEND;TZID=Europe/Berlin:20260423T184500
UID:261NS30236-20260423T174500@VHSUNTERLAND
SUMMARY:ZUMBA® (261NS30236) 
LOCATION:ns Stein Turn- und Festhalle, Lobenbacher Straße 8, 74196 Neuenstadt
END:VEVENT
BEGIN:VEVENT
DTSTAMP:20260422T074427
DTSTART;TZID=Europe/Berlin:20260430T174500
DTEND;TZID=Europe/Berlin:20260430T184500
UID:261NS30236-20260430T174500@VHSUNTERLAND
SUMMARY:ZUMBA® (261NS30236) 
LOCATION:ns Stein Turn- und Festhalle, Lobenbacher Straße 8, 74196 Neuenstadt
END:VEVENT
END:VCALENDAR