BEGIN:VCALENDAR
VERSION:2.0
PRODID:http://www.kufer.de/kuferweb / DE
METHOD:PUBLISH
CALSCALE:GREGORIAN
X-WR-TIMEZONE:Europe/Berlin
BEGIN:VTIMEZONE
TZID:Europe/Berlin
X-LIC-LOCATION:Europe/Berlin
BEGIN:DAYLIGHT
TZOFFSETFROM:+0100
TZOFFSETTO:+0200
TZNAME:CEST
DTSTART;TZID=Europe/Berlin:19700329T020000
RRULE:FREQ=YEARLY;INTERVAL=1;BYDAY=-1SU;BYMONTH=3
END:DAYLIGHT
BEGIN:STANDARD
TZOFFSETFROM:+0200
TZOFFSETTO:+0100
TZNAME:CET
DTSTART;TZID=Europe/Berlin:19701025T030000
RRULE:FREQ=YEARLY;INTERVAL=1;BYDAY=-1SU;BYMONTH=10
END:STANDARD
END:VTIMEZONE
BEGIN:VEVENT
DTSTAMP:20260422T105608
DTSTART;TZID=Europe/Berlin:20260507T090000
DTEND;TZID=Europe/Berlin:20260507T094500
UID:261NS30215-20260507T090000@VHSUNTERLAND
SUMMARY:Fit und mobil Gymnastik im Sitzen auf dem Stuhl  (261NS30215) 
LOCATION:ns VHS-Haus, Haupteingang, Hofgartenstraße 28, 74196 Neuenstadt
END:VEVENT
BEGIN:VEVENT
DTSTAMP:20260422T105608
DTSTART;TZID=Europe/Berlin:20260521T090000
DTEND;TZID=Europe/Berlin:20260521T094500
UID:261NS30215-20260521T090000@VHSUNTERLAND
SUMMARY:Fit und mobil Gymnastik im Sitzen auf dem Stuhl  (261NS30215) 
LOCATION:ns VHS-Haus, Haupteingang, Hofgartenstraße 28, 74196 Neuenstadt
END:VEVENT
BEGIN:VEVENT
DTSTAMP:20260422T105608
DTSTART;TZID=Europe/Berlin:20260611T090000
DTEND;TZID=Europe/Berlin:20260611T094500
UID:261NS30215-20260611T090000@VHSUNTERLAND
SUMMARY:Fit und mobil Gymnastik im Sitzen auf dem Stuhl  (261NS30215) 
LOCATION:ns VHS-Haus, Haupteingang, Hofgartenstraße 28, 74196 Neuenstadt
END:VEVENT
BEGIN:VEVENT
DTSTAMP:20260422T105608
DTSTART;TZID=Europe/Berlin:20260618T090000
DTEND;TZID=Europe/Berlin:20260618T094500
UID:261NS30215-20260618T090000@VHSUNTERLAND
SUMMARY:Fit und mobil Gymnastik im Sitzen auf dem Stuhl  (261NS30215) 
LOCATION:ns VHS-Haus, Haupteingang, Hofgartenstraße 28, 74196 Neuenstadt
END:VEVENT
BEGIN:VEVENT
DTSTAMP:20260422T105608
DTSTART;TZID=Europe/Berlin:20260625T090000
DTEND;TZID=Europe/Berlin:20260625T094500
UID:261NS30215-20260625T090000@VHSUNTERLAND
SUMMARY:Fit und mobil Gymnastik im Sitzen auf dem Stuhl  (261NS30215) 
LOCATION:ns VHS-Haus, Haupteingang, Hofgartenstraße 28, 74196 Neuenstadt
END:VEVENT
BEGIN:VEVENT
DTSTAMP:20260422T105608
DTSTART;TZID=Europe/Berlin:20260702T090000
DTEND;TZID=Europe/Berlin:20260702T094500
UID:261NS30215-20260702T090000@VHSUNTERLAND
SUMMARY:Fit und mobil Gymnastik im Sitzen auf dem Stuhl  (261NS30215) 
LOCATION:ns VHS-Haus, Haupteingang, Hofgartenstraße 28, 74196 Neuenstadt
END:VEVENT
BEGIN:VEVENT
DTSTAMP:20260422T105608
DTSTART;TZID=Europe/Berlin:20260709T090000
DTEND;TZID=Europe/Berlin:20260709T094500
UID:261NS30215-20260709T090000@VHSUNTERLAND
SUMMARY:Fit und mobil Gymnastik im Sitzen auf dem Stuhl  (261NS30215) 
LOCATION:ns VHS-Haus, Haupteingang, Hofgartenstraße 28, 74196 Neuenstadt
END:VEVENT
BEGIN:VEVENT
DTSTAMP:20260422T105608
DTSTART;TZID=Europe/Berlin:20260716T090000
DTEND;TZID=Europe/Berlin:20260716T094500
UID:261NS30215-20260716T090000@VHSUNTERLAND
SUMMARY:Fit und mobil Gymnastik im Sitzen auf dem Stuhl  (261NS30215) 
LOCATION:ns VHS-Haus, Haupteingang, Hofgartenstraße 28, 74196 Neuenstadt
END:VEVENT
END:VCALENDAR