BEGIN:VCALENDAR
VERSION:2.0
PRODID:http://www.kufer.de/kuferweb / DE
METHOD:PUBLISH
CALSCALE:GREGORIAN
X-WR-TIMEZONE:Europe/Berlin
BEGIN:VTIMEZONE
TZID:Europe/Berlin
X-LIC-LOCATION:Europe/Berlin
BEGIN:DAYLIGHT
TZOFFSETFROM:+0100
TZOFFSETTO:+0200
TZNAME:CEST
DTSTART;TZID=Europe/Berlin:19700329T020000
RRULE:FREQ=YEARLY;INTERVAL=1;BYDAY=-1SU;BYMONTH=3
END:DAYLIGHT
BEGIN:STANDARD
TZOFFSETFROM:+0200
TZOFFSETTO:+0100
TZNAME:CET
DTSTART;TZID=Europe/Berlin:19701025T030000
RRULE:FREQ=YEARLY;INTERVAL=1;BYDAY=-1SU;BYMONTH=10
END:STANDARD
END:VTIMEZONE
BEGIN:VEVENT
DTSTAMP:20260421T203900
DTSTART;TZID=Europe/Berlin:20260225T105000
DTEND;TZID=Europe/Berlin:20260225T115000
UID:261NS30212-20260225T105000@VHSUNTERLAND
SUMMARY:Gymnastik im Sitzen  wahlweise auf dem Stuhl oder Pezziball (261NS30212) 
LOCATION:ns VHS-Haus, Haupteingang, Hofgartenstraße 28, 74196 Neuenstadt
END:VEVENT
BEGIN:VEVENT
DTSTAMP:20260421T203900
DTSTART;TZID=Europe/Berlin:20260304T105000
DTEND;TZID=Europe/Berlin:20260304T115000
UID:261NS30212-20260304T105000@VHSUNTERLAND
SUMMARY:Gymnastik im Sitzen  wahlweise auf dem Stuhl oder Pezziball (261NS30212) 
LOCATION:ns VHS-Haus, Haupteingang, Hofgartenstraße 28, 74196 Neuenstadt
END:VEVENT
BEGIN:VEVENT
DTSTAMP:20260421T203900
DTSTART;TZID=Europe/Berlin:20260311T105000
DTEND;TZID=Europe/Berlin:20260311T115000
UID:261NS30212-20260311T105000@VHSUNTERLAND
SUMMARY:Gymnastik im Sitzen  wahlweise auf dem Stuhl oder Pezziball (261NS30212) 
LOCATION:ns VHS-Haus, Haupteingang, Hofgartenstraße 28, 74196 Neuenstadt
END:VEVENT
BEGIN:VEVENT
DTSTAMP:20260421T203900
DTSTART;TZID=Europe/Berlin:20260318T105000
DTEND;TZID=Europe/Berlin:20260318T115000
UID:261NS30212-20260318T105000@VHSUNTERLAND
SUMMARY:Gymnastik im Sitzen  wahlweise auf dem Stuhl oder Pezziball (261NS30212) 
LOCATION:ns VHS-Haus, Haupteingang, Hofgartenstraße 28, 74196 Neuenstadt
END:VEVENT
BEGIN:VEVENT
DTSTAMP:20260421T203900
DTSTART;TZID=Europe/Berlin:20260325T105000
DTEND;TZID=Europe/Berlin:20260325T115000
UID:261NS30212-20260325T105000@VHSUNTERLAND
SUMMARY:Gymnastik im Sitzen  wahlweise auf dem Stuhl oder Pezziball (261NS30212) 
LOCATION:ns VHS-Haus, Haupteingang, Hofgartenstraße 28, 74196 Neuenstadt
END:VEVENT
BEGIN:VEVENT
DTSTAMP:20260421T203900
DTSTART;TZID=Europe/Berlin:20260415T105000
DTEND;TZID=Europe/Berlin:20260415T115000
UID:261NS30212-20260415T105000@VHSUNTERLAND
SUMMARY:Gymnastik im Sitzen  wahlweise auf dem Stuhl oder Pezziball (261NS30212) 
LOCATION:ns VHS-Haus, Haupteingang, Hofgartenstraße 28, 74196 Neuenstadt
END:VEVENT
BEGIN:VEVENT
DTSTAMP:20260421T203900
DTSTART;TZID=Europe/Berlin:20260422T105000
DTEND;TZID=Europe/Berlin:20260422T115000
UID:261NS30212-20260422T105000@VHSUNTERLAND
SUMMARY:Gymnastik im Sitzen  wahlweise auf dem Stuhl oder Pezziball (261NS30212) 
LOCATION:ns VHS-Haus, Haupteingang, Hofgartenstraße 28, 74196 Neuenstadt
END:VEVENT
BEGIN:VEVENT
DTSTAMP:20260421T203900
DTSTART;TZID=Europe/Berlin:20260429T105000
DTEND;TZID=Europe/Berlin:20260429T115000
UID:261NS30212-20260429T105000@VHSUNTERLAND
SUMMARY:Gymnastik im Sitzen  wahlweise auf dem Stuhl oder Pezziball (261NS30212) 
LOCATION:ns VHS-Haus, Haupteingang, Hofgartenstraße 28, 74196 Neuenstadt
END:VEVENT
BEGIN:VEVENT
DTSTAMP:20260421T203900
DTSTART;TZID=Europe/Berlin:20260506T105000
DTEND;TZID=Europe/Berlin:20260506T115000
UID:261NS30212-20260506T105000@VHSUNTERLAND
SUMMARY:Gymnastik im Sitzen  wahlweise auf dem Stuhl oder Pezziball (261NS30212) 
LOCATION:ns VHS-Haus, Haupteingang, Hofgartenstraße 28, 74196 Neuenstadt
END:VEVENT
BEGIN:VEVENT
DTSTAMP:20260421T203900
DTSTART;TZID=Europe/Berlin:20260513T105000
DTEND;TZID=Europe/Berlin:20260513T115000
UID:261NS30212-20260513T105000@VHSUNTERLAND
SUMMARY:Gymnastik im Sitzen  wahlweise auf dem Stuhl oder Pezziball (261NS30212) 
LOCATION:ns VHS-Haus, Haupteingang, Hofgartenstraße 28, 74196 Neuenstadt
END:VEVENT
END:VCALENDAR