BEGIN:VCALENDAR
VERSION:2.0
PRODID:http://www.kufer.de/kuferweb / DE
METHOD:PUBLISH
CALSCALE:GREGORIAN
X-WR-TIMEZONE:Europe/Berlin
BEGIN:VTIMEZONE
TZID:Europe/Berlin
X-LIC-LOCATION:Europe/Berlin
BEGIN:DAYLIGHT
TZOFFSETFROM:+0100
TZOFFSETTO:+0200
TZNAME:CEST
DTSTART;TZID=Europe/Berlin:19700329T020000
RRULE:FREQ=YEARLY;INTERVAL=1;BYDAY=-1SU;BYMONTH=3
END:DAYLIGHT
BEGIN:STANDARD
TZOFFSETFROM:+0200
TZOFFSETTO:+0100
TZNAME:CET
DTSTART;TZID=Europe/Berlin:19701025T030000
RRULE:FREQ=YEARLY;INTERVAL=1;BYDAY=-1SU;BYMONTH=10
END:STANDARD
END:VTIMEZONE
BEGIN:VEVENT
DTSTAMP:20260423T132646
DTSTART;TZID=Europe/Berlin:20260223T164500
DTEND;TZID=Europe/Berlin:20260223T174500
UID:261NS30192-20260223T164500@VHSUNTERLAND
SUMMARY:Überraschungskurs für Grundschulkinder Mit Spaß und Bewegung die Konzentration fördern (261NS30192) 
LOCATION:ns VHS-Haus, Haupteingang, Hofgartenstraße 28, 74196 Neuenstadt
END:VEVENT
BEGIN:VEVENT
DTSTAMP:20260423T132646
DTSTART;TZID=Europe/Berlin:20260302T164500
DTEND;TZID=Europe/Berlin:20260302T174500
UID:261NS30192-20260302T164500@VHSUNTERLAND
SUMMARY:Überraschungskurs für Grundschulkinder Mit Spaß und Bewegung die Konzentration fördern (261NS30192) 
LOCATION:ns VHS-Haus, Haupteingang, Hofgartenstraße 28, 74196 Neuenstadt
END:VEVENT
BEGIN:VEVENT
DTSTAMP:20260423T132646
DTSTART;TZID=Europe/Berlin:20260309T164500
DTEND;TZID=Europe/Berlin:20260309T174500
UID:261NS30192-20260309T164500@VHSUNTERLAND
SUMMARY:Überraschungskurs für Grundschulkinder Mit Spaß und Bewegung die Konzentration fördern (261NS30192) 
LOCATION:ns VHS-Haus, Haupteingang, Hofgartenstraße 28, 74196 Neuenstadt
END:VEVENT
BEGIN:VEVENT
DTSTAMP:20260423T132646
DTSTART;TZID=Europe/Berlin:20260316T164500
DTEND;TZID=Europe/Berlin:20260316T174500
UID:261NS30192-20260316T164500@VHSUNTERLAND
SUMMARY:Überraschungskurs für Grundschulkinder Mit Spaß und Bewegung die Konzentration fördern (261NS30192) 
LOCATION:ns VHS-Haus, Haupteingang, Hofgartenstraße 28, 74196 Neuenstadt
END:VEVENT
BEGIN:VEVENT
DTSTAMP:20260423T132646
DTSTART;TZID=Europe/Berlin:20260323T164500
DTEND;TZID=Europe/Berlin:20260323T174500
UID:261NS30192-20260323T164500@VHSUNTERLAND
SUMMARY:Überraschungskurs für Grundschulkinder Mit Spaß und Bewegung die Konzentration fördern (261NS30192) 
LOCATION:ns VHS-Haus, Haupteingang, Hofgartenstraße 28, 74196 Neuenstadt
END:VEVENT
BEGIN:VEVENT
DTSTAMP:20260423T132646
DTSTART;TZID=Europe/Berlin:20260413T164500
DTEND;TZID=Europe/Berlin:20260413T174500
UID:261NS30192-20260413T164500@VHSUNTERLAND
SUMMARY:Überraschungskurs für Grundschulkinder Mit Spaß und Bewegung die Konzentration fördern (261NS30192) 
LOCATION:ns VHS-Haus, Haupteingang, Hofgartenstraße 28, 74196 Neuenstadt
END:VEVENT
BEGIN:VEVENT
DTSTAMP:20260423T132646
DTSTART;TZID=Europe/Berlin:20260420T164500
DTEND;TZID=Europe/Berlin:20260420T174500
UID:261NS30192-20260420T164500@VHSUNTERLAND
SUMMARY:Überraschungskurs für Grundschulkinder Mit Spaß und Bewegung die Konzentration fördern (261NS30192) 
LOCATION:ns VHS-Haus, Haupteingang, Hofgartenstraße 28, 74196 Neuenstadt
END:VEVENT
BEGIN:VEVENT
DTSTAMP:20260423T132646
DTSTART;TZID=Europe/Berlin:20260427T164500
DTEND;TZID=Europe/Berlin:20260427T174500
UID:261NS30192-20260427T164500@VHSUNTERLAND
SUMMARY:Überraschungskurs für Grundschulkinder Mit Spaß und Bewegung die Konzentration fördern (261NS30192) 
LOCATION:ns VHS-Haus, Haupteingang, Hofgartenstraße 28, 74196 Neuenstadt
END:VEVENT
END:VCALENDAR