BEGIN:VCALENDAR
VERSION:2.0
PRODID:http://www.kufer.de/kuferweb / DE
METHOD:PUBLISH
CALSCALE:GREGORIAN
X-WR-TIMEZONE:Europe/Berlin
BEGIN:VTIMEZONE
TZID:Europe/Berlin
X-LIC-LOCATION:Europe/Berlin
BEGIN:DAYLIGHT
TZOFFSETFROM:+0100
TZOFFSETTO:+0200
TZNAME:CEST
DTSTART;TZID=Europe/Berlin:19700329T020000
RRULE:FREQ=YEARLY;INTERVAL=1;BYDAY=-1SU;BYMONTH=3
END:DAYLIGHT
BEGIN:STANDARD
TZOFFSETFROM:+0200
TZOFFSETTO:+0100
TZNAME:CET
DTSTART;TZID=Europe/Berlin:19701025T030000
RRULE:FREQ=YEARLY;INTERVAL=1;BYDAY=-1SU;BYMONTH=10
END:STANDARD
END:VTIMEZONE
BEGIN:VEVENT
DTSTAMP:20260420T161156
DTSTART;TZID=Europe/Berlin:20260225T094000
DTEND;TZID=Europe/Berlin:20260225T104000
UID:261NS30135-20260225T094000@VHSUNTERLAND
SUMMARY:Hatha Yoga 50+ (261NS30135) 
LOCATION:ns VHS-Haus, Haupteingang, Hofgartenstraße 28, 74196 Neuenstadt
END:VEVENT
BEGIN:VEVENT
DTSTAMP:20260420T161156
DTSTART;TZID=Europe/Berlin:20260304T094000
DTEND;TZID=Europe/Berlin:20260304T104000
UID:261NS30135-20260304T094000@VHSUNTERLAND
SUMMARY:Hatha Yoga 50+ (261NS30135) 
LOCATION:ns VHS-Haus, Haupteingang, Hofgartenstraße 28, 74196 Neuenstadt
END:VEVENT
BEGIN:VEVENT
DTSTAMP:20260420T161156
DTSTART;TZID=Europe/Berlin:20260311T094000
DTEND;TZID=Europe/Berlin:20260311T104000
UID:261NS30135-20260311T094000@VHSUNTERLAND
SUMMARY:Hatha Yoga 50+ (261NS30135) 
LOCATION:ns VHS-Haus, Haupteingang, Hofgartenstraße 28, 74196 Neuenstadt
END:VEVENT
BEGIN:VEVENT
DTSTAMP:20260420T161156
DTSTART;TZID=Europe/Berlin:20260318T094000
DTEND;TZID=Europe/Berlin:20260318T104000
UID:261NS30135-20260318T094000@VHSUNTERLAND
SUMMARY:Hatha Yoga 50+ (261NS30135) 
LOCATION:ns VHS-Haus, Haupteingang, Hofgartenstraße 28, 74196 Neuenstadt
END:VEVENT
BEGIN:VEVENT
DTSTAMP:20260420T161156
DTSTART;TZID=Europe/Berlin:20260325T094000
DTEND;TZID=Europe/Berlin:20260325T104000
UID:261NS30135-20260325T094000@VHSUNTERLAND
SUMMARY:Hatha Yoga 50+ (261NS30135) 
LOCATION:ns VHS-Haus, Haupteingang, Hofgartenstraße 28, 74196 Neuenstadt
END:VEVENT
BEGIN:VEVENT
DTSTAMP:20260420T161156
DTSTART;TZID=Europe/Berlin:20260415T094000
DTEND;TZID=Europe/Berlin:20260415T104000
UID:261NS30135-20260415T094000@VHSUNTERLAND
SUMMARY:Hatha Yoga 50+ (261NS30135) 
LOCATION:ns VHS-Haus, Haupteingang, Hofgartenstraße 28, 74196 Neuenstadt
END:VEVENT
BEGIN:VEVENT
DTSTAMP:20260420T161156
DTSTART;TZID=Europe/Berlin:20260422T094000
DTEND;TZID=Europe/Berlin:20260422T104000
UID:261NS30135-20260422T094000@VHSUNTERLAND
SUMMARY:Hatha Yoga 50+ (261NS30135) 
LOCATION:ns VHS-Haus, Haupteingang, Hofgartenstraße 28, 74196 Neuenstadt
END:VEVENT
BEGIN:VEVENT
DTSTAMP:20260420T161156
DTSTART;TZID=Europe/Berlin:20260429T094000
DTEND;TZID=Europe/Berlin:20260429T104000
UID:261NS30135-20260429T094000@VHSUNTERLAND
SUMMARY:Hatha Yoga 50+ (261NS30135) 
LOCATION:ns VHS-Haus, Haupteingang, Hofgartenstraße 28, 74196 Neuenstadt
END:VEVENT
BEGIN:VEVENT
DTSTAMP:20260420T161156
DTSTART;TZID=Europe/Berlin:20260506T094000
DTEND;TZID=Europe/Berlin:20260506T104000
UID:261NS30135-20260506T094000@VHSUNTERLAND
SUMMARY:Hatha Yoga 50+ (261NS30135) 
LOCATION:ns VHS-Haus, Haupteingang, Hofgartenstraße 28, 74196 Neuenstadt
END:VEVENT
BEGIN:VEVENT
DTSTAMP:20260420T161156
DTSTART;TZID=Europe/Berlin:20260513T094000
DTEND;TZID=Europe/Berlin:20260513T104000
UID:261NS30135-20260513T094000@VHSUNTERLAND
SUMMARY:Hatha Yoga 50+ (261NS30135) 
LOCATION:ns VHS-Haus, Haupteingang, Hofgartenstraße 28, 74196 Neuenstadt
END:VEVENT
BEGIN:VEVENT
DTSTAMP:20260420T161156
DTSTART;TZID=Europe/Berlin:20260520T094000
DTEND;TZID=Europe/Berlin:20260520T104000
UID:261NS30135-20260520T094000@VHSUNTERLAND
SUMMARY:Hatha Yoga 50+ (261NS30135) 
LOCATION:ns VHS-Haus, Haupteingang, Hofgartenstraße 28, 74196 Neuenstadt
END:VEVENT
BEGIN:VEVENT
DTSTAMP:20260420T161156
DTSTART;TZID=Europe/Berlin:20260610T094000
DTEND;TZID=Europe/Berlin:20260610T104000
UID:261NS30135-20260610T094000@VHSUNTERLAND
SUMMARY:Hatha Yoga 50+ (261NS30135) 
LOCATION:ns VHS-Haus, Haupteingang, Hofgartenstraße 28, 74196 Neuenstadt
END:VEVENT
END:VCALENDAR