BEGIN:VCALENDAR
VERSION:2.0
PRODID:http://www.kufer.de/kuferweb / DE
METHOD:PUBLISH
CALSCALE:GREGORIAN
X-WR-TIMEZONE:Europe/Berlin
BEGIN:VTIMEZONE
TZID:Europe/Berlin
X-LIC-LOCATION:Europe/Berlin
BEGIN:DAYLIGHT
TZOFFSETFROM:+0100
TZOFFSETTO:+0200
TZNAME:CEST
DTSTART;TZID=Europe/Berlin:19700329T020000
RRULE:FREQ=YEARLY;INTERVAL=1;BYDAY=-1SU;BYMONTH=3
END:DAYLIGHT
BEGIN:STANDARD
TZOFFSETFROM:+0200
TZOFFSETTO:+0100
TZNAME:CET
DTSTART;TZID=Europe/Berlin:19701025T030000
RRULE:FREQ=YEARLY;INTERVAL=1;BYDAY=-1SU;BYMONTH=10
END:STANDARD
END:VTIMEZONE
BEGIN:VEVENT
DTSTAMP:20260423T110146
DTSTART;TZID=Europe/Berlin:20260306T090000
DTEND;TZID=Europe/Berlin:20260306T103000
UID:261NS30134-20260306T090000@VHSUNTERLAND
SUMMARY:Hatha Yoga (261NS30134) 
LOCATION:ns VHS-Haus, Haupteingang, Hofgartenstraße 28, 74196 Neuenstadt
END:VEVENT
BEGIN:VEVENT
DTSTAMP:20260423T110146
DTSTART;TZID=Europe/Berlin:20260313T090000
DTEND;TZID=Europe/Berlin:20260313T103000
UID:261NS30134-20260313T090000@VHSUNTERLAND
SUMMARY:Hatha Yoga (261NS30134) 
LOCATION:ns VHS-Haus, Haupteingang, Hofgartenstraße 28, 74196 Neuenstadt
END:VEVENT
BEGIN:VEVENT
DTSTAMP:20260423T110146
DTSTART;TZID=Europe/Berlin:20260320T090000
DTEND;TZID=Europe/Berlin:20260320T103000
UID:261NS30134-20260320T090000@VHSUNTERLAND
SUMMARY:Hatha Yoga (261NS30134) 
LOCATION:ns VHS-Haus, Haupteingang, Hofgartenstraße 28, 74196 Neuenstadt
END:VEVENT
BEGIN:VEVENT
DTSTAMP:20260423T110146
DTSTART;TZID=Europe/Berlin:20260417T090000
DTEND;TZID=Europe/Berlin:20260417T103000
UID:261NS30134-20260417T090000@VHSUNTERLAND
SUMMARY:Hatha Yoga (261NS30134) 
LOCATION:ns VHS-Haus, Haupteingang, Hofgartenstraße 28, 74196 Neuenstadt
END:VEVENT
BEGIN:VEVENT
DTSTAMP:20260423T110146
DTSTART;TZID=Europe/Berlin:20260424T090000
DTEND;TZID=Europe/Berlin:20260424T103000
UID:261NS30134-20260424T090000@VHSUNTERLAND
SUMMARY:Hatha Yoga (261NS30134) 
LOCATION:ns VHS-Haus, Haupteingang, Hofgartenstraße 28, 74196 Neuenstadt
END:VEVENT
BEGIN:VEVENT
DTSTAMP:20260423T110146
DTSTART;TZID=Europe/Berlin:20260508T090000
DTEND;TZID=Europe/Berlin:20260508T103000
UID:261NS30134-20260508T090000@VHSUNTERLAND
SUMMARY:Hatha Yoga (261NS30134) 
LOCATION:ns VHS-Haus, Haupteingang, Hofgartenstraße 28, 74196 Neuenstadt
END:VEVENT
BEGIN:VEVENT
DTSTAMP:20260423T110146
DTSTART;TZID=Europe/Berlin:20260515T090000
DTEND;TZID=Europe/Berlin:20260515T103000
UID:261NS30134-20260515T090000@VHSUNTERLAND
SUMMARY:Hatha Yoga (261NS30134) 
LOCATION:ns VHS-Haus, Haupteingang, Hofgartenstraße 28, 74196 Neuenstadt
END:VEVENT
BEGIN:VEVENT
DTSTAMP:20260423T110146
DTSTART;TZID=Europe/Berlin:20260522T090000
DTEND;TZID=Europe/Berlin:20260522T103000
UID:261NS30134-20260522T090000@VHSUNTERLAND
SUMMARY:Hatha Yoga (261NS30134) 
LOCATION:ns VHS-Haus, Haupteingang, Hofgartenstraße 28, 74196 Neuenstadt
END:VEVENT
BEGIN:VEVENT
DTSTAMP:20260423T110146
DTSTART;TZID=Europe/Berlin:20260612T090000
DTEND;TZID=Europe/Berlin:20260612T103000
UID:261NS30134-20260612T090000@VHSUNTERLAND
SUMMARY:Hatha Yoga (261NS30134) 
LOCATION:ns VHS-Haus, Haupteingang, Hofgartenstraße 28, 74196 Neuenstadt
END:VEVENT
BEGIN:VEVENT
DTSTAMP:20260423T110146
DTSTART;TZID=Europe/Berlin:20260619T090000
DTEND;TZID=Europe/Berlin:20260619T103000
UID:261NS30134-20260619T090000@VHSUNTERLAND
SUMMARY:Hatha Yoga (261NS30134) 
LOCATION:ns VHS-Haus, Haupteingang, Hofgartenstraße 28, 74196 Neuenstadt
END:VEVENT
BEGIN:VEVENT
DTSTAMP:20260423T110146
DTSTART;TZID=Europe/Berlin:20260626T090000
DTEND;TZID=Europe/Berlin:20260626T103000
UID:261NS30134-20260626T090000@VHSUNTERLAND
SUMMARY:Hatha Yoga (261NS30134) 
LOCATION:ns VHS-Haus, Haupteingang, Hofgartenstraße 28, 74196 Neuenstadt
END:VEVENT
BEGIN:VEVENT
DTSTAMP:20260423T110146
DTSTART;TZID=Europe/Berlin:20260703T090000
DTEND;TZID=Europe/Berlin:20260703T103000
UID:261NS30134-20260703T090000@VHSUNTERLAND
SUMMARY:Hatha Yoga (261NS30134) 
LOCATION:ns VHS-Haus, Haupteingang, Hofgartenstraße 28, 74196 Neuenstadt
END:VEVENT
BEGIN:VEVENT
DTSTAMP:20260423T110146
DTSTART;TZID=Europe/Berlin:20260710T090000
DTEND;TZID=Europe/Berlin:20260710T103000
UID:261NS30134-20260710T090000@VHSUNTERLAND
SUMMARY:Hatha Yoga (261NS30134) 
LOCATION:ns VHS-Haus, Haupteingang, Hofgartenstraße 28, 74196 Neuenstadt
END:VEVENT
BEGIN:VEVENT
DTSTAMP:20260423T110146
DTSTART;TZID=Europe/Berlin:20260717T090000
DTEND;TZID=Europe/Berlin:20260717T103000
UID:261NS30134-20260717T090000@VHSUNTERLAND
SUMMARY:Hatha Yoga (261NS30134) 
LOCATION:ns VHS-Haus, Haupteingang, Hofgartenstraße 28, 74196 Neuenstadt
END:VEVENT
END:VCALENDAR