BEGIN:VCALENDAR
VERSION:2.0
PRODID:http://www.kufer.de/kuferweb / DE
METHOD:PUBLISH
CALSCALE:GREGORIAN
X-WR-TIMEZONE:Europe/Berlin
BEGIN:VTIMEZONE
TZID:Europe/Berlin
X-LIC-LOCATION:Europe/Berlin
BEGIN:DAYLIGHT
TZOFFSETFROM:+0100
TZOFFSETTO:+0200
TZNAME:CEST
DTSTART;TZID=Europe/Berlin:19700329T020000
RRULE:FREQ=YEARLY;INTERVAL=1;BYDAY=-1SU;BYMONTH=3
END:DAYLIGHT
BEGIN:STANDARD
TZOFFSETFROM:+0200
TZOFFSETTO:+0100
TZNAME:CET
DTSTART;TZID=Europe/Berlin:19701025T030000
RRULE:FREQ=YEARLY;INTERVAL=1;BYDAY=-1SU;BYMONTH=10
END:STANDARD
END:VTIMEZONE
BEGIN:VEVENT
DTSTAMP:20260420T230713
DTSTART;TZID=Europe/Berlin:20260225T083000
DTEND;TZID=Europe/Berlin:20260225T093000
UID:261NS30133-20260225T083000@VHSUNTERLAND
SUMMARY:Hatha Yoga (261NS30133) 
LOCATION:ns VHS-Haus, Haupteingang, Hofgartenstraße 28, 74196 Neuenstadt
END:VEVENT
BEGIN:VEVENT
DTSTAMP:20260420T230713
DTSTART;TZID=Europe/Berlin:20260304T083000
DTEND;TZID=Europe/Berlin:20260304T093000
UID:261NS30133-20260304T083000@VHSUNTERLAND
SUMMARY:Hatha Yoga (261NS30133) 
LOCATION:ns VHS-Haus, Haupteingang, Hofgartenstraße 28, 74196 Neuenstadt
END:VEVENT
BEGIN:VEVENT
DTSTAMP:20260420T230713
DTSTART;TZID=Europe/Berlin:20260311T083000
DTEND;TZID=Europe/Berlin:20260311T093000
UID:261NS30133-20260311T083000@VHSUNTERLAND
SUMMARY:Hatha Yoga (261NS30133) 
LOCATION:ns VHS-Haus, Haupteingang, Hofgartenstraße 28, 74196 Neuenstadt
END:VEVENT
BEGIN:VEVENT
DTSTAMP:20260420T230713
DTSTART;TZID=Europe/Berlin:20260318T083000
DTEND;TZID=Europe/Berlin:20260318T093000
UID:261NS30133-20260318T083000@VHSUNTERLAND
SUMMARY:Hatha Yoga (261NS30133) 
LOCATION:ns VHS-Haus, Haupteingang, Hofgartenstraße 28, 74196 Neuenstadt
END:VEVENT
BEGIN:VEVENT
DTSTAMP:20260420T230713
DTSTART;TZID=Europe/Berlin:20260325T083000
DTEND;TZID=Europe/Berlin:20260325T093000
UID:261NS30133-20260325T083000@VHSUNTERLAND
SUMMARY:Hatha Yoga (261NS30133) 
LOCATION:ns VHS-Haus, Haupteingang, Hofgartenstraße 28, 74196 Neuenstadt
END:VEVENT
BEGIN:VEVENT
DTSTAMP:20260420T230713
DTSTART;TZID=Europe/Berlin:20260415T083000
DTEND;TZID=Europe/Berlin:20260415T093000
UID:261NS30133-20260415T083000@VHSUNTERLAND
SUMMARY:Hatha Yoga (261NS30133) 
LOCATION:ns VHS-Haus, Haupteingang, Hofgartenstraße 28, 74196 Neuenstadt
END:VEVENT
BEGIN:VEVENT
DTSTAMP:20260420T230713
DTSTART;TZID=Europe/Berlin:20260422T083000
DTEND;TZID=Europe/Berlin:20260422T093000
UID:261NS30133-20260422T083000@VHSUNTERLAND
SUMMARY:Hatha Yoga (261NS30133) 
LOCATION:ns VHS-Haus, Haupteingang, Hofgartenstraße 28, 74196 Neuenstadt
END:VEVENT
BEGIN:VEVENT
DTSTAMP:20260420T230713
DTSTART;TZID=Europe/Berlin:20260429T083000
DTEND;TZID=Europe/Berlin:20260429T093000
UID:261NS30133-20260429T083000@VHSUNTERLAND
SUMMARY:Hatha Yoga (261NS30133) 
LOCATION:ns VHS-Haus, Haupteingang, Hofgartenstraße 28, 74196 Neuenstadt
END:VEVENT
BEGIN:VEVENT
DTSTAMP:20260420T230713
DTSTART;TZID=Europe/Berlin:20260506T083000
DTEND;TZID=Europe/Berlin:20260506T093000
UID:261NS30133-20260506T083000@VHSUNTERLAND
SUMMARY:Hatha Yoga (261NS30133) 
LOCATION:ns VHS-Haus, Haupteingang, Hofgartenstraße 28, 74196 Neuenstadt
END:VEVENT
BEGIN:VEVENT
DTSTAMP:20260420T230713
DTSTART;TZID=Europe/Berlin:20260513T083000
DTEND;TZID=Europe/Berlin:20260513T093000
UID:261NS30133-20260513T083000@VHSUNTERLAND
SUMMARY:Hatha Yoga (261NS30133) 
LOCATION:ns VHS-Haus, Haupteingang, Hofgartenstraße 28, 74196 Neuenstadt
END:VEVENT
BEGIN:VEVENT
DTSTAMP:20260420T230713
DTSTART;TZID=Europe/Berlin:20260520T083000
DTEND;TZID=Europe/Berlin:20260520T093000
UID:261NS30133-20260520T083000@VHSUNTERLAND
SUMMARY:Hatha Yoga (261NS30133) 
LOCATION:ns VHS-Haus, Haupteingang, Hofgartenstraße 28, 74196 Neuenstadt
END:VEVENT
BEGIN:VEVENT
DTSTAMP:20260420T230713
DTSTART;TZID=Europe/Berlin:20260610T083000
DTEND;TZID=Europe/Berlin:20260610T093000
UID:261NS30133-20260610T083000@VHSUNTERLAND
SUMMARY:Hatha Yoga (261NS30133) 
LOCATION:ns VHS-Haus, Haupteingang, Hofgartenstraße 28, 74196 Neuenstadt
END:VEVENT
END:VCALENDAR