BEGIN:VCALENDAR
VERSION:2.0
PRODID:http://www.kufer.de/kuferweb / DE
METHOD:PUBLISH
CALSCALE:GREGORIAN
X-WR-TIMEZONE:Europe/Berlin
BEGIN:VTIMEZONE
TZID:Europe/Berlin
X-LIC-LOCATION:Europe/Berlin
BEGIN:DAYLIGHT
TZOFFSETFROM:+0100
TZOFFSETTO:+0200
TZNAME:CEST
DTSTART;TZID=Europe/Berlin:19700329T020000
RRULE:FREQ=YEARLY;INTERVAL=1;BYDAY=-1SU;BYMONTH=3
END:DAYLIGHT
BEGIN:STANDARD
TZOFFSETFROM:+0200
TZOFFSETTO:+0100
TZNAME:CET
DTSTART;TZID=Europe/Berlin:19701025T030000
RRULE:FREQ=YEARLY;INTERVAL=1;BYDAY=-1SU;BYMONTH=10
END:STANDARD
END:VTIMEZONE
BEGIN:VEVENT
DTSTAMP:20260425T213032
DTSTART;TZID=Europe/Berlin:20260511T180000
DTEND;TZID=Europe/Berlin:20260511T190000
UID:261NS21320-20260511T180000@VHSUNTERLAND
SUMMARY:Gitarre - Liedbegleitung  Grundkurs für Kinder ab 8 Jahren (261NS21320) 
LOCATION:ns Helmbundschule, Raum 260, Gymnasiumstraße 16, 74196 Neuenstadt
END:VEVENT
BEGIN:VEVENT
DTSTAMP:20260425T213032
DTSTART;TZID=Europe/Berlin:20260518T180000
DTEND;TZID=Europe/Berlin:20260518T190000
UID:261NS21320-20260518T180000@VHSUNTERLAND
SUMMARY:Gitarre - Liedbegleitung  Grundkurs für Kinder ab 8 Jahren (261NS21320) 
LOCATION:ns Helmbundschule, Raum 260, Gymnasiumstraße 16, 74196 Neuenstadt
END:VEVENT
BEGIN:VEVENT
DTSTAMP:20260425T213032
DTSTART;TZID=Europe/Berlin:20260608T180000
DTEND;TZID=Europe/Berlin:20260608T190000
UID:261NS21320-20260608T180000@VHSUNTERLAND
SUMMARY:Gitarre - Liedbegleitung  Grundkurs für Kinder ab 8 Jahren (261NS21320) 
LOCATION:ns Helmbundschule, Raum 260, Gymnasiumstraße 16, 74196 Neuenstadt
END:VEVENT
BEGIN:VEVENT
DTSTAMP:20260425T213032
DTSTART;TZID=Europe/Berlin:20260615T180000
DTEND;TZID=Europe/Berlin:20260615T190000
UID:261NS21320-20260615T180000@VHSUNTERLAND
SUMMARY:Gitarre - Liedbegleitung  Grundkurs für Kinder ab 8 Jahren (261NS21320) 
LOCATION:ns Helmbundschule, Raum 260, Gymnasiumstraße 16, 74196 Neuenstadt
END:VEVENT
BEGIN:VEVENT
DTSTAMP:20260425T213032
DTSTART;TZID=Europe/Berlin:20260622T180000
DTEND;TZID=Europe/Berlin:20260622T190000
UID:261NS21320-20260622T180000@VHSUNTERLAND
SUMMARY:Gitarre - Liedbegleitung  Grundkurs für Kinder ab 8 Jahren (261NS21320) 
LOCATION:ns Helmbundschule, Raum 260, Gymnasiumstraße 16, 74196 Neuenstadt
END:VEVENT
BEGIN:VEVENT
DTSTAMP:20260425T213032
DTSTART;TZID=Europe/Berlin:20260629T180000
DTEND;TZID=Europe/Berlin:20260629T190000
UID:261NS21320-20260629T180000@VHSUNTERLAND
SUMMARY:Gitarre - Liedbegleitung  Grundkurs für Kinder ab 8 Jahren (261NS21320) 
LOCATION:ns Helmbundschule, Raum 260, Gymnasiumstraße 16, 74196 Neuenstadt
END:VEVENT
BEGIN:VEVENT
DTSTAMP:20260425T213032
DTSTART;TZID=Europe/Berlin:20260706T180000
DTEND;TZID=Europe/Berlin:20260706T190000
UID:261NS21320-20260706T180000@VHSUNTERLAND
SUMMARY:Gitarre - Liedbegleitung  Grundkurs für Kinder ab 8 Jahren (261NS21320) 
LOCATION:ns Helmbundschule, Raum 260, Gymnasiumstraße 16, 74196 Neuenstadt
END:VEVENT
BEGIN:VEVENT
DTSTAMP:20260425T213032
DTSTART;TZID=Europe/Berlin:20260713T180000
DTEND;TZID=Europe/Berlin:20260713T190000
UID:261NS21320-20260713T180000@VHSUNTERLAND
SUMMARY:Gitarre - Liedbegleitung  Grundkurs für Kinder ab 8 Jahren (261NS21320) 
LOCATION:ns Helmbundschule, Raum 260, Gymnasiumstraße 16, 74196 Neuenstadt
END:VEVENT
BEGIN:VEVENT
DTSTAMP:20260425T213032
DTSTART;TZID=Europe/Berlin:20260720T180000
DTEND;TZID=Europe/Berlin:20260720T190000
UID:261NS21320-20260720T180000@VHSUNTERLAND
SUMMARY:Gitarre - Liedbegleitung  Grundkurs für Kinder ab 8 Jahren (261NS21320) 
LOCATION:ns Helmbundschule, Raum 260, Gymnasiumstraße 16, 74196 Neuenstadt
END:VEVENT
BEGIN:VEVENT
DTSTAMP:20260425T213032
DTSTART;TZID=Europe/Berlin:20260727T180000
DTEND;TZID=Europe/Berlin:20260727T190000
UID:261NS21320-20260727T180000@VHSUNTERLAND
SUMMARY:Gitarre - Liedbegleitung  Grundkurs für Kinder ab 8 Jahren (261NS21320) 
LOCATION:ns Helmbundschule, Raum 260, Gymnasiumstraße 16, 74196 Neuenstadt
END:VEVENT
END:VCALENDAR