BEGIN:VCALENDAR
VERSION:2.0
PRODID:http://www.kufer.de/kuferweb / DE
METHOD:PUBLISH
CALSCALE:GREGORIAN
X-WR-TIMEZONE:Europe/Berlin
BEGIN:VTIMEZONE
TZID:Europe/Berlin
X-LIC-LOCATION:Europe/Berlin
BEGIN:DAYLIGHT
TZOFFSETFROM:+0100
TZOFFSETTO:+0200
TZNAME:CEST
DTSTART;TZID=Europe/Berlin:19700329T020000
RRULE:FREQ=YEARLY;INTERVAL=1;BYDAY=-1SU;BYMONTH=3
END:DAYLIGHT
BEGIN:STANDARD
TZOFFSETFROM:+0200
TZOFFSETTO:+0100
TZNAME:CET
DTSTART;TZID=Europe/Berlin:19701025T030000
RRULE:FREQ=YEARLY;INTERVAL=1;BYDAY=-1SU;BYMONTH=10
END:STANDARD
END:VTIMEZONE
BEGIN:VEVENT
DTSTAMP:20260422T140158
DTSTART;TZID=Europe/Berlin:20260414T180000
DTEND;TZID=Europe/Berlin:20260414T190000
UID:261NS20570-20260414T180000@VHSUNTERLAND
SUMMARY:Hip-Hop Moves für Kids für Kinder ab 8 Jahren (261NS20570) 
LOCATION:ns Kursraum Öhringer Straße 24, , 74196 Neuenstadt
END:VEVENT
BEGIN:VEVENT
DTSTAMP:20260422T140158
DTSTART;TZID=Europe/Berlin:20260421T180000
DTEND;TZID=Europe/Berlin:20260421T190000
UID:261NS20570-20260421T180000@VHSUNTERLAND
SUMMARY:Hip-Hop Moves für Kids für Kinder ab 8 Jahren (261NS20570) 
LOCATION:ns Kursraum Öhringer Straße 24, , 74196 Neuenstadt
END:VEVENT
BEGIN:VEVENT
DTSTAMP:20260422T140158
DTSTART;TZID=Europe/Berlin:20260428T180000
DTEND;TZID=Europe/Berlin:20260428T190000
UID:261NS20570-20260428T180000@VHSUNTERLAND
SUMMARY:Hip-Hop Moves für Kids für Kinder ab 8 Jahren (261NS20570) 
LOCATION:ns Kursraum Öhringer Straße 24, , 74196 Neuenstadt
END:VEVENT
BEGIN:VEVENT
DTSTAMP:20260422T140158
DTSTART;TZID=Europe/Berlin:20260505T180000
DTEND;TZID=Europe/Berlin:20260505T190000
UID:261NS20570-20260505T180000@VHSUNTERLAND
SUMMARY:Hip-Hop Moves für Kids für Kinder ab 8 Jahren (261NS20570) 
LOCATION:ns Kursraum Öhringer Straße 24, , 74196 Neuenstadt
END:VEVENT
BEGIN:VEVENT
DTSTAMP:20260422T140158
DTSTART;TZID=Europe/Berlin:20260512T180000
DTEND;TZID=Europe/Berlin:20260512T190000
UID:261NS20570-20260512T180000@VHSUNTERLAND
SUMMARY:Hip-Hop Moves für Kids für Kinder ab 8 Jahren (261NS20570) 
LOCATION:ns Kursraum Öhringer Straße 24, , 74196 Neuenstadt
END:VEVENT
BEGIN:VEVENT
DTSTAMP:20260422T140158
DTSTART;TZID=Europe/Berlin:20260519T180000
DTEND;TZID=Europe/Berlin:20260519T190000
UID:261NS20570-20260519T180000@VHSUNTERLAND
SUMMARY:Hip-Hop Moves für Kids für Kinder ab 8 Jahren (261NS20570) 
LOCATION:ns Kursraum Öhringer Straße 24, , 74196 Neuenstadt
END:VEVENT
END:VCALENDAR