BEGIN:VCALENDAR
VERSION:2.0
PRODID:http://www.kufer.de/kuferweb / DE
METHOD:PUBLISH
CALSCALE:GREGORIAN
X-WR-TIMEZONE:Europe/Berlin
BEGIN:VTIMEZONE
TZID:Europe/Berlin
X-LIC-LOCATION:Europe/Berlin
BEGIN:DAYLIGHT
TZOFFSETFROM:+0100
TZOFFSETTO:+0200
TZNAME:CEST
DTSTART;TZID=Europe/Berlin:19700329T020000
RRULE:FREQ=YEARLY;INTERVAL=1;BYDAY=-1SU;BYMONTH=3
END:DAYLIGHT
BEGIN:STANDARD
TZOFFSETFROM:+0200
TZOFFSETTO:+0100
TZNAME:CET
DTSTART;TZID=Europe/Berlin:19701025T030000
RRULE:FREQ=YEARLY;INTERVAL=1;BYDAY=-1SU;BYMONTH=10
END:STANDARD
END:VTIMEZONE
BEGIN:VEVENT
DTSTAMP:20260423T094924
DTSTART;TZID=Europe/Berlin:20260302T183000
DTEND;TZID=Europe/Berlin:20260302T200000
UID:261NH42208-20260302T183000@VHSUNTERLAND
SUMMARY:Spanisch A1.1  für Anfänger*innen ohne Vorkenntnisse (261NH42208) 
LOCATION:nh Kurt-von-Marval-Schule, Gebäude A, 1. OG, Lauffener Straße 34, 74226 Nordheim
END:VEVENT
BEGIN:VEVENT
DTSTAMP:20260423T094924
DTSTART;TZID=Europe/Berlin:20260309T183000
DTEND;TZID=Europe/Berlin:20260309T200000
UID:261NH42208-20260309T183000@VHSUNTERLAND
SUMMARY:Spanisch A1.1  für Anfänger*innen ohne Vorkenntnisse (261NH42208) 
LOCATION:nh Kurt-von-Marval-Schule, Gebäude A, 1. OG, Lauffener Straße 34, 74226 Nordheim
END:VEVENT
BEGIN:VEVENT
DTSTAMP:20260423T094924
DTSTART;TZID=Europe/Berlin:20260316T183000
DTEND;TZID=Europe/Berlin:20260316T200000
UID:261NH42208-20260316T183000@VHSUNTERLAND
SUMMARY:Spanisch A1.1  für Anfänger*innen ohne Vorkenntnisse (261NH42208) 
LOCATION:nh Kurt-von-Marval-Schule, Gebäude A, 1. OG, Lauffener Straße 34, 74226 Nordheim
END:VEVENT
BEGIN:VEVENT
DTSTAMP:20260423T094924
DTSTART;TZID=Europe/Berlin:20260323T183000
DTEND;TZID=Europe/Berlin:20260323T200000
UID:261NH42208-20260323T183000@VHSUNTERLAND
SUMMARY:Spanisch A1.1  für Anfänger*innen ohne Vorkenntnisse (261NH42208) 
LOCATION:nh Kurt-von-Marval-Schule, Gebäude A, 1. OG, Lauffener Straße 34, 74226 Nordheim
END:VEVENT
BEGIN:VEVENT
DTSTAMP:20260423T094924
DTSTART;TZID=Europe/Berlin:20260413T183000
DTEND;TZID=Europe/Berlin:20260413T200000
UID:261NH42208-20260413T183000@VHSUNTERLAND
SUMMARY:Spanisch A1.1  für Anfänger*innen ohne Vorkenntnisse (261NH42208) 
LOCATION:nh Kurt-von-Marval-Schule, Gebäude A, 1. OG, Lauffener Straße 34, 74226 Nordheim
END:VEVENT
BEGIN:VEVENT
DTSTAMP:20260423T094924
DTSTART;TZID=Europe/Berlin:20260420T183000
DTEND;TZID=Europe/Berlin:20260420T200000
UID:261NH42208-20260420T183000@VHSUNTERLAND
SUMMARY:Spanisch A1.1  für Anfänger*innen ohne Vorkenntnisse (261NH42208) 
LOCATION:nh Kurt-von-Marval-Schule, Gebäude A, 1. OG, Lauffener Straße 34, 74226 Nordheim
END:VEVENT
BEGIN:VEVENT
DTSTAMP:20260423T094924
DTSTART;TZID=Europe/Berlin:20260427T183000
DTEND;TZID=Europe/Berlin:20260427T200000
UID:261NH42208-20260427T183000@VHSUNTERLAND
SUMMARY:Spanisch A1.1  für Anfänger*innen ohne Vorkenntnisse (261NH42208) 
LOCATION:nh Kurt-von-Marval-Schule, Gebäude A, 1. OG, Lauffener Straße 34, 74226 Nordheim
END:VEVENT
BEGIN:VEVENT
DTSTAMP:20260423T094924
DTSTART;TZID=Europe/Berlin:20260504T183000
DTEND;TZID=Europe/Berlin:20260504T200000
UID:261NH42208-20260504T183000@VHSUNTERLAND
SUMMARY:Spanisch A1.1  für Anfänger*innen ohne Vorkenntnisse (261NH42208) 
LOCATION:nh Kurt-von-Marval-Schule, Gebäude A, 1. OG, Lauffener Straße 34, 74226 Nordheim
END:VEVENT
BEGIN:VEVENT
DTSTAMP:20260423T094924
DTSTART;TZID=Europe/Berlin:20260511T183000
DTEND;TZID=Europe/Berlin:20260511T200000
UID:261NH42208-20260511T183000@VHSUNTERLAND
SUMMARY:Spanisch A1.1  für Anfänger*innen ohne Vorkenntnisse (261NH42208) 
LOCATION:nh Kurt-von-Marval-Schule, Gebäude A, 1. OG, Lauffener Straße 34, 74226 Nordheim
END:VEVENT
BEGIN:VEVENT
DTSTAMP:20260423T094924
DTSTART;TZID=Europe/Berlin:20260518T183000
DTEND;TZID=Europe/Berlin:20260518T200000
UID:261NH42208-20260518T183000@VHSUNTERLAND
SUMMARY:Spanisch A1.1  für Anfänger*innen ohne Vorkenntnisse (261NH42208) 
LOCATION:nh Kurt-von-Marval-Schule, Gebäude A, 1. OG, Lauffener Straße 34, 74226 Nordheim
END:VEVENT
BEGIN:VEVENT
DTSTAMP:20260423T094924
DTSTART;TZID=Europe/Berlin:20260608T183000
DTEND;TZID=Europe/Berlin:20260608T200000
UID:261NH42208-20260608T183000@VHSUNTERLAND
SUMMARY:Spanisch A1.1  für Anfänger*innen ohne Vorkenntnisse (261NH42208) 
LOCATION:nh Kurt-von-Marval-Schule, Gebäude A, 1. OG, Lauffener Straße 34, 74226 Nordheim
END:VEVENT
BEGIN:VEVENT
DTSTAMP:20260423T094924
DTSTART;TZID=Europe/Berlin:20260615T183000
DTEND;TZID=Europe/Berlin:20260615T200000
UID:261NH42208-20260615T183000@VHSUNTERLAND
SUMMARY:Spanisch A1.1  für Anfänger*innen ohne Vorkenntnisse (261NH42208) 
LOCATION:nh Kurt-von-Marval-Schule, Gebäude A, 1. OG, Lauffener Straße 34, 74226 Nordheim
END:VEVENT
BEGIN:VEVENT
DTSTAMP:20260423T094924
DTSTART;TZID=Europe/Berlin:20260622T183000
DTEND;TZID=Europe/Berlin:20260622T200000
UID:261NH42208-20260622T183000@VHSUNTERLAND
SUMMARY:Spanisch A1.1  für Anfänger*innen ohne Vorkenntnisse (261NH42208) 
LOCATION:nh Kurt-von-Marval-Schule, Gebäude A, 1. OG, Lauffener Straße 34, 74226 Nordheim
END:VEVENT
BEGIN:VEVENT
DTSTAMP:20260423T094924
DTSTART;TZID=Europe/Berlin:20260629T183000
DTEND;TZID=Europe/Berlin:20260629T200000
UID:261NH42208-20260629T183000@VHSUNTERLAND
SUMMARY:Spanisch A1.1  für Anfänger*innen ohne Vorkenntnisse (261NH42208) 
LOCATION:nh Kurt-von-Marval-Schule, Gebäude A, 1. OG, Lauffener Straße 34, 74226 Nordheim
END:VEVENT
END:VCALENDAR