BEGIN:VCALENDAR
VERSION:2.0
PRODID:http://www.kufer.de/kuferweb / DE
METHOD:PUBLISH
CALSCALE:GREGORIAN
X-WR-TIMEZONE:Europe/Berlin
BEGIN:VTIMEZONE
TZID:Europe/Berlin
X-LIC-LOCATION:Europe/Berlin
BEGIN:DAYLIGHT
TZOFFSETFROM:+0100
TZOFFSETTO:+0200
TZNAME:CEST
DTSTART;TZID=Europe/Berlin:19700329T020000
RRULE:FREQ=YEARLY;INTERVAL=1;BYDAY=-1SU;BYMONTH=3
END:DAYLIGHT
BEGIN:STANDARD
TZOFFSETFROM:+0200
TZOFFSETTO:+0100
TZNAME:CET
DTSTART;TZID=Europe/Berlin:19701025T030000
RRULE:FREQ=YEARLY;INTERVAL=1;BYDAY=-1SU;BYMONTH=10
END:STANDARD
END:VTIMEZONE
BEGIN:VEVENT
DTSTAMP:20260419T180753
DTSTART;TZID=Europe/Berlin:20260316T193500
DTEND;TZID=Europe/Berlin:20260316T210500
UID:261NH40603-20260316T193500@VHSUNTERLAND
SUMMARY:Englisch Starter A1.1 für Anfänger*innen mit geringen Vorkenntnissen (261NH40603) 
LOCATION:nh Kurt-von-Marval-Schule, Gebäude A, 1. OG, Lauffener Straße 34, 74226 Nordheim
END:VEVENT
BEGIN:VEVENT
DTSTAMP:20260419T180753
DTSTART;TZID=Europe/Berlin:20260323T193500
DTEND;TZID=Europe/Berlin:20260323T210500
UID:261NH40603-20260323T193500@VHSUNTERLAND
SUMMARY:Englisch Starter A1.1 für Anfänger*innen mit geringen Vorkenntnissen (261NH40603) 
LOCATION:nh Kurt-von-Marval-Schule, Gebäude A, 1. OG, Lauffener Straße 34, 74226 Nordheim
END:VEVENT
BEGIN:VEVENT
DTSTAMP:20260419T180753
DTSTART;TZID=Europe/Berlin:20260413T193500
DTEND;TZID=Europe/Berlin:20260413T210500
UID:261NH40603-20260413T193500@VHSUNTERLAND
SUMMARY:Englisch Starter A1.1 für Anfänger*innen mit geringen Vorkenntnissen (261NH40603) 
LOCATION:nh Kurt-von-Marval-Schule, Gebäude A, 1. OG, Lauffener Straße 34, 74226 Nordheim
END:VEVENT
BEGIN:VEVENT
DTSTAMP:20260419T180753
DTSTART;TZID=Europe/Berlin:20260420T193500
DTEND;TZID=Europe/Berlin:20260420T210500
UID:261NH40603-20260420T193500@VHSUNTERLAND
SUMMARY:Englisch Starter A1.1 für Anfänger*innen mit geringen Vorkenntnissen (261NH40603) 
LOCATION:nh Kurt-von-Marval-Schule, Gebäude A, 1. OG, Lauffener Straße 34, 74226 Nordheim
END:VEVENT
BEGIN:VEVENT
DTSTAMP:20260419T180753
DTSTART;TZID=Europe/Berlin:20260427T193500
DTEND;TZID=Europe/Berlin:20260427T210500
UID:261NH40603-20260427T193500@VHSUNTERLAND
SUMMARY:Englisch Starter A1.1 für Anfänger*innen mit geringen Vorkenntnissen (261NH40603) 
LOCATION:nh Kurt-von-Marval-Schule, Gebäude A, 1. OG, Lauffener Straße 34, 74226 Nordheim
END:VEVENT
BEGIN:VEVENT
DTSTAMP:20260419T180753
DTSTART;TZID=Europe/Berlin:20260504T193500
DTEND;TZID=Europe/Berlin:20260504T210500
UID:261NH40603-20260504T193500@VHSUNTERLAND
SUMMARY:Englisch Starter A1.1 für Anfänger*innen mit geringen Vorkenntnissen (261NH40603) 
LOCATION:nh Kurt-von-Marval-Schule, Gebäude A, 1. OG, Lauffener Straße 34, 74226 Nordheim
END:VEVENT
BEGIN:VEVENT
DTSTAMP:20260419T180753
DTSTART;TZID=Europe/Berlin:20260511T193500
DTEND;TZID=Europe/Berlin:20260511T210500
UID:261NH40603-20260511T193500@VHSUNTERLAND
SUMMARY:Englisch Starter A1.1 für Anfänger*innen mit geringen Vorkenntnissen (261NH40603) 
LOCATION:nh Kurt-von-Marval-Schule, Gebäude A, 1. OG, Lauffener Straße 34, 74226 Nordheim
END:VEVENT
BEGIN:VEVENT
DTSTAMP:20260419T180753
DTSTART;TZID=Europe/Berlin:20260518T193500
DTEND;TZID=Europe/Berlin:20260518T210500
UID:261NH40603-20260518T193500@VHSUNTERLAND
SUMMARY:Englisch Starter A1.1 für Anfänger*innen mit geringen Vorkenntnissen (261NH40603) 
LOCATION:nh Kurt-von-Marval-Schule, Gebäude A, 1. OG, Lauffener Straße 34, 74226 Nordheim
END:VEVENT
BEGIN:VEVENT
DTSTAMP:20260419T180753
DTSTART;TZID=Europe/Berlin:20260608T193500
DTEND;TZID=Europe/Berlin:20260608T210500
UID:261NH40603-20260608T193500@VHSUNTERLAND
SUMMARY:Englisch Starter A1.1 für Anfänger*innen mit geringen Vorkenntnissen (261NH40603) 
LOCATION:nh Kurt-von-Marval-Schule, Gebäude A, 1. OG, Lauffener Straße 34, 74226 Nordheim
END:VEVENT
END:VCALENDAR