BEGIN:VCALENDAR
VERSION:2.0
PRODID:http://www.kufer.de/kuferweb / DE
METHOD:PUBLISH
CALSCALE:GREGORIAN
X-WR-TIMEZONE:Europe/Berlin
BEGIN:VTIMEZONE
TZID:Europe/Berlin
X-LIC-LOCATION:Europe/Berlin
BEGIN:DAYLIGHT
TZOFFSETFROM:+0100
TZOFFSETTO:+0200
TZNAME:CEST
DTSTART;TZID=Europe/Berlin:19700329T020000
RRULE:FREQ=YEARLY;INTERVAL=1;BYDAY=-1SU;BYMONTH=3
END:DAYLIGHT
BEGIN:STANDARD
TZOFFSETFROM:+0200
TZOFFSETTO:+0100
TZNAME:CET
DTSTART;TZID=Europe/Berlin:19701025T030000
RRULE:FREQ=YEARLY;INTERVAL=1;BYDAY=-1SU;BYMONTH=10
END:STANDARD
END:VTIMEZONE
BEGIN:VEVENT
DTSTAMP:20260421T215805
DTSTART;TZID=Europe/Berlin:20260420T183000
DTEND;TZID=Europe/Berlin:20260420T193000
UID:261NH30177-20260420T183000@VHSUNTERLAND
SUMMARY:Klangschalenmeditation  Entspannung und Tiefenentspannung erleben (261NH30177) 
LOCATION:nh Gemeindezentrum Alter Bauhof, Raum 1, 1. Stock, Hauptstraße 24/1, 74226 Nordheim
END:VEVENT
BEGIN:VEVENT
DTSTAMP:20260421T215805
DTSTART;TZID=Europe/Berlin:20260427T183000
DTEND;TZID=Europe/Berlin:20260427T193000
UID:261NH30177-20260427T183000@VHSUNTERLAND
SUMMARY:Klangschalenmeditation  Entspannung und Tiefenentspannung erleben (261NH30177) 
LOCATION:nh Gemeindezentrum Alter Bauhof, Raum 1, 1. Stock, Hauptstraße 24/1, 74226 Nordheim
END:VEVENT
BEGIN:VEVENT
DTSTAMP:20260421T215805
DTSTART;TZID=Europe/Berlin:20260504T183000
DTEND;TZID=Europe/Berlin:20260504T193000
UID:261NH30177-20260504T183000@VHSUNTERLAND
SUMMARY:Klangschalenmeditation  Entspannung und Tiefenentspannung erleben (261NH30177) 
LOCATION:nh Gemeindezentrum Alter Bauhof, Raum 1, 1. Stock, Hauptstraße 24/1, 74226 Nordheim
END:VEVENT
END:VCALENDAR