BEGIN:VCALENDAR
VERSION:2.0
PRODID:http://www.kufer.de/kuferweb / DE
METHOD:PUBLISH
CALSCALE:GREGORIAN
X-WR-TIMEZONE:Europe/Berlin
BEGIN:VTIMEZONE
TZID:Europe/Berlin
X-LIC-LOCATION:Europe/Berlin
BEGIN:DAYLIGHT
TZOFFSETFROM:+0100
TZOFFSETTO:+0200
TZNAME:CEST
DTSTART;TZID=Europe/Berlin:19700329T020000
RRULE:FREQ=YEARLY;INTERVAL=1;BYDAY=-1SU;BYMONTH=3
END:DAYLIGHT
BEGIN:STANDARD
TZOFFSETFROM:+0200
TZOFFSETTO:+0100
TZNAME:CET
DTSTART;TZID=Europe/Berlin:19701025T030000
RRULE:FREQ=YEARLY;INTERVAL=1;BYDAY=-1SU;BYMONTH=10
END:STANDARD
END:VTIMEZONE
BEGIN:VEVENT
DTSTAMP:20260421T144116
DTSTART;TZID=Europe/Berlin:20260227T084500
DTEND;TZID=Europe/Berlin:20260227T094500
UID:261NH30112-20260227T084500@VHSUNTERLAND
SUMMARY:Pilates (261NH30112) 
LOCATION:nh Festhalle, Lauffener Straße 32, 74226 Nordheim
END:VEVENT
BEGIN:VEVENT
DTSTAMP:20260421T144116
DTSTART;TZID=Europe/Berlin:20260306T084500
DTEND;TZID=Europe/Berlin:20260306T094500
UID:261NH30112-20260306T084500@VHSUNTERLAND
SUMMARY:Pilates (261NH30112) 
LOCATION:nh Festhalle, Lauffener Straße 32, 74226 Nordheim
END:VEVENT
BEGIN:VEVENT
DTSTAMP:20260421T144116
DTSTART;TZID=Europe/Berlin:20260313T084500
DTEND;TZID=Europe/Berlin:20260313T094500
UID:261NH30112-20260313T084500@VHSUNTERLAND
SUMMARY:Pilates (261NH30112) 
LOCATION:nh Festhalle, Lauffener Straße 32, 74226 Nordheim
END:VEVENT
BEGIN:VEVENT
DTSTAMP:20260421T144116
DTSTART;TZID=Europe/Berlin:20260320T084500
DTEND;TZID=Europe/Berlin:20260320T094500
UID:261NH30112-20260320T084500@VHSUNTERLAND
SUMMARY:Pilates (261NH30112) 
LOCATION:nh Festhalle, Lauffener Straße 32, 74226 Nordheim
END:VEVENT
BEGIN:VEVENT
DTSTAMP:20260421T144116
DTSTART;TZID=Europe/Berlin:20260327T084500
DTEND;TZID=Europe/Berlin:20260327T094500
UID:261NH30112-20260327T084500@VHSUNTERLAND
SUMMARY:Pilates (261NH30112) 
LOCATION:nh Festhalle, Lauffener Straße 32, 74226 Nordheim
END:VEVENT
BEGIN:VEVENT
DTSTAMP:20260421T144116
DTSTART;TZID=Europe/Berlin:20260417T084500
DTEND;TZID=Europe/Berlin:20260417T094500
UID:261NH30112-20260417T084500@VHSUNTERLAND
SUMMARY:Pilates (261NH30112) 
LOCATION:nh Festhalle, Lauffener Straße 32, 74226 Nordheim
END:VEVENT
BEGIN:VEVENT
DTSTAMP:20260421T144116
DTSTART;TZID=Europe/Berlin:20260424T084500
DTEND;TZID=Europe/Berlin:20260424T094500
UID:261NH30112-20260424T084500@VHSUNTERLAND
SUMMARY:Pilates (261NH30112) 
LOCATION:nh Festhalle, Lauffener Straße 32, 74226 Nordheim
END:VEVENT
BEGIN:VEVENT
DTSTAMP:20260421T144116
DTSTART;TZID=Europe/Berlin:20260508T084500
DTEND;TZID=Europe/Berlin:20260508T094500
UID:261NH30112-20260508T084500@VHSUNTERLAND
SUMMARY:Pilates (261NH30112) 
LOCATION:nh Festhalle, Lauffener Straße 32, 74226 Nordheim
END:VEVENT
BEGIN:VEVENT
DTSTAMP:20260421T144116
DTSTART;TZID=Europe/Berlin:20260515T084500
DTEND;TZID=Europe/Berlin:20260515T094500
UID:261NH30112-20260515T084500@VHSUNTERLAND
SUMMARY:Pilates (261NH30112) 
LOCATION:nh Festhalle, Lauffener Straße 32, 74226 Nordheim
END:VEVENT
BEGIN:VEVENT
DTSTAMP:20260421T144116
DTSTART;TZID=Europe/Berlin:20260522T084500
DTEND;TZID=Europe/Berlin:20260522T094500
UID:261NH30112-20260522T084500@VHSUNTERLAND
SUMMARY:Pilates (261NH30112) 
LOCATION:nh Festhalle, Lauffener Straße 32, 74226 Nordheim
END:VEVENT
BEGIN:VEVENT
DTSTAMP:20260421T144116
DTSTART;TZID=Europe/Berlin:20260612T084500
DTEND;TZID=Europe/Berlin:20260612T094500
UID:261NH30112-20260612T084500@VHSUNTERLAND
SUMMARY:Pilates (261NH30112) 
LOCATION:nh Festhalle, Lauffener Straße 32, 74226 Nordheim
END:VEVENT
BEGIN:VEVENT
DTSTAMP:20260421T144116
DTSTART;TZID=Europe/Berlin:20260619T084500
DTEND;TZID=Europe/Berlin:20260619T094500
UID:261NH30112-20260619T084500@VHSUNTERLAND
SUMMARY:Pilates (261NH30112) 
LOCATION:nh Festhalle, Lauffener Straße 32, 74226 Nordheim
END:VEVENT
BEGIN:VEVENT
DTSTAMP:20260421T144116
DTSTART;TZID=Europe/Berlin:20260626T084500
DTEND;TZID=Europe/Berlin:20260626T094500
UID:261NH30112-20260626T084500@VHSUNTERLAND
SUMMARY:Pilates (261NH30112) 
LOCATION:nh Festhalle, Lauffener Straße 32, 74226 Nordheim
END:VEVENT
BEGIN:VEVENT
DTSTAMP:20260421T144116
DTSTART;TZID=Europe/Berlin:20260703T084500
DTEND;TZID=Europe/Berlin:20260703T094500
UID:261NH30112-20260703T084500@VHSUNTERLAND
SUMMARY:Pilates (261NH30112) 
LOCATION:nh Festhalle, Lauffener Straße 32, 74226 Nordheim
END:VEVENT
BEGIN:VEVENT
DTSTAMP:20260421T144116
DTSTART;TZID=Europe/Berlin:20260710T084500
DTEND;TZID=Europe/Berlin:20260710T094500
UID:261NH30112-20260710T084500@VHSUNTERLAND
SUMMARY:Pilates (261NH30112) 
LOCATION:nh Festhalle, Lauffener Straße 32, 74226 Nordheim
END:VEVENT
END:VCALENDAR