BEGIN:VCALENDAR
VERSION:2.0
PRODID:http://www.kufer.de/kuferweb / DE
METHOD:PUBLISH
CALSCALE:GREGORIAN
X-WR-TIMEZONE:Europe/Berlin
BEGIN:VTIMEZONE
TZID:Europe/Berlin
X-LIC-LOCATION:Europe/Berlin
BEGIN:DAYLIGHT
TZOFFSETFROM:+0100
TZOFFSETTO:+0200
TZNAME:CEST
DTSTART;TZID=Europe/Berlin:19700329T020000
RRULE:FREQ=YEARLY;INTERVAL=1;BYDAY=-1SU;BYMONTH=3
END:DAYLIGHT
BEGIN:STANDARD
TZOFFSETFROM:+0200
TZOFFSETTO:+0100
TZNAME:CET
DTSTART;TZID=Europe/Berlin:19701025T030000
RRULE:FREQ=YEARLY;INTERVAL=1;BYDAY=-1SU;BYMONTH=10
END:STANDARD
END:VTIMEZONE
BEGIN:VEVENT
DTSTAMP:20260423T151825
DTSTART;TZID=Europe/Berlin:20260223T190000
DTEND;TZID=Europe/Berlin:20260223T200000
UID:261NH30110-20260223T190000@VHSUNTERLAND
SUMMARY:Pilates (261NH30110) 
LOCATION:nh Kindergarten Pusteblume, Vereinsraum, Südstraße 60, 74226 Nordheim
END:VEVENT
BEGIN:VEVENT
DTSTAMP:20260423T151825
DTSTART;TZID=Europe/Berlin:20260302T190000
DTEND;TZID=Europe/Berlin:20260302T200000
UID:261NH30110-20260302T190000@VHSUNTERLAND
SUMMARY:Pilates (261NH30110) 
LOCATION:nh Kindergarten Pusteblume, Vereinsraum, Südstraße 60, 74226 Nordheim
END:VEVENT
BEGIN:VEVENT
DTSTAMP:20260423T151825
DTSTART;TZID=Europe/Berlin:20260316T190000
DTEND;TZID=Europe/Berlin:20260316T200000
UID:261NH30110-20260316T190000@VHSUNTERLAND
SUMMARY:Pilates (261NH30110) 
LOCATION:nh Kindergarten Pusteblume, Vereinsraum, Südstraße 60, 74226 Nordheim
END:VEVENT
BEGIN:VEVENT
DTSTAMP:20260423T151825
DTSTART;TZID=Europe/Berlin:20260323T190000
DTEND;TZID=Europe/Berlin:20260323T200000
UID:261NH30110-20260323T190000@VHSUNTERLAND
SUMMARY:Pilates (261NH30110) 
LOCATION:nh Kindergarten Pusteblume, Vereinsraum, Südstraße 60, 74226 Nordheim
END:VEVENT
BEGIN:VEVENT
DTSTAMP:20260423T151825
DTSTART;TZID=Europe/Berlin:20260413T190000
DTEND;TZID=Europe/Berlin:20260413T200000
UID:261NH30110-20260413T190000@VHSUNTERLAND
SUMMARY:Pilates (261NH30110) 
LOCATION:nh Kindergarten Pusteblume, Vereinsraum, Südstraße 60, 74226 Nordheim
END:VEVENT
BEGIN:VEVENT
DTSTAMP:20260423T151825
DTSTART;TZID=Europe/Berlin:20260420T190000
DTEND;TZID=Europe/Berlin:20260420T200000
UID:261NH30110-20260420T190000@VHSUNTERLAND
SUMMARY:Pilates (261NH30110) 
LOCATION:nh Kindergarten Pusteblume, Vereinsraum, Südstraße 60, 74226 Nordheim
END:VEVENT
BEGIN:VEVENT
DTSTAMP:20260423T151825
DTSTART;TZID=Europe/Berlin:20260427T190000
DTEND;TZID=Europe/Berlin:20260427T200000
UID:261NH30110-20260427T190000@VHSUNTERLAND
SUMMARY:Pilates (261NH30110) 
LOCATION:nh Kindergarten Pusteblume, Vereinsraum, Südstraße 60, 74226 Nordheim
END:VEVENT
BEGIN:VEVENT
DTSTAMP:20260423T151825
DTSTART;TZID=Europe/Berlin:20260504T190000
DTEND;TZID=Europe/Berlin:20260504T200000
UID:261NH30110-20260504T190000@VHSUNTERLAND
SUMMARY:Pilates (261NH30110) 
LOCATION:nh Kindergarten Pusteblume, Vereinsraum, Südstraße 60, 74226 Nordheim
END:VEVENT
BEGIN:VEVENT
DTSTAMP:20260423T151825
DTSTART;TZID=Europe/Berlin:20260511T190000
DTEND;TZID=Europe/Berlin:20260511T200000
UID:261NH30110-20260511T190000@VHSUNTERLAND
SUMMARY:Pilates (261NH30110) 
LOCATION:nh Kindergarten Pusteblume, Vereinsraum, Südstraße 60, 74226 Nordheim
END:VEVENT
BEGIN:VEVENT
DTSTAMP:20260423T151825
DTSTART;TZID=Europe/Berlin:20260518T190000
DTEND;TZID=Europe/Berlin:20260518T200000
UID:261NH30110-20260518T190000@VHSUNTERLAND
SUMMARY:Pilates (261NH30110) 
LOCATION:nh Kindergarten Pusteblume, Vereinsraum, Südstraße 60, 74226 Nordheim
END:VEVENT
BEGIN:VEVENT
DTSTAMP:20260423T151825
DTSTART;TZID=Europe/Berlin:20260608T190000
DTEND;TZID=Europe/Berlin:20260608T200000
UID:261NH30110-20260608T190000@VHSUNTERLAND
SUMMARY:Pilates (261NH30110) 
LOCATION:nh Kindergarten Pusteblume, Vereinsraum, Südstraße 60, 74226 Nordheim
END:VEVENT
BEGIN:VEVENT
DTSTAMP:20260423T151825
DTSTART;TZID=Europe/Berlin:20260615T190000
DTEND;TZID=Europe/Berlin:20260615T200000
UID:261NH30110-20260615T190000@VHSUNTERLAND
SUMMARY:Pilates (261NH30110) 
LOCATION:nh Kindergarten Pusteblume, Vereinsraum, Südstraße 60, 74226 Nordheim
END:VEVENT
BEGIN:VEVENT
DTSTAMP:20260423T151825
DTSTART;TZID=Europe/Berlin:20260622T190000
DTEND;TZID=Europe/Berlin:20260622T200000
UID:261NH30110-20260622T190000@VHSUNTERLAND
SUMMARY:Pilates (261NH30110) 
LOCATION:nh Kindergarten Pusteblume, Vereinsraum, Südstraße 60, 74226 Nordheim
END:VEVENT
BEGIN:VEVENT
DTSTAMP:20260423T151825
DTSTART;TZID=Europe/Berlin:20260629T190000
DTEND;TZID=Europe/Berlin:20260629T200000
UID:261NH30110-20260629T190000@VHSUNTERLAND
SUMMARY:Pilates (261NH30110) 
LOCATION:nh Kindergarten Pusteblume, Vereinsraum, Südstraße 60, 74226 Nordheim
END:VEVENT
END:VCALENDAR