BEGIN:VCALENDAR
VERSION:2.0
PRODID:http://www.kufer.de/kuferweb / DE
METHOD:PUBLISH
CALSCALE:GREGORIAN
X-WR-TIMEZONE:Europe/Berlin
BEGIN:VTIMEZONE
TZID:Europe/Berlin
X-LIC-LOCATION:Europe/Berlin
BEGIN:DAYLIGHT
TZOFFSETFROM:+0100
TZOFFSETTO:+0200
TZNAME:CEST
DTSTART;TZID=Europe/Berlin:19700329T020000
RRULE:FREQ=YEARLY;INTERVAL=1;BYDAY=-1SU;BYMONTH=3
END:DAYLIGHT
BEGIN:STANDARD
TZOFFSETFROM:+0200
TZOFFSETTO:+0100
TZNAME:CET
DTSTART;TZID=Europe/Berlin:19701025T030000
RRULE:FREQ=YEARLY;INTERVAL=1;BYDAY=-1SU;BYMONTH=10
END:STANDARD
END:VTIMEZONE
BEGIN:VEVENT
DTSTAMP:20260423T104124
DTSTART;TZID=Europe/Berlin:20260301T184500
DTEND;TZID=Europe/Berlin:20260301T201500
UID:261NH20506-20260301T184500@VHSUNTERLAND
SUMMARY:Discofox/Hustle - der Tanz für alle Feiern für Fortgeschrittene (261NH20506) 
LOCATION:nh Kurt-von-Marval-Schule, Aula, Lauffener Straße 34, 74226 Nordheim
END:VEVENT
BEGIN:VEVENT
DTSTAMP:20260423T104124
DTSTART;TZID=Europe/Berlin:20260308T184500
DTEND;TZID=Europe/Berlin:20260308T201500
UID:261NH20506-20260308T184500@VHSUNTERLAND
SUMMARY:Discofox/Hustle - der Tanz für alle Feiern für Fortgeschrittene (261NH20506) 
LOCATION:nh Kurt-von-Marval-Schule, Aula, Lauffener Straße 34, 74226 Nordheim
END:VEVENT
BEGIN:VEVENT
DTSTAMP:20260423T104124
DTSTART;TZID=Europe/Berlin:20260315T184500
DTEND;TZID=Europe/Berlin:20260315T201500
UID:261NH20506-20260315T184500@VHSUNTERLAND
SUMMARY:Discofox/Hustle - der Tanz für alle Feiern für Fortgeschrittene (261NH20506) 
LOCATION:nh Kurt-von-Marval-Schule, Aula, Lauffener Straße 34, 74226 Nordheim
END:VEVENT
BEGIN:VEVENT
DTSTAMP:20260423T104124
DTSTART;TZID=Europe/Berlin:20260322T184500
DTEND;TZID=Europe/Berlin:20260322T201500
UID:261NH20506-20260322T184500@VHSUNTERLAND
SUMMARY:Discofox/Hustle - der Tanz für alle Feiern für Fortgeschrittene (261NH20506) 
LOCATION:nh Kurt-von-Marval-Schule, Aula, Lauffener Straße 34, 74226 Nordheim
END:VEVENT
BEGIN:VEVENT
DTSTAMP:20260423T104124
DTSTART;TZID=Europe/Berlin:20260329T184500
DTEND;TZID=Europe/Berlin:20260329T201500
UID:261NH20506-20260329T184500@VHSUNTERLAND
SUMMARY:Discofox/Hustle - der Tanz für alle Feiern für Fortgeschrittene (261NH20506) 
LOCATION:nh Kurt-von-Marval-Schule, Aula, Lauffener Straße 34, 74226 Nordheim
END:VEVENT
BEGIN:VEVENT
DTSTAMP:20260423T104124
DTSTART;TZID=Europe/Berlin:20260412T184500
DTEND;TZID=Europe/Berlin:20260412T201500
UID:261NH20506-20260412T184500@VHSUNTERLAND
SUMMARY:Discofox/Hustle - der Tanz für alle Feiern für Fortgeschrittene (261NH20506) 
LOCATION:nh Kurt-von-Marval-Schule, Aula, Lauffener Straße 34, 74226 Nordheim
END:VEVENT
END:VCALENDAR