BEGIN:VCALENDAR
VERSION:2.0
PRODID:http://www.kufer.de/kuferweb / DE
METHOD:PUBLISH
CALSCALE:GREGORIAN
X-WR-TIMEZONE:Europe/Berlin
BEGIN:VTIMEZONE
TZID:Europe/Berlin
X-LIC-LOCATION:Europe/Berlin
BEGIN:DAYLIGHT
TZOFFSETFROM:+0100
TZOFFSETTO:+0200
TZNAME:CEST
DTSTART;TZID=Europe/Berlin:19700329T020000
RRULE:FREQ=YEARLY;INTERVAL=1;BYDAY=-1SU;BYMONTH=3
END:DAYLIGHT
BEGIN:STANDARD
TZOFFSETFROM:+0200
TZOFFSETTO:+0100
TZNAME:CET
DTSTART;TZID=Europe/Berlin:19701025T030000
RRULE:FREQ=YEARLY;INTERVAL=1;BYDAY=-1SU;BYMONTH=10
END:STANDARD
END:VTIMEZONE
BEGIN:VEVENT
DTSTAMP:20260420T195822
DTSTART;TZID=Europe/Berlin:20260619T170000
DTEND;TZID=Europe/Berlin:20260619T200000
UID:261NH10560-20260619T170000@VHSUNTERLAND
SUMMARY:Fit fürs Babysitten ab 14 Jahren (261NH10560) 
LOCATION:nh Kurt-von-Marval-Schule, Gebäude A, 1. OG, Lauffener Straße 34, 74226 Nordheim
END:VEVENT
BEGIN:VEVENT
DTSTAMP:20260420T195822
DTSTART;TZID=Europe/Berlin:20260626T170000
DTEND;TZID=Europe/Berlin:20260626T200000
UID:261NH10560-20260626T170000@VHSUNTERLAND
SUMMARY:Fit fürs Babysitten ab 14 Jahren (261NH10560) 
LOCATION:nh Kurt-von-Marval-Schule, Gebäude A, 1. OG, Lauffener Straße 34, 74226 Nordheim
END:VEVENT
END:VCALENDAR