BEGIN:VCALENDAR
VERSION:2.0
PRODID:http://www.kufer.de/kuferweb / DE
METHOD:PUBLISH
CALSCALE:GREGORIAN
X-WR-TIMEZONE:Europe/Berlin
BEGIN:VTIMEZONE
TZID:Europe/Berlin
X-LIC-LOCATION:Europe/Berlin
BEGIN:DAYLIGHT
TZOFFSETFROM:+0100
TZOFFSETTO:+0200
TZNAME:CEST
DTSTART;TZID=Europe/Berlin:19700329T020000
RRULE:FREQ=YEARLY;INTERVAL=1;BYDAY=-1SU;BYMONTH=3
END:DAYLIGHT
BEGIN:STANDARD
TZOFFSETFROM:+0200
TZOFFSETTO:+0100
TZNAME:CET
DTSTART;TZID=Europe/Berlin:19701025T030000
RRULE:FREQ=YEARLY;INTERVAL=1;BYDAY=-1SU;BYMONTH=10
END:STANDARD
END:VTIMEZONE
BEGIN:VEVENT
DTSTAMP:20260422T210442
DTSTART;TZID=Europe/Berlin:20260301T090000
DTEND;TZID=Europe/Berlin:20260301T100000
UID:261ND30275-20260301T090000@VHSUNTERLAND
SUMMARY:Fit in den Frühling   Lauf-, Ausdauer- und Krafttraining im Freien (261ND30275) 
LOCATION:nd Herbolzheim, Waldparkplatz am Käppele, , 
END:VEVENT
BEGIN:VEVENT
DTSTAMP:20260422T210442
DTSTART;TZID=Europe/Berlin:20260308T090000
DTEND;TZID=Europe/Berlin:20260308T100000
UID:261ND30275-20260308T090000@VHSUNTERLAND
SUMMARY:Fit in den Frühling   Lauf-, Ausdauer- und Krafttraining im Freien (261ND30275) 
LOCATION:nd Herbolzheim, Waldparkplatz am Käppele, , 
END:VEVENT
BEGIN:VEVENT
DTSTAMP:20260422T210442
DTSTART;TZID=Europe/Berlin:20260315T090000
DTEND;TZID=Europe/Berlin:20260315T100000
UID:261ND30275-20260315T090000@VHSUNTERLAND
SUMMARY:Fit in den Frühling   Lauf-, Ausdauer- und Krafttraining im Freien (261ND30275) 
LOCATION:nd Herbolzheim, Waldparkplatz am Käppele, , 
END:VEVENT
BEGIN:VEVENT
DTSTAMP:20260422T210442
DTSTART;TZID=Europe/Berlin:20260322T090000
DTEND;TZID=Europe/Berlin:20260322T100000
UID:261ND30275-20260322T090000@VHSUNTERLAND
SUMMARY:Fit in den Frühling   Lauf-, Ausdauer- und Krafttraining im Freien (261ND30275) 
LOCATION:nd Herbolzheim, Waldparkplatz am Käppele, , 
END:VEVENT
BEGIN:VEVENT
DTSTAMP:20260422T210442
DTSTART;TZID=Europe/Berlin:20260329T090000
DTEND;TZID=Europe/Berlin:20260329T100000
UID:261ND30275-20260329T090000@VHSUNTERLAND
SUMMARY:Fit in den Frühling   Lauf-, Ausdauer- und Krafttraining im Freien (261ND30275) 
LOCATION:nd Herbolzheim, Waldparkplatz am Käppele, , 
END:VEVENT
BEGIN:VEVENT
DTSTAMP:20260422T210442
DTSTART;TZID=Europe/Berlin:20260412T090000
DTEND;TZID=Europe/Berlin:20260412T100000
UID:261ND30275-20260412T090000@VHSUNTERLAND
SUMMARY:Fit in den Frühling   Lauf-, Ausdauer- und Krafttraining im Freien (261ND30275) 
LOCATION:nd Herbolzheim, Waldparkplatz am Käppele, , 
END:VEVENT
BEGIN:VEVENT
DTSTAMP:20260422T210442
DTSTART;TZID=Europe/Berlin:20260419T090000
DTEND;TZID=Europe/Berlin:20260419T100000
UID:261ND30275-20260419T090000@VHSUNTERLAND
SUMMARY:Fit in den Frühling   Lauf-, Ausdauer- und Krafttraining im Freien (261ND30275) 
LOCATION:nd Herbolzheim, Waldparkplatz am Käppele, , 
END:VEVENT
BEGIN:VEVENT
DTSTAMP:20260422T210442
DTSTART;TZID=Europe/Berlin:20260426T090000
DTEND;TZID=Europe/Berlin:20260426T100000
UID:261ND30275-20260426T090000@VHSUNTERLAND
SUMMARY:Fit in den Frühling   Lauf-, Ausdauer- und Krafttraining im Freien (261ND30275) 
LOCATION:nd Herbolzheim, Waldparkplatz am Käppele, , 
END:VEVENT
BEGIN:VEVENT
DTSTAMP:20260422T210442
DTSTART;TZID=Europe/Berlin:20260503T090000
DTEND;TZID=Europe/Berlin:20260503T100000
UID:261ND30275-20260503T090000@VHSUNTERLAND
SUMMARY:Fit in den Frühling   Lauf-, Ausdauer- und Krafttraining im Freien (261ND30275) 
LOCATION:nd Herbolzheim, Waldparkplatz am Käppele, , 
END:VEVENT
BEGIN:VEVENT
DTSTAMP:20260422T210442
DTSTART;TZID=Europe/Berlin:20260510T090000
DTEND;TZID=Europe/Berlin:20260510T100000
UID:261ND30275-20260510T090000@VHSUNTERLAND
SUMMARY:Fit in den Frühling   Lauf-, Ausdauer- und Krafttraining im Freien (261ND30275) 
LOCATION:nd Herbolzheim, Waldparkplatz am Käppele, , 
END:VEVENT
END:VCALENDAR