BEGIN:VCALENDAR
VERSION:2.0
PRODID:http://www.kufer.de/kuferweb / DE
METHOD:PUBLISH
CALSCALE:GREGORIAN
X-WR-TIMEZONE:Europe/Berlin
BEGIN:VTIMEZONE
TZID:Europe/Berlin
X-LIC-LOCATION:Europe/Berlin
BEGIN:DAYLIGHT
TZOFFSETFROM:+0100
TZOFFSETTO:+0200
TZNAME:CEST
DTSTART;TZID=Europe/Berlin:19700329T020000
RRULE:FREQ=YEARLY;INTERVAL=1;BYDAY=-1SU;BYMONTH=3
END:DAYLIGHT
BEGIN:STANDARD
TZOFFSETFROM:+0200
TZOFFSETTO:+0100
TZNAME:CET
DTSTART;TZID=Europe/Berlin:19701025T030000
RRULE:FREQ=YEARLY;INTERVAL=1;BYDAY=-1SU;BYMONTH=10
END:STANDARD
END:VTIMEZONE
BEGIN:VEVENT
DTSTAMP:20260423T195923
DTSTART;TZID=Europe/Berlin:20260227T173000
DTEND;TZID=Europe/Berlin:20260227T183000
UID:261ND30235-20260227T173000@VHSUNTERLAND
SUMMARY:ZUMBA® (261ND30235) 
LOCATION:nd Sturmfederhalle, Kultursaal, Schulstraße 9/1, 74861 Neudenau
END:VEVENT
BEGIN:VEVENT
DTSTAMP:20260423T195923
DTSTART;TZID=Europe/Berlin:20260306T173000
DTEND;TZID=Europe/Berlin:20260306T183000
UID:261ND30235-20260306T173000@VHSUNTERLAND
SUMMARY:ZUMBA® (261ND30235) 
LOCATION:nd Sturmfederhalle, Kultursaal, Schulstraße 9/1, 74861 Neudenau
END:VEVENT
BEGIN:VEVENT
DTSTAMP:20260423T195923
DTSTART;TZID=Europe/Berlin:20260313T173000
DTEND;TZID=Europe/Berlin:20260313T183000
UID:261ND30235-20260313T173000@VHSUNTERLAND
SUMMARY:ZUMBA® (261ND30235) 
LOCATION:nd Sturmfederhalle, Halle 1, Schulstraße 9/1, 74861 Neudenau
END:VEVENT
BEGIN:VEVENT
DTSTAMP:20260423T195923
DTSTART;TZID=Europe/Berlin:20260320T173000
DTEND;TZID=Europe/Berlin:20260320T183000
UID:261ND30235-20260320T173000@VHSUNTERLAND
SUMMARY:ZUMBA® (261ND30235) 
LOCATION:nd Sturmfederhalle, Kultursaal, Schulstraße 9/1, 74861 Neudenau
END:VEVENT
BEGIN:VEVENT
DTSTAMP:20260423T195923
DTSTART;TZID=Europe/Berlin:20260327T173000
DTEND;TZID=Europe/Berlin:20260327T183000
UID:261ND30235-20260327T173000@VHSUNTERLAND
SUMMARY:ZUMBA® (261ND30235) 
LOCATION:nd Sturmfederhalle, Kultursaal, Schulstraße 9/1, 74861 Neudenau
END:VEVENT
BEGIN:VEVENT
DTSTAMP:20260423T195923
DTSTART;TZID=Europe/Berlin:20260417T173000
DTEND;TZID=Europe/Berlin:20260417T183000
UID:261ND30235-20260417T173000@VHSUNTERLAND
SUMMARY:ZUMBA® (261ND30235) 
LOCATION:nd Sturmfederhalle, Kultursaal, Schulstraße 9/1, 74861 Neudenau
END:VEVENT
BEGIN:VEVENT
DTSTAMP:20260423T195923
DTSTART;TZID=Europe/Berlin:20260424T173000
DTEND;TZID=Europe/Berlin:20260424T183000
UID:261ND30235-20260424T173000@VHSUNTERLAND
SUMMARY:ZUMBA® (261ND30235) 
LOCATION:nd Sturmfederhalle, Kultursaal, Schulstraße 9/1, 74861 Neudenau
END:VEVENT
BEGIN:VEVENT
DTSTAMP:20260423T195923
DTSTART;TZID=Europe/Berlin:20260508T173000
DTEND;TZID=Europe/Berlin:20260508T183000
UID:261ND30235-20260508T173000@VHSUNTERLAND
SUMMARY:ZUMBA® (261ND30235) 
LOCATION:nd Sturmfederhalle, Kultursaal, Schulstraße 9/1, 74861 Neudenau
END:VEVENT
BEGIN:VEVENT
DTSTAMP:20260423T195923
DTSTART;TZID=Europe/Berlin:20260515T173000
DTEND;TZID=Europe/Berlin:20260515T183000
UID:261ND30235-20260515T173000@VHSUNTERLAND
SUMMARY:ZUMBA® (261ND30235) 
LOCATION:nd Sturmfederhalle, Kultursaal, Schulstraße 9/1, 74861 Neudenau
END:VEVENT
BEGIN:VEVENT
DTSTAMP:20260423T195923
DTSTART;TZID=Europe/Berlin:20260522T173000
DTEND;TZID=Europe/Berlin:20260522T183000
UID:261ND30235-20260522T173000@VHSUNTERLAND
SUMMARY:ZUMBA® (261ND30235) 
LOCATION:nd Sturmfederhalle, Kultursaal, Schulstraße 9/1, 74861 Neudenau
END:VEVENT
BEGIN:VEVENT
DTSTAMP:20260423T195923
DTSTART;TZID=Europe/Berlin:20260612T173000
DTEND;TZID=Europe/Berlin:20260612T183000
UID:261ND30235-20260612T173000@VHSUNTERLAND
SUMMARY:ZUMBA® (261ND30235) 
LOCATION:nd Sturmfederhalle, Kultursaal, Schulstraße 9/1, 74861 Neudenau
END:VEVENT
BEGIN:VEVENT
DTSTAMP:20260423T195923
DTSTART;TZID=Europe/Berlin:20260619T173000
DTEND;TZID=Europe/Berlin:20260619T183000
UID:261ND30235-20260619T173000@VHSUNTERLAND
SUMMARY:ZUMBA® (261ND30235) 
LOCATION:nd Sturmfederhalle, Kultursaal, Schulstraße 9/1, 74861 Neudenau
END:VEVENT
END:VCALENDAR