BEGIN:VCALENDAR
VERSION:2.0
PRODID:http://www.kufer.de/kuferweb / DE
METHOD:PUBLISH
CALSCALE:GREGORIAN
X-WR-TIMEZONE:Europe/Berlin
BEGIN:VTIMEZONE
TZID:Europe/Berlin
X-LIC-LOCATION:Europe/Berlin
BEGIN:DAYLIGHT
TZOFFSETFROM:+0100
TZOFFSETTO:+0200
TZNAME:CEST
DTSTART;TZID=Europe/Berlin:19700329T020000
RRULE:FREQ=YEARLY;INTERVAL=1;BYDAY=-1SU;BYMONTH=3
END:DAYLIGHT
BEGIN:STANDARD
TZOFFSETFROM:+0200
TZOFFSETTO:+0100
TZNAME:CET
DTSTART;TZID=Europe/Berlin:19701025T030000
RRULE:FREQ=YEARLY;INTERVAL=1;BYDAY=-1SU;BYMONTH=10
END:STANDARD
END:VTIMEZONE
BEGIN:VEVENT
DTSTAMP:20260422T164646
DTSTART;TZID=Europe/Berlin:20260222T183000
DTEND;TZID=Europe/Berlin:20260222T200000
UID:261ND20502-20260222T183000@VHSUNTERLAND
SUMMARY:Fit durch Tanzen  Fortsetzungskurs Niveau 35 (261ND20502) 
LOCATION:nd Sturmfederhalle, Kultursaal, Schulstraße 9/1, 74861 Neudenau
END:VEVENT
BEGIN:VEVENT
DTSTAMP:20260422T164646
DTSTART;TZID=Europe/Berlin:20260301T183000
DTEND;TZID=Europe/Berlin:20260301T200000
UID:261ND20502-20260301T183000@VHSUNTERLAND
SUMMARY:Fit durch Tanzen  Fortsetzungskurs Niveau 35 (261ND20502) 
LOCATION:nd Sturmfederhalle, Kultursaal, Schulstraße 9/1, 74861 Neudenau
END:VEVENT
BEGIN:VEVENT
DTSTAMP:20260422T164646
DTSTART;TZID=Europe/Berlin:20260315T183000
DTEND;TZID=Europe/Berlin:20260315T200000
UID:261ND20502-20260315T183000@VHSUNTERLAND
SUMMARY:Fit durch Tanzen  Fortsetzungskurs Niveau 35 (261ND20502) 
LOCATION:nd Sturmfederhalle, Kultursaal, Schulstraße 9/1, 74861 Neudenau
END:VEVENT
BEGIN:VEVENT
DTSTAMP:20260422T164646
DTSTART;TZID=Europe/Berlin:20260322T183000
DTEND;TZID=Europe/Berlin:20260322T200000
UID:261ND20502-20260322T183000@VHSUNTERLAND
SUMMARY:Fit durch Tanzen  Fortsetzungskurs Niveau 35 (261ND20502) 
LOCATION:nd Sturmfederhalle, Halle 1, Schulstraße 9/1, 74861 Neudenau
END:VEVENT
BEGIN:VEVENT
DTSTAMP:20260422T164646
DTSTART;TZID=Europe/Berlin:20260329T163000
DTEND;TZID=Europe/Berlin:20260329T180000
UID:261ND20502-20260329T163000@VHSUNTERLAND
SUMMARY:Fit durch Tanzen  Fortsetzungskurs Niveau 35 (261ND20502) 
LOCATION:nd Siglingen, Sporthalle , Heilbronner Straße 29, 74861 Neudenau
END:VEVENT
BEGIN:VEVENT
DTSTAMP:20260422T164646
DTSTART;TZID=Europe/Berlin:20260419T183000
DTEND;TZID=Europe/Berlin:20260419T200000
UID:261ND20502-20260419T183000@VHSUNTERLAND
SUMMARY:Fit durch Tanzen  Fortsetzungskurs Niveau 35 (261ND20502) 
LOCATION:nd Sturmfederhalle, Halle 1, Schulstraße 9/1, 74861 Neudenau
END:VEVENT
BEGIN:VEVENT
DTSTAMP:20260422T164646
DTSTART;TZID=Europe/Berlin:20260426T183000
DTEND;TZID=Europe/Berlin:20260426T200000
UID:261ND20502-20260426T183000@VHSUNTERLAND
SUMMARY:Fit durch Tanzen  Fortsetzungskurs Niveau 35 (261ND20502) 
LOCATION:nd Sturmfederhalle, Halle 1, Schulstraße 9/1, 74861 Neudenau
END:VEVENT
BEGIN:VEVENT
DTSTAMP:20260422T164646
DTSTART;TZID=Europe/Berlin:20260503T183000
DTEND;TZID=Europe/Berlin:20260503T200000
UID:261ND20502-20260503T183000@VHSUNTERLAND
SUMMARY:Fit durch Tanzen  Fortsetzungskurs Niveau 35 (261ND20502) 
LOCATION:nd Sturmfederhalle, Halle 1, Schulstraße 9/1, 74861 Neudenau
END:VEVENT
BEGIN:VEVENT
DTSTAMP:20260422T164646
DTSTART;TZID=Europe/Berlin:20260510T183000
DTEND;TZID=Europe/Berlin:20260510T200000
UID:261ND20502-20260510T183000@VHSUNTERLAND
SUMMARY:Fit durch Tanzen  Fortsetzungskurs Niveau 35 (261ND20502) 
LOCATION:nd Sturmfederhalle, Halle 1, Schulstraße 9/1, 74861 Neudenau
END:VEVENT
BEGIN:VEVENT
DTSTAMP:20260422T164646
DTSTART;TZID=Europe/Berlin:20260607T183000
DTEND;TZID=Europe/Berlin:20260607T200000
UID:261ND20502-20260607T183000@VHSUNTERLAND
SUMMARY:Fit durch Tanzen  Fortsetzungskurs Niveau 35 (261ND20502) 
LOCATION:nd Sturmfederhalle, Halle 1, Schulstraße 9/1, 74861 Neudenau
END:VEVENT
BEGIN:VEVENT
DTSTAMP:20260422T164646
DTSTART;TZID=Europe/Berlin:20260614T163000
DTEND;TZID=Europe/Berlin:20260614T180000
UID:261ND20502-20260614T163000@VHSUNTERLAND
SUMMARY:Fit durch Tanzen  Fortsetzungskurs Niveau 35 (261ND20502) 
LOCATION:nd Sturmfederhalle, Halle 1, Schulstraße 9/1, 74861 Neudenau
END:VEVENT
END:VCALENDAR