BEGIN:VCALENDAR
VERSION:2.0
PRODID:http://www.kufer.de/kuferweb / DE
METHOD:PUBLISH
CALSCALE:GREGORIAN
X-WR-TIMEZONE:Europe/Berlin
BEGIN:VTIMEZONE
TZID:Europe/Berlin
X-LIC-LOCATION:Europe/Berlin
BEGIN:DAYLIGHT
TZOFFSETFROM:+0100
TZOFFSETTO:+0200
TZNAME:CEST
DTSTART;TZID=Europe/Berlin:19700329T020000
RRULE:FREQ=YEARLY;INTERVAL=1;BYDAY=-1SU;BYMONTH=3
END:DAYLIGHT
BEGIN:STANDARD
TZOFFSETFROM:+0200
TZOFFSETTO:+0100
TZNAME:CET
DTSTART;TZID=Europe/Berlin:19701025T030000
RRULE:FREQ=YEARLY;INTERVAL=1;BYDAY=-1SU;BYMONTH=10
END:STANDARD
END:VTIMEZONE
BEGIN:VEVENT
DTSTAMP:20260422T135841
DTSTART;TZID=Europe/Berlin:20260304T173000
DTEND;TZID=Europe/Berlin:20260304T183000
UID:261MM20570-20260304T173000@VHSUNTERLAND
SUMMARY:Hip-Hop  für Kinder von 6 - 10 Jahren (261MM20570) 
LOCATION:mm Sportstudio Dynamik Sports, Daimlerstraße 3, 74219 Möckmühl
END:VEVENT
BEGIN:VEVENT
DTSTAMP:20260422T135841
DTSTART;TZID=Europe/Berlin:20260311T173000
DTEND;TZID=Europe/Berlin:20260311T183000
UID:261MM20570-20260311T173000@VHSUNTERLAND
SUMMARY:Hip-Hop  für Kinder von 6 - 10 Jahren (261MM20570) 
LOCATION:mm Sportstudio Dynamik Sports, Daimlerstraße 3, 74219 Möckmühl
END:VEVENT
BEGIN:VEVENT
DTSTAMP:20260422T135841
DTSTART;TZID=Europe/Berlin:20260318T173000
DTEND;TZID=Europe/Berlin:20260318T183000
UID:261MM20570-20260318T173000@VHSUNTERLAND
SUMMARY:Hip-Hop  für Kinder von 6 - 10 Jahren (261MM20570) 
LOCATION:mm Sportstudio Dynamik Sports, Daimlerstraße 3, 74219 Möckmühl
END:VEVENT
BEGIN:VEVENT
DTSTAMP:20260422T135841
DTSTART;TZID=Europe/Berlin:20260325T173000
DTEND;TZID=Europe/Berlin:20260325T183000
UID:261MM20570-20260325T173000@VHSUNTERLAND
SUMMARY:Hip-Hop  für Kinder von 6 - 10 Jahren (261MM20570) 
LOCATION:mm Sportstudio Dynamik Sports, Daimlerstraße 3, 74219 Möckmühl
END:VEVENT
END:VCALENDAR