BEGIN:VCALENDAR
VERSION:2.0
PRODID:http://www.kufer.de/kuferweb / DE
METHOD:PUBLISH
CALSCALE:GREGORIAN
X-WR-TIMEZONE:Europe/Berlin
BEGIN:VTIMEZONE
TZID:Europe/Berlin
X-LIC-LOCATION:Europe/Berlin
BEGIN:DAYLIGHT
TZOFFSETFROM:+0100
TZOFFSETTO:+0200
TZNAME:CEST
DTSTART;TZID=Europe/Berlin:19700329T020000
RRULE:FREQ=YEARLY;INTERVAL=1;BYDAY=-1SU;BYMONTH=3
END:DAYLIGHT
BEGIN:STANDARD
TZOFFSETFROM:+0200
TZOFFSETTO:+0100
TZNAME:CET
DTSTART;TZID=Europe/Berlin:19701025T030000
RRULE:FREQ=YEARLY;INTERVAL=1;BYDAY=-1SU;BYMONTH=10
END:STANDARD
END:VTIMEZONE
BEGIN:VEVENT
DTSTAMP:20260420T143858
DTSTART;TZID=Europe/Berlin:20260413T190000
DTEND;TZID=Europe/Berlin:20260413T200000
UID:261MM20515-20260413T190000@VHSUNTERLAND
SUMMARY:Line Dance & Co für Anfänger*innen mit geringen Vorkennissen (261MM20515) 
LOCATION:mm Stadthalle, Züttlinger Straße 2, 74219 Möckmühl
END:VEVENT
BEGIN:VEVENT
DTSTAMP:20260420T143858
DTSTART;TZID=Europe/Berlin:20260420T190000
DTEND;TZID=Europe/Berlin:20260420T200000
UID:261MM20515-20260420T190000@VHSUNTERLAND
SUMMARY:Line Dance & Co für Anfänger*innen mit geringen Vorkennissen (261MM20515) 
LOCATION:mm Stadthalle, Züttlinger Straße 2, 74219 Möckmühl
END:VEVENT
BEGIN:VEVENT
DTSTAMP:20260420T143858
DTSTART;TZID=Europe/Berlin:20260427T190000
DTEND;TZID=Europe/Berlin:20260427T200000
UID:261MM20515-20260427T190000@VHSUNTERLAND
SUMMARY:Line Dance & Co für Anfänger*innen mit geringen Vorkennissen (261MM20515) 
LOCATION:mm Stadthalle, Züttlinger Straße 2, 74219 Möckmühl
END:VEVENT
BEGIN:VEVENT
DTSTAMP:20260420T143858
DTSTART;TZID=Europe/Berlin:20260511T190000
DTEND;TZID=Europe/Berlin:20260511T200000
UID:261MM20515-20260511T190000@VHSUNTERLAND
SUMMARY:Line Dance & Co für Anfänger*innen mit geringen Vorkennissen (261MM20515) 
LOCATION:mm Stadthalle, Züttlinger Straße 2, 74219 Möckmühl
END:VEVENT
BEGIN:VEVENT
DTSTAMP:20260420T143858
DTSTART;TZID=Europe/Berlin:20260518T190000
DTEND;TZID=Europe/Berlin:20260518T200000
UID:261MM20515-20260518T190000@VHSUNTERLAND
SUMMARY:Line Dance & Co für Anfänger*innen mit geringen Vorkennissen (261MM20515) 
LOCATION:mm Stadthalle, Züttlinger Straße 2, 74219 Möckmühl
END:VEVENT
BEGIN:VEVENT
DTSTAMP:20260420T143858
DTSTART;TZID=Europe/Berlin:20260608T190000
DTEND;TZID=Europe/Berlin:20260608T200000
UID:261MM20515-20260608T190000@VHSUNTERLAND
SUMMARY:Line Dance & Co für Anfänger*innen mit geringen Vorkennissen (261MM20515) 
LOCATION:mm Stadthalle, Züttlinger Straße 2, 74219 Möckmühl
END:VEVENT
BEGIN:VEVENT
DTSTAMP:20260420T143858
DTSTART;TZID=Europe/Berlin:20260615T190000
DTEND;TZID=Europe/Berlin:20260615T200000
UID:261MM20515-20260615T190000@VHSUNTERLAND
DESCRIPTION:Ersatz für Ausfall am 23.03.2026
SUMMARY:Line Dance & Co für Anfänger*innen mit geringen Vorkennissen (261MM20515) 
LOCATION:mm Stadthalle, Züttlinger Straße 2, 74219 Möckmühl
END:VEVENT
BEGIN:VEVENT
DTSTAMP:20260420T143858
DTSTART;TZID=Europe/Berlin:20260622T190000
DTEND;TZID=Europe/Berlin:20260622T200000
UID:261MM20515-20260622T190000@VHSUNTERLAND
DESCRIPTION:Ersatz für Ausfall am 04.05.2026
SUMMARY:Line Dance & Co für Anfänger*innen mit geringen Vorkennissen (261MM20515) 
LOCATION:mm Stadthalle, Züttlinger Straße 2, 74219 Möckmühl
END:VEVENT
END:VCALENDAR