BEGIN:VCALENDAR
VERSION:2.0
PRODID:http://www.kufer.de/kuferweb / DE
METHOD:PUBLISH
CALSCALE:GREGORIAN
X-WR-TIMEZONE:Europe/Berlin
BEGIN:VTIMEZONE
TZID:Europe/Berlin
X-LIC-LOCATION:Europe/Berlin
BEGIN:DAYLIGHT
TZOFFSETFROM:+0100
TZOFFSETTO:+0200
TZNAME:CEST
DTSTART;TZID=Europe/Berlin:19700329T020000
RRULE:FREQ=YEARLY;INTERVAL=1;BYDAY=-1SU;BYMONTH=3
END:DAYLIGHT
BEGIN:STANDARD
TZOFFSETFROM:+0200
TZOFFSETTO:+0100
TZNAME:CET
DTSTART;TZID=Europe/Berlin:19701025T030000
RRULE:FREQ=YEARLY;INTERVAL=1;BYDAY=-1SU;BYMONTH=10
END:STANDARD
END:VTIMEZONE
BEGIN:VEVENT
DTSTAMP:20260422T104153
DTSTART;TZID=Europe/Berlin:20260224T175000
DTEND;TZID=Europe/Berlin:20260224T185000
UID:261MA30220-20260224T175000@VHSUNTERLAND
SUMMARY:Wirbelsäulengymnastik (261MA30220) 
LOCATION:ma Altes Rathaus, OG, Rathausstraße 7, 74252 Massenbachhausen
END:VEVENT
BEGIN:VEVENT
DTSTAMP:20260422T104153
DTSTART;TZID=Europe/Berlin:20260303T175000
DTEND;TZID=Europe/Berlin:20260303T185000
UID:261MA30220-20260303T175000@VHSUNTERLAND
SUMMARY:Wirbelsäulengymnastik (261MA30220) 
LOCATION:ma Altes Rathaus, OG, Rathausstraße 7, 74252 Massenbachhausen
END:VEVENT
BEGIN:VEVENT
DTSTAMP:20260422T104153
DTSTART;TZID=Europe/Berlin:20260310T175000
DTEND;TZID=Europe/Berlin:20260310T185000
UID:261MA30220-20260310T175000@VHSUNTERLAND
SUMMARY:Wirbelsäulengymnastik (261MA30220) 
LOCATION:ma Altes Rathaus, OG, Rathausstraße 7, 74252 Massenbachhausen
END:VEVENT
BEGIN:VEVENT
DTSTAMP:20260422T104153
DTSTART;TZID=Europe/Berlin:20260317T175000
DTEND;TZID=Europe/Berlin:20260317T185000
UID:261MA30220-20260317T175000@VHSUNTERLAND
SUMMARY:Wirbelsäulengymnastik (261MA30220) 
LOCATION:ma Altes Rathaus, OG, Rathausstraße 7, 74252 Massenbachhausen
END:VEVENT
BEGIN:VEVENT
DTSTAMP:20260422T104153
DTSTART;TZID=Europe/Berlin:20260324T175000
DTEND;TZID=Europe/Berlin:20260324T185000
UID:261MA30220-20260324T175000@VHSUNTERLAND
SUMMARY:Wirbelsäulengymnastik (261MA30220) 
LOCATION:ma Altes Rathaus, OG, Rathausstraße 7, 74252 Massenbachhausen
END:VEVENT
BEGIN:VEVENT
DTSTAMP:20260422T104153
DTSTART;TZID=Europe/Berlin:20260414T175000
DTEND;TZID=Europe/Berlin:20260414T185000
UID:261MA30220-20260414T175000@VHSUNTERLAND
SUMMARY:Wirbelsäulengymnastik (261MA30220) 
LOCATION:ma Altes Rathaus, OG, Rathausstraße 7, 74252 Massenbachhausen
END:VEVENT
BEGIN:VEVENT
DTSTAMP:20260422T104153
DTSTART;TZID=Europe/Berlin:20260421T175000
DTEND;TZID=Europe/Berlin:20260421T185000
UID:261MA30220-20260421T175000@VHSUNTERLAND
SUMMARY:Wirbelsäulengymnastik (261MA30220) 
LOCATION:ma Altes Rathaus, OG, Rathausstraße 7, 74252 Massenbachhausen
END:VEVENT
BEGIN:VEVENT
DTSTAMP:20260422T104153
DTSTART;TZID=Europe/Berlin:20260428T175000
DTEND;TZID=Europe/Berlin:20260428T185000
UID:261MA30220-20260428T175000@VHSUNTERLAND
SUMMARY:Wirbelsäulengymnastik (261MA30220) 
LOCATION:ma Altes Rathaus, OG, Rathausstraße 7, 74252 Massenbachhausen
END:VEVENT
BEGIN:VEVENT
DTSTAMP:20260422T104153
DTSTART;TZID=Europe/Berlin:20260505T175000
DTEND;TZID=Europe/Berlin:20260505T185000
UID:261MA30220-20260505T175000@VHSUNTERLAND
SUMMARY:Wirbelsäulengymnastik (261MA30220) 
LOCATION:ma Altes Rathaus, OG, Rathausstraße 7, 74252 Massenbachhausen
END:VEVENT
BEGIN:VEVENT
DTSTAMP:20260422T104153
DTSTART;TZID=Europe/Berlin:20260512T175000
DTEND;TZID=Europe/Berlin:20260512T185000
UID:261MA30220-20260512T175000@VHSUNTERLAND
SUMMARY:Wirbelsäulengymnastik (261MA30220) 
LOCATION:ma Altes Rathaus, OG, Rathausstraße 7, 74252 Massenbachhausen
END:VEVENT
END:VCALENDAR