BEGIN:VCALENDAR
VERSION:2.0
PRODID:http://www.kufer.de/kuferweb / DE
METHOD:PUBLISH
CALSCALE:GREGORIAN
X-WR-TIMEZONE:Europe/Berlin
BEGIN:VTIMEZONE
TZID:Europe/Berlin
X-LIC-LOCATION:Europe/Berlin
BEGIN:DAYLIGHT
TZOFFSETFROM:+0100
TZOFFSETTO:+0200
TZNAME:CEST
DTSTART;TZID=Europe/Berlin:19700329T020000
RRULE:FREQ=YEARLY;INTERVAL=1;BYDAY=-1SU;BYMONTH=3
END:DAYLIGHT
BEGIN:STANDARD
TZOFFSETFROM:+0200
TZOFFSETTO:+0100
TZNAME:CET
DTSTART;TZID=Europe/Berlin:19701025T030000
RRULE:FREQ=YEARLY;INTERVAL=1;BYDAY=-1SU;BYMONTH=10
END:STANDARD
END:VTIMEZONE
BEGIN:VEVENT
DTSTAMP:20260424T135324
DTSTART;TZID=Europe/Berlin:20260317T160000
DTEND;TZID=Europe/Berlin:20260317T164500
UID:261MA20582-20260317T160000@VHSUNTERLAND
SUMMARY:Tanzen, Singen, Rhythmus finden  für Kinder von 3 - 4 Jahren (261MA20582) 
LOCATION:ma Mehrzweckhalle, Vereinsraum, Heilbronner Straße 56, 74252 Massenbachhausen
END:VEVENT
BEGIN:VEVENT
DTSTAMP:20260424T135324
DTSTART;TZID=Europe/Berlin:20260324T160000
DTEND;TZID=Europe/Berlin:20260324T164500
UID:261MA20582-20260324T160000@VHSUNTERLAND
SUMMARY:Tanzen, Singen, Rhythmus finden  für Kinder von 3 - 4 Jahren (261MA20582) 
LOCATION:ma Mehrzweckhalle, Vereinsraum, Heilbronner Straße 56, 74252 Massenbachhausen
END:VEVENT
BEGIN:VEVENT
DTSTAMP:20260424T135324
DTSTART;TZID=Europe/Berlin:20260414T160000
DTEND;TZID=Europe/Berlin:20260414T164500
UID:261MA20582-20260414T160000@VHSUNTERLAND
SUMMARY:Tanzen, Singen, Rhythmus finden  für Kinder von 3 - 4 Jahren (261MA20582) 
LOCATION:ma Mehrzweckhalle, Vereinsraum, Heilbronner Straße 56, 74252 Massenbachhausen
END:VEVENT
BEGIN:VEVENT
DTSTAMP:20260424T135324
DTSTART;TZID=Europe/Berlin:20260421T160000
DTEND;TZID=Europe/Berlin:20260421T164500
UID:261MA20582-20260421T160000@VHSUNTERLAND
SUMMARY:Tanzen, Singen, Rhythmus finden  für Kinder von 3 - 4 Jahren (261MA20582) 
LOCATION:ma Mehrzweckhalle, Vereinsraum, Heilbronner Straße 56, 74252 Massenbachhausen
END:VEVENT
BEGIN:VEVENT
DTSTAMP:20260424T135324
DTSTART;TZID=Europe/Berlin:20260428T160000
DTEND;TZID=Europe/Berlin:20260428T164500
UID:261MA20582-20260428T160000@VHSUNTERLAND
SUMMARY:Tanzen, Singen, Rhythmus finden  für Kinder von 3 - 4 Jahren (261MA20582) 
LOCATION:ma Mehrzweckhalle, Vereinsraum, Heilbronner Straße 56, 74252 Massenbachhausen
END:VEVENT
BEGIN:VEVENT
DTSTAMP:20260424T135324
DTSTART;TZID=Europe/Berlin:20260505T160000
DTEND;TZID=Europe/Berlin:20260505T164500
UID:261MA20582-20260505T160000@VHSUNTERLAND
DESCRIPTION:Ersatz für Ausfall am 24.02.2026
SUMMARY:Tanzen, Singen, Rhythmus finden  für Kinder von 3 - 4 Jahren (261MA20582) 
LOCATION:ma Mehrzweckhalle, Vereinsraum, Heilbronner Straße 56, 74252 Massenbachhausen
END:VEVENT
BEGIN:VEVENT
DTSTAMP:20260424T135324
DTSTART;TZID=Europe/Berlin:20260609T160000
DTEND;TZID=Europe/Berlin:20260609T164500
UID:261MA20582-20260609T160000@VHSUNTERLAND
DESCRIPTION:Ersatz für Ausfall am 03.03.2026
Ersatz für Ausfall am 12.05.2026
SUMMARY:Tanzen, Singen, Rhythmus finden  für Kinder von 3 - 4 Jahren (261MA20582) 
LOCATION:ma Mehrzweckhalle, Vereinsraum, Heilbronner Straße 56, 74252 Massenbachhausen
END:VEVENT
BEGIN:VEVENT
DTSTAMP:20260424T135324
DTSTART;TZID=Europe/Berlin:20260616T160000
DTEND;TZID=Europe/Berlin:20260616T164500
UID:261MA20582-20260616T160000@VHSUNTERLAND
DESCRIPTION:Ersatz für Ausfall am 10.03.2026
Ersatz für Ausfall am 19.05.2026
SUMMARY:Tanzen, Singen, Rhythmus finden  für Kinder von 3 - 4 Jahren (261MA20582) 
LOCATION:ma Mehrzweckhalle, Vereinsraum, Heilbronner Straße 56, 74252 Massenbachhausen
END:VEVENT
END:VCALENDAR