BEGIN:VCALENDAR
VERSION:2.0
PRODID:http://www.kufer.de/kuferweb / DE
METHOD:PUBLISH
CALSCALE:GREGORIAN
X-WR-TIMEZONE:Europe/Berlin
BEGIN:VTIMEZONE
TZID:Europe/Berlin
X-LIC-LOCATION:Europe/Berlin
BEGIN:DAYLIGHT
TZOFFSETFROM:+0100
TZOFFSETTO:+0200
TZNAME:CEST
DTSTART;TZID=Europe/Berlin:19700329T020000
RRULE:FREQ=YEARLY;INTERVAL=1;BYDAY=-1SU;BYMONTH=3
END:DAYLIGHT
BEGIN:STANDARD
TZOFFSETFROM:+0200
TZOFFSETTO:+0100
TZNAME:CET
DTSTART;TZID=Europe/Berlin:19701025T030000
RRULE:FREQ=YEARLY;INTERVAL=1;BYDAY=-1SU;BYMONTH=10
END:STANDARD
END:VTIMEZONE
BEGIN:VEVENT
DTSTAMP:20260423T144053
DTSTART;TZID=Europe/Berlin:20260223T193000
DTEND;TZID=Europe/Berlin:20260223T201500
UID:261LS30247-20260223T193000@VHSUNTERLAND
SUMMARY:Aqua Fitness Ganzheitliches Training im Wasser (261LS30247) 
LOCATION:ls Evangelische Stiftung Lichtenstern, Hallenbad, Im Klosterhof 10, 74245 Löwenstein
END:VEVENT
BEGIN:VEVENT
DTSTAMP:20260423T144053
DTSTART;TZID=Europe/Berlin:20260302T193000
DTEND;TZID=Europe/Berlin:20260302T201500
UID:261LS30247-20260302T193000@VHSUNTERLAND
SUMMARY:Aqua Fitness Ganzheitliches Training im Wasser (261LS30247) 
LOCATION:ls Evangelische Stiftung Lichtenstern, Hallenbad, Im Klosterhof 10, 74245 Löwenstein
END:VEVENT
BEGIN:VEVENT
DTSTAMP:20260423T144053
DTSTART;TZID=Europe/Berlin:20260309T193000
DTEND;TZID=Europe/Berlin:20260309T201500
UID:261LS30247-20260309T193000@VHSUNTERLAND
SUMMARY:Aqua Fitness Ganzheitliches Training im Wasser (261LS30247) 
LOCATION:ls Evangelische Stiftung Lichtenstern, Hallenbad, Im Klosterhof 10, 74245 Löwenstein
END:VEVENT
BEGIN:VEVENT
DTSTAMP:20260423T144053
DTSTART;TZID=Europe/Berlin:20260316T193000
DTEND;TZID=Europe/Berlin:20260316T201500
UID:261LS30247-20260316T193000@VHSUNTERLAND
SUMMARY:Aqua Fitness Ganzheitliches Training im Wasser (261LS30247) 
LOCATION:ls Evangelische Stiftung Lichtenstern, Hallenbad, Im Klosterhof 10, 74245 Löwenstein
END:VEVENT
BEGIN:VEVENT
DTSTAMP:20260423T144053
DTSTART;TZID=Europe/Berlin:20260323T193000
DTEND;TZID=Europe/Berlin:20260323T201500
UID:261LS30247-20260323T193000@VHSUNTERLAND
SUMMARY:Aqua Fitness Ganzheitliches Training im Wasser (261LS30247) 
LOCATION:ls Evangelische Stiftung Lichtenstern, Hallenbad, Im Klosterhof 10, 74245 Löwenstein
END:VEVENT
BEGIN:VEVENT
DTSTAMP:20260423T144053
DTSTART;TZID=Europe/Berlin:20260413T193000
DTEND;TZID=Europe/Berlin:20260413T201500
UID:261LS30247-20260413T193000@VHSUNTERLAND
SUMMARY:Aqua Fitness Ganzheitliches Training im Wasser (261LS30247) 
LOCATION:ls Evangelische Stiftung Lichtenstern, Hallenbad, Im Klosterhof 10, 74245 Löwenstein
END:VEVENT
BEGIN:VEVENT
DTSTAMP:20260423T144053
DTSTART;TZID=Europe/Berlin:20260420T193000
DTEND;TZID=Europe/Berlin:20260420T201500
UID:261LS30247-20260420T193000@VHSUNTERLAND
SUMMARY:Aqua Fitness Ganzheitliches Training im Wasser (261LS30247) 
LOCATION:ls Evangelische Stiftung Lichtenstern, Hallenbad, Im Klosterhof 10, 74245 Löwenstein
END:VEVENT
BEGIN:VEVENT
DTSTAMP:20260423T144053
DTSTART;TZID=Europe/Berlin:20260427T193000
DTEND;TZID=Europe/Berlin:20260427T201500
UID:261LS30247-20260427T193000@VHSUNTERLAND
SUMMARY:Aqua Fitness Ganzheitliches Training im Wasser (261LS30247) 
LOCATION:ls Evangelische Stiftung Lichtenstern, Hallenbad, Im Klosterhof 10, 74245 Löwenstein
END:VEVENT
BEGIN:VEVENT
DTSTAMP:20260423T144053
DTSTART;TZID=Europe/Berlin:20260504T193000
DTEND;TZID=Europe/Berlin:20260504T201500
UID:261LS30247-20260504T193000@VHSUNTERLAND
SUMMARY:Aqua Fitness Ganzheitliches Training im Wasser (261LS30247) 
LOCATION:ls Evangelische Stiftung Lichtenstern, Hallenbad, Im Klosterhof 10, 74245 Löwenstein
END:VEVENT
BEGIN:VEVENT
DTSTAMP:20260423T144053
DTSTART;TZID=Europe/Berlin:20260511T193000
DTEND;TZID=Europe/Berlin:20260511T201500
UID:261LS30247-20260511T193000@VHSUNTERLAND
SUMMARY:Aqua Fitness Ganzheitliches Training im Wasser (261LS30247) 
LOCATION:ls Evangelische Stiftung Lichtenstern, Hallenbad, Im Klosterhof 10, 74245 Löwenstein
END:VEVENT
BEGIN:VEVENT
DTSTAMP:20260423T144053
DTSTART;TZID=Europe/Berlin:20260518T193000
DTEND;TZID=Europe/Berlin:20260518T201500
UID:261LS30247-20260518T193000@VHSUNTERLAND
SUMMARY:Aqua Fitness Ganzheitliches Training im Wasser (261LS30247) 
LOCATION:ls Evangelische Stiftung Lichtenstern, Hallenbad, Im Klosterhof 10, 74245 Löwenstein
END:VEVENT
BEGIN:VEVENT
DTSTAMP:20260423T144053
DTSTART;TZID=Europe/Berlin:20260608T193000
DTEND;TZID=Europe/Berlin:20260608T201500
UID:261LS30247-20260608T193000@VHSUNTERLAND
SUMMARY:Aqua Fitness Ganzheitliches Training im Wasser (261LS30247) 
LOCATION:ls Evangelische Stiftung Lichtenstern, Hallenbad, Im Klosterhof 10, 74245 Löwenstein
END:VEVENT
END:VCALENDAR