BEGIN:VCALENDAR
VERSION:2.0
PRODID:http://www.kufer.de/kuferweb / DE
METHOD:PUBLISH
CALSCALE:GREGORIAN
X-WR-TIMEZONE:Europe/Berlin
BEGIN:VTIMEZONE
TZID:Europe/Berlin
X-LIC-LOCATION:Europe/Berlin
BEGIN:DAYLIGHT
TZOFFSETFROM:+0100
TZOFFSETTO:+0200
TZNAME:CEST
DTSTART;TZID=Europe/Berlin:19700329T020000
RRULE:FREQ=YEARLY;INTERVAL=1;BYDAY=-1SU;BYMONTH=3
END:DAYLIGHT
BEGIN:STANDARD
TZOFFSETFROM:+0200
TZOFFSETTO:+0100
TZNAME:CET
DTSTART;TZID=Europe/Berlin:19701025T030000
RRULE:FREQ=YEARLY;INTERVAL=1;BYDAY=-1SU;BYMONTH=10
END:STANDARD
END:VTIMEZONE
BEGIN:VEVENT
DTSTAMP:20260421T051704
DTSTART;TZID=Europe/Berlin:20260205T175500
DTEND;TZID=Europe/Berlin:20260205T185500
UID:261LB30255-20260205T175500@VHSUNTERLAND
SUMMARY:Bodyworkout Kraftausdauertraining mit Musik (261LB30255) 
LOCATION:lb Grundschule Langenbeutingen, Bewegungshalle, Schulstraße 54, 74243 Langenbrettach
END:VEVENT
BEGIN:VEVENT
DTSTAMP:20260421T051704
DTSTART;TZID=Europe/Berlin:20260212T175500
DTEND;TZID=Europe/Berlin:20260212T185500
UID:261LB30255-20260212T175500@VHSUNTERLAND
SUMMARY:Bodyworkout Kraftausdauertraining mit Musik (261LB30255) 
LOCATION:lb Grundschule Langenbeutingen, Bewegungshalle, Schulstraße 54, 74243 Langenbrettach
END:VEVENT
BEGIN:VEVENT
DTSTAMP:20260421T051704
DTSTART;TZID=Europe/Berlin:20260305T175500
DTEND;TZID=Europe/Berlin:20260305T185500
UID:261LB30255-20260305T175500@VHSUNTERLAND
SUMMARY:Bodyworkout Kraftausdauertraining mit Musik (261LB30255) 
LOCATION:lb Grundschule Langenbeutingen, Bewegungshalle, Schulstraße 54, 74243 Langenbrettach
END:VEVENT
BEGIN:VEVENT
DTSTAMP:20260421T051704
DTSTART;TZID=Europe/Berlin:20260312T175500
DTEND;TZID=Europe/Berlin:20260312T185500
UID:261LB30255-20260312T175500@VHSUNTERLAND
SUMMARY:Bodyworkout Kraftausdauertraining mit Musik (261LB30255) 
LOCATION:lb Grundschule Langenbeutingen, Bewegungshalle, Schulstraße 54, 74243 Langenbrettach
END:VEVENT
BEGIN:VEVENT
DTSTAMP:20260421T051704
DTSTART;TZID=Europe/Berlin:20260319T175500
DTEND;TZID=Europe/Berlin:20260319T185500
UID:261LB30255-20260319T175500@VHSUNTERLAND
SUMMARY:Bodyworkout Kraftausdauertraining mit Musik (261LB30255) 
LOCATION:lb Grundschule Langenbeutingen, Bewegungshalle, Schulstraße 54, 74243 Langenbrettach
END:VEVENT
BEGIN:VEVENT
DTSTAMP:20260421T051704
DTSTART;TZID=Europe/Berlin:20260326T175500
DTEND;TZID=Europe/Berlin:20260326T185500
UID:261LB30255-20260326T175500@VHSUNTERLAND
SUMMARY:Bodyworkout Kraftausdauertraining mit Musik (261LB30255) 
LOCATION:lb Grundschule Langenbeutingen, Bewegungshalle, Schulstraße 54, 74243 Langenbrettach
END:VEVENT
BEGIN:VEVENT
DTSTAMP:20260421T051704
DTSTART;TZID=Europe/Berlin:20260416T175500
DTEND;TZID=Europe/Berlin:20260416T185500
UID:261LB30255-20260416T175500@VHSUNTERLAND
SUMMARY:Bodyworkout Kraftausdauertraining mit Musik (261LB30255) 
LOCATION:lb Grundschule Langenbeutingen, Bewegungshalle, Schulstraße 54, 74243 Langenbrettach
END:VEVENT
BEGIN:VEVENT
DTSTAMP:20260421T051704
DTSTART;TZID=Europe/Berlin:20260423T175500
DTEND;TZID=Europe/Berlin:20260423T185500
UID:261LB30255-20260423T175500@VHSUNTERLAND
SUMMARY:Bodyworkout Kraftausdauertraining mit Musik (261LB30255) 
LOCATION:lb Grundschule Langenbeutingen, Bewegungshalle, Schulstraße 54, 74243 Langenbrettach
END:VEVENT
BEGIN:VEVENT
DTSTAMP:20260421T051704
DTSTART;TZID=Europe/Berlin:20260430T175500
DTEND;TZID=Europe/Berlin:20260430T185500
UID:261LB30255-20260430T175500@VHSUNTERLAND
SUMMARY:Bodyworkout Kraftausdauertraining mit Musik (261LB30255) 
LOCATION:lb Grundschule Langenbeutingen, Bewegungshalle, Schulstraße 54, 74243 Langenbrettach
END:VEVENT
BEGIN:VEVENT
DTSTAMP:20260421T051704
DTSTART;TZID=Europe/Berlin:20260507T175500
DTEND;TZID=Europe/Berlin:20260507T185500
UID:261LB30255-20260507T175500@VHSUNTERLAND
SUMMARY:Bodyworkout Kraftausdauertraining mit Musik (261LB30255) 
LOCATION:lb Grundschule Langenbeutingen, Bewegungshalle, Schulstraße 54, 74243 Langenbrettach
END:VEVENT
BEGIN:VEVENT
DTSTAMP:20260421T051704
DTSTART;TZID=Europe/Berlin:20260521T175500
DTEND;TZID=Europe/Berlin:20260521T185500
UID:261LB30255-20260521T175500@VHSUNTERLAND
SUMMARY:Bodyworkout Kraftausdauertraining mit Musik (261LB30255) 
LOCATION:lb Grundschule Langenbeutingen, Bewegungshalle, Schulstraße 54, 74243 Langenbrettach
END:VEVENT
BEGIN:VEVENT
DTSTAMP:20260421T051704
DTSTART;TZID=Europe/Berlin:20260611T175500
DTEND;TZID=Europe/Berlin:20260611T185500
UID:261LB30255-20260611T175500@VHSUNTERLAND
SUMMARY:Bodyworkout Kraftausdauertraining mit Musik (261LB30255) 
LOCATION:lb Grundschule Langenbeutingen, Bewegungshalle, Schulstraße 54, 74243 Langenbrettach
END:VEVENT
BEGIN:VEVENT
DTSTAMP:20260421T051704
DTSTART;TZID=Europe/Berlin:20260618T175500
DTEND;TZID=Europe/Berlin:20260618T185500
UID:261LB30255-20260618T175500@VHSUNTERLAND
SUMMARY:Bodyworkout Kraftausdauertraining mit Musik (261LB30255) 
LOCATION:lb Grundschule Langenbeutingen, Bewegungshalle, Schulstraße 54, 74243 Langenbrettach
END:VEVENT
BEGIN:VEVENT
DTSTAMP:20260421T051704
DTSTART;TZID=Europe/Berlin:20260625T175500
DTEND;TZID=Europe/Berlin:20260625T185500
UID:261LB30255-20260625T175500@VHSUNTERLAND
DESCRIPTION:Ersatz für Ausfall am 26.02.2026
SUMMARY:Bodyworkout Kraftausdauertraining mit Musik (261LB30255) 
LOCATION:lb Grundschule Langenbeutingen, Bewegungshalle, Schulstraße 54, 74243 Langenbrettach
END:VEVENT
END:VCALENDAR