BEGIN:VCALENDAR
VERSION:2.0
PRODID:http://www.kufer.de/kuferweb / DE
METHOD:PUBLISH
CALSCALE:GREGORIAN
X-WR-TIMEZONE:Europe/Berlin
BEGIN:VTIMEZONE
TZID:Europe/Berlin
X-LIC-LOCATION:Europe/Berlin
BEGIN:DAYLIGHT
TZOFFSETFROM:+0100
TZOFFSETTO:+0200
TZNAME:CEST
DTSTART;TZID=Europe/Berlin:19700329T020000
RRULE:FREQ=YEARLY;INTERVAL=1;BYDAY=-1SU;BYMONTH=3
END:DAYLIGHT
BEGIN:STANDARD
TZOFFSETFROM:+0200
TZOFFSETTO:+0100
TZNAME:CET
DTSTART;TZID=Europe/Berlin:19701025T030000
RRULE:FREQ=YEARLY;INTERVAL=1;BYDAY=-1SU;BYMONTH=10
END:STANDARD
END:VTIMEZONE
BEGIN:VEVENT
DTSTAMP:20260425T214920
DTSTART;TZID=Europe/Berlin:20260610T201500
DTEND;TZID=Europe/Berlin:20260610T211500
UID:261LB30237-20260610T201500@VHSUNTERLAND
SUMMARY:ZUMBA® (261LB30237) 
LOCATION:lb Grundschule Brettach, Bewegungshalle, Brennofenstraße 32, 74243 Langenbrettach
END:VEVENT
BEGIN:VEVENT
DTSTAMP:20260425T214920
DTSTART;TZID=Europe/Berlin:20260617T201500
DTEND;TZID=Europe/Berlin:20260617T211500
UID:261LB30237-20260617T201500@VHSUNTERLAND
SUMMARY:ZUMBA® (261LB30237) 
LOCATION:lb Grundschule Brettach, Bewegungshalle, Brennofenstraße 32, 74243 Langenbrettach
END:VEVENT
BEGIN:VEVENT
DTSTAMP:20260425T214920
DTSTART;TZID=Europe/Berlin:20260624T201500
DTEND;TZID=Europe/Berlin:20260624T211500
UID:261LB30237-20260624T201500@VHSUNTERLAND
SUMMARY:ZUMBA® (261LB30237) 
LOCATION:lb Grundschule Brettach, Bewegungshalle, Brennofenstraße 32, 74243 Langenbrettach
END:VEVENT
BEGIN:VEVENT
DTSTAMP:20260425T214920
DTSTART;TZID=Europe/Berlin:20260701T201500
DTEND;TZID=Europe/Berlin:20260701T211500
UID:261LB30237-20260701T201500@VHSUNTERLAND
SUMMARY:ZUMBA® (261LB30237) 
LOCATION:lb Grundschule Brettach, Bewegungshalle, Brennofenstraße 32, 74243 Langenbrettach
END:VEVENT
BEGIN:VEVENT
DTSTAMP:20260425T214920
DTSTART;TZID=Europe/Berlin:20260708T201500
DTEND;TZID=Europe/Berlin:20260708T211500
UID:261LB30237-20260708T201500@VHSUNTERLAND
SUMMARY:ZUMBA® (261LB30237) 
LOCATION:lb Grundschule Brettach, Bewegungshalle, Brennofenstraße 32, 74243 Langenbrettach
END:VEVENT
END:VCALENDAR