BEGIN:VCALENDAR
VERSION:2.0
PRODID:http://www.kufer.de/kuferweb / DE
METHOD:PUBLISH
CALSCALE:GREGORIAN
X-WR-TIMEZONE:Europe/Berlin
BEGIN:VTIMEZONE
TZID:Europe/Berlin
X-LIC-LOCATION:Europe/Berlin
BEGIN:DAYLIGHT
TZOFFSETFROM:+0100
TZOFFSETTO:+0200
TZNAME:CEST
DTSTART;TZID=Europe/Berlin:19700329T020000
RRULE:FREQ=YEARLY;INTERVAL=1;BYDAY=-1SU;BYMONTH=3
END:DAYLIGHT
BEGIN:STANDARD
TZOFFSETFROM:+0200
TZOFFSETTO:+0100
TZNAME:CET
DTSTART;TZID=Europe/Berlin:19701025T030000
RRULE:FREQ=YEARLY;INTERVAL=1;BYDAY=-1SU;BYMONTH=10
END:STANDARD
END:VTIMEZONE
BEGIN:VEVENT
DTSTAMP:20260423T101632
DTSTART;TZID=Europe/Berlin:20260302T190000
DTEND;TZID=Europe/Berlin:20260302T203000
UID:261LB30140-20260302T190000@VHSUNTERLAND
SUMMARY:Kundalini Yoga (261LB30140) 
LOCATION:lb Grundschule Brettach, Bewegungshalle, Brennofenstraße 32, 74243 Langenbrettach
END:VEVENT
BEGIN:VEVENT
DTSTAMP:20260423T101632
DTSTART;TZID=Europe/Berlin:20260309T190000
DTEND;TZID=Europe/Berlin:20260309T203000
UID:261LB30140-20260309T190000@VHSUNTERLAND
SUMMARY:Kundalini Yoga (261LB30140) 
LOCATION:lb Grundschule Brettach, Bewegungshalle, Brennofenstraße 32, 74243 Langenbrettach
END:VEVENT
BEGIN:VEVENT
DTSTAMP:20260423T101632
DTSTART;TZID=Europe/Berlin:20260316T190000
DTEND;TZID=Europe/Berlin:20260316T203000
UID:261LB30140-20260316T190000@VHSUNTERLAND
SUMMARY:Kundalini Yoga (261LB30140) 
LOCATION:lb Grundschule Brettach, Bewegungshalle, Brennofenstraße 32, 74243 Langenbrettach
END:VEVENT
BEGIN:VEVENT
DTSTAMP:20260423T101632
DTSTART;TZID=Europe/Berlin:20260323T190000
DTEND;TZID=Europe/Berlin:20260323T203000
UID:261LB30140-20260323T190000@VHSUNTERLAND
SUMMARY:Kundalini Yoga (261LB30140) 
LOCATION:lb Grundschule Brettach, Bewegungshalle, Brennofenstraße 32, 74243 Langenbrettach
END:VEVENT
BEGIN:VEVENT
DTSTAMP:20260423T101632
DTSTART;TZID=Europe/Berlin:20260413T190000
DTEND;TZID=Europe/Berlin:20260413T203000
UID:261LB30140-20260413T190000@VHSUNTERLAND
SUMMARY:Kundalini Yoga (261LB30140) 
LOCATION:lb Grundschule Brettach, Bewegungshalle, Brennofenstraße 32, 74243 Langenbrettach
END:VEVENT
BEGIN:VEVENT
DTSTAMP:20260423T101632
DTSTART;TZID=Europe/Berlin:20260420T190000
DTEND;TZID=Europe/Berlin:20260420T203000
UID:261LB30140-20260420T190000@VHSUNTERLAND
SUMMARY:Kundalini Yoga (261LB30140) 
LOCATION:lb Grundschule Brettach, Bewegungshalle, Brennofenstraße 32, 74243 Langenbrettach
END:VEVENT
BEGIN:VEVENT
DTSTAMP:20260423T101632
DTSTART;TZID=Europe/Berlin:20260427T190000
DTEND;TZID=Europe/Berlin:20260427T203000
UID:261LB30140-20260427T190000@VHSUNTERLAND
SUMMARY:Kundalini Yoga (261LB30140) 
LOCATION:lb Grundschule Brettach, Bewegungshalle, Brennofenstraße 32, 74243 Langenbrettach
END:VEVENT
BEGIN:VEVENT
DTSTAMP:20260423T101632
DTSTART;TZID=Europe/Berlin:20260504T190000
DTEND;TZID=Europe/Berlin:20260504T203000
UID:261LB30140-20260504T190000@VHSUNTERLAND
SUMMARY:Kundalini Yoga (261LB30140) 
LOCATION:lb Grundschule Brettach, Bewegungshalle, Brennofenstraße 32, 74243 Langenbrettach
END:VEVENT
BEGIN:VEVENT
DTSTAMP:20260423T101632
DTSTART;TZID=Europe/Berlin:20260511T190000
DTEND;TZID=Europe/Berlin:20260511T203000
UID:261LB30140-20260511T190000@VHSUNTERLAND
SUMMARY:Kundalini Yoga (261LB30140) 
LOCATION:lb Grundschule Brettach, Bewegungshalle, Brennofenstraße 32, 74243 Langenbrettach
END:VEVENT
BEGIN:VEVENT
DTSTAMP:20260423T101632
DTSTART;TZID=Europe/Berlin:20260518T190000
DTEND;TZID=Europe/Berlin:20260518T203000
UID:261LB30140-20260518T190000@VHSUNTERLAND
SUMMARY:Kundalini Yoga (261LB30140) 
LOCATION:lb Grundschule Brettach, Bewegungshalle, Brennofenstraße 32, 74243 Langenbrettach
END:VEVENT
END:VCALENDAR