BEGIN:VCALENDAR
VERSION:2.0
PRODID:http://www.kufer.de/kuferweb / DE
METHOD:PUBLISH
CALSCALE:GREGORIAN
X-WR-TIMEZONE:Europe/Berlin
BEGIN:VTIMEZONE
TZID:Europe/Berlin
X-LIC-LOCATION:Europe/Berlin
BEGIN:DAYLIGHT
TZOFFSETFROM:+0100
TZOFFSETTO:+0200
TZNAME:CEST
DTSTART;TZID=Europe/Berlin:19700329T020000
RRULE:FREQ=YEARLY;INTERVAL=1;BYDAY=-1SU;BYMONTH=3
END:DAYLIGHT
BEGIN:STANDARD
TZOFFSETFROM:+0200
TZOFFSETTO:+0100
TZNAME:CET
DTSTART;TZID=Europe/Berlin:19701025T030000
RRULE:FREQ=YEARLY;INTERVAL=1;BYDAY=-1SU;BYMONTH=10
END:STANDARD
END:VTIMEZONE
BEGIN:VEVENT
DTSTAMP:20260420T212858
DTSTART;TZID=Europe/Berlin:20260210T174500
DTEND;TZID=Europe/Berlin:20260210T184500
UID:261LB30111-20260210T174500@VHSUNTERLAND
SUMMARY:Fit und Entspannt mit Pilates für Anfänger*innen und Wiedereinsteiger*innen (261LB30111) 
LOCATION:lb Grundschule Langenbeutingen, Bewegungshalle, Schulstraße 54, 74243 Langenbrettach
END:VEVENT
BEGIN:VEVENT
DTSTAMP:20260420T212858
DTSTART;TZID=Europe/Berlin:20260303T174500
DTEND;TZID=Europe/Berlin:20260303T184500
UID:261LB30111-20260303T174500@VHSUNTERLAND
SUMMARY:Fit und Entspannt mit Pilates für Anfänger*innen und Wiedereinsteiger*innen (261LB30111) 
LOCATION:lb Grundschule Langenbeutingen, Bewegungshalle, Schulstraße 54, 74243 Langenbrettach
END:VEVENT
BEGIN:VEVENT
DTSTAMP:20260420T212858
DTSTART;TZID=Europe/Berlin:20260310T174500
DTEND;TZID=Europe/Berlin:20260310T184500
UID:261LB30111-20260310T174500@VHSUNTERLAND
SUMMARY:Fit und Entspannt mit Pilates für Anfänger*innen und Wiedereinsteiger*innen (261LB30111) 
LOCATION:lb Grundschule Langenbeutingen, Bewegungshalle, Schulstraße 54, 74243 Langenbrettach
END:VEVENT
BEGIN:VEVENT
DTSTAMP:20260420T212858
DTSTART;TZID=Europe/Berlin:20260317T174500
DTEND;TZID=Europe/Berlin:20260317T184500
UID:261LB30111-20260317T174500@VHSUNTERLAND
SUMMARY:Fit und Entspannt mit Pilates für Anfänger*innen und Wiedereinsteiger*innen (261LB30111) 
LOCATION:lb Grundschule Langenbeutingen, Bewegungshalle, Schulstraße 54, 74243 Langenbrettach
END:VEVENT
BEGIN:VEVENT
DTSTAMP:20260420T212858
DTSTART;TZID=Europe/Berlin:20260324T174500
DTEND;TZID=Europe/Berlin:20260324T184500
UID:261LB30111-20260324T174500@VHSUNTERLAND
SUMMARY:Fit und Entspannt mit Pilates für Anfänger*innen und Wiedereinsteiger*innen (261LB30111) 
LOCATION:lb Grundschule Langenbeutingen, Bewegungshalle, Schulstraße 54, 74243 Langenbrettach
END:VEVENT
BEGIN:VEVENT
DTSTAMP:20260420T212858
DTSTART;TZID=Europe/Berlin:20260414T174500
DTEND;TZID=Europe/Berlin:20260414T184500
UID:261LB30111-20260414T174500@VHSUNTERLAND
SUMMARY:Fit und Entspannt mit Pilates für Anfänger*innen und Wiedereinsteiger*innen (261LB30111) 
LOCATION:lb Grundschule Langenbeutingen, Bewegungshalle, Schulstraße 54, 74243 Langenbrettach
END:VEVENT
BEGIN:VEVENT
DTSTAMP:20260420T212858
DTSTART;TZID=Europe/Berlin:20260421T174500
DTEND;TZID=Europe/Berlin:20260421T184500
UID:261LB30111-20260421T174500@VHSUNTERLAND
SUMMARY:Fit und Entspannt mit Pilates für Anfänger*innen und Wiedereinsteiger*innen (261LB30111) 
LOCATION:lb Grundschule Langenbeutingen, Bewegungshalle, Schulstraße 54, 74243 Langenbrettach
END:VEVENT
BEGIN:VEVENT
DTSTAMP:20260420T212858
DTSTART;TZID=Europe/Berlin:20260428T174500
DTEND;TZID=Europe/Berlin:20260428T184500
UID:261LB30111-20260428T174500@VHSUNTERLAND
SUMMARY:Fit und Entspannt mit Pilates für Anfänger*innen und Wiedereinsteiger*innen (261LB30111) 
LOCATION:lb Grundschule Langenbeutingen, Bewegungshalle, Schulstraße 54, 74243 Langenbrettach
END:VEVENT
BEGIN:VEVENT
DTSTAMP:20260420T212858
DTSTART;TZID=Europe/Berlin:20260505T174500
DTEND;TZID=Europe/Berlin:20260505T184500
UID:261LB30111-20260505T174500@VHSUNTERLAND
SUMMARY:Fit und Entspannt mit Pilates für Anfänger*innen und Wiedereinsteiger*innen (261LB30111) 
LOCATION:lb Grundschule Langenbeutingen, Bewegungshalle, Schulstraße 54, 74243 Langenbrettach
END:VEVENT
BEGIN:VEVENT
DTSTAMP:20260420T212858
DTSTART;TZID=Europe/Berlin:20260512T174500
DTEND;TZID=Europe/Berlin:20260512T184500
UID:261LB30111-20260512T174500@VHSUNTERLAND
SUMMARY:Fit und Entspannt mit Pilates für Anfänger*innen und Wiedereinsteiger*innen (261LB30111) 
LOCATION:lb Grundschule Langenbeutingen, Bewegungshalle, Schulstraße 54, 74243 Langenbrettach
END:VEVENT
BEGIN:VEVENT
DTSTAMP:20260420T212858
DTSTART;TZID=Europe/Berlin:20260519T174500
DTEND;TZID=Europe/Berlin:20260519T184500
UID:261LB30111-20260519T174500@VHSUNTERLAND
SUMMARY:Fit und Entspannt mit Pilates für Anfänger*innen und Wiedereinsteiger*innen (261LB30111) 
LOCATION:lb Grundschule Langenbeutingen, Bewegungshalle, Schulstraße 54, 74243 Langenbrettach
END:VEVENT
BEGIN:VEVENT
DTSTAMP:20260420T212858
DTSTART;TZID=Europe/Berlin:20260609T174500
DTEND;TZID=Europe/Berlin:20260609T184500
UID:261LB30111-20260609T174500@VHSUNTERLAND
SUMMARY:Fit und Entspannt mit Pilates für Anfänger*innen und Wiedereinsteiger*innen (261LB30111) 
LOCATION:lb Grundschule Langenbeutingen, Bewegungshalle, Schulstraße 54, 74243 Langenbrettach
END:VEVENT
BEGIN:VEVENT
DTSTAMP:20260420T212858
DTSTART;TZID=Europe/Berlin:20260616T174500
DTEND;TZID=Europe/Berlin:20260616T184500
UID:261LB30111-20260616T174500@VHSUNTERLAND
SUMMARY:Fit und Entspannt mit Pilates für Anfänger*innen und Wiedereinsteiger*innen (261LB30111) 
LOCATION:lb Grundschule Langenbeutingen, Bewegungshalle, Schulstraße 54, 74243 Langenbrettach
END:VEVENT
BEGIN:VEVENT
DTSTAMP:20260420T212858
DTSTART;TZID=Europe/Berlin:20260623T174500
DTEND;TZID=Europe/Berlin:20260623T184500
UID:261LB30111-20260623T174500@VHSUNTERLAND
DESCRIPTION:Ersatz für Ausfall am 24.02.2026
SUMMARY:Fit und Entspannt mit Pilates für Anfänger*innen und Wiedereinsteiger*innen (261LB30111) 
LOCATION:lb Grundschule Langenbeutingen, Bewegungshalle, Schulstraße 54, 74243 Langenbrettach
END:VEVENT
END:VCALENDAR