BEGIN:VCALENDAR
VERSION:2.0
PRODID:http://www.kufer.de/kuferweb / DE
METHOD:PUBLISH
CALSCALE:GREGORIAN
X-WR-TIMEZONE:Europe/Berlin
BEGIN:VTIMEZONE
TZID:Europe/Berlin
X-LIC-LOCATION:Europe/Berlin
BEGIN:DAYLIGHT
TZOFFSETFROM:+0100
TZOFFSETTO:+0200
TZNAME:CEST
DTSTART;TZID=Europe/Berlin:19700329T020000
RRULE:FREQ=YEARLY;INTERVAL=1;BYDAY=-1SU;BYMONTH=3
END:DAYLIGHT
BEGIN:STANDARD
TZOFFSETFROM:+0200
TZOFFSETTO:+0100
TZNAME:CET
DTSTART;TZID=Europe/Berlin:19701025T030000
RRULE:FREQ=YEARLY;INTERVAL=1;BYDAY=-1SU;BYMONTH=10
END:STANDARD
END:VTIMEZONE
BEGIN:VEVENT
DTSTAMP:20260419T174945
DTSTART;TZID=Europe/Berlin:20260205T190000
DTEND;TZID=Europe/Berlin:20260205T200000
UID:261LB30110-20260205T190000@VHSUNTERLAND
SUMMARY:Pilates und Rückenfit für Männer und Frauen (261LB30110) 
LOCATION:lb Grundschule Langenbeutingen, Bewegungshalle, Schulstraße 54, 74243 Langenbrettach
END:VEVENT
BEGIN:VEVENT
DTSTAMP:20260419T174945
DTSTART;TZID=Europe/Berlin:20260212T190000
DTEND;TZID=Europe/Berlin:20260212T200000
UID:261LB30110-20260212T190000@VHSUNTERLAND
SUMMARY:Pilates und Rückenfit für Männer und Frauen (261LB30110) 
LOCATION:lb Grundschule Langenbeutingen, Bewegungshalle, Schulstraße 54, 74243 Langenbrettach
END:VEVENT
BEGIN:VEVENT
DTSTAMP:20260419T174945
DTSTART;TZID=Europe/Berlin:20260305T190000
DTEND;TZID=Europe/Berlin:20260305T200000
UID:261LB30110-20260305T190000@VHSUNTERLAND
SUMMARY:Pilates und Rückenfit für Männer und Frauen (261LB30110) 
LOCATION:lb Grundschule Langenbeutingen, Bewegungshalle, Schulstraße 54, 74243 Langenbrettach
END:VEVENT
BEGIN:VEVENT
DTSTAMP:20260419T174945
DTSTART;TZID=Europe/Berlin:20260312T190000
DTEND;TZID=Europe/Berlin:20260312T200000
UID:261LB30110-20260312T190000@VHSUNTERLAND
SUMMARY:Pilates und Rückenfit für Männer und Frauen (261LB30110) 
LOCATION:lb Grundschule Langenbeutingen, Bewegungshalle, Schulstraße 54, 74243 Langenbrettach
END:VEVENT
BEGIN:VEVENT
DTSTAMP:20260419T174945
DTSTART;TZID=Europe/Berlin:20260319T190000
DTEND;TZID=Europe/Berlin:20260319T200000
UID:261LB30110-20260319T190000@VHSUNTERLAND
SUMMARY:Pilates und Rückenfit für Männer und Frauen (261LB30110) 
LOCATION:lb Grundschule Langenbeutingen, Bewegungshalle, Schulstraße 54, 74243 Langenbrettach
END:VEVENT
BEGIN:VEVENT
DTSTAMP:20260419T174945
DTSTART;TZID=Europe/Berlin:20260326T190000
DTEND;TZID=Europe/Berlin:20260326T200000
UID:261LB30110-20260326T190000@VHSUNTERLAND
SUMMARY:Pilates und Rückenfit für Männer und Frauen (261LB30110) 
LOCATION:lb Grundschule Langenbeutingen, Bewegungshalle, Schulstraße 54, 74243 Langenbrettach
END:VEVENT
BEGIN:VEVENT
DTSTAMP:20260419T174945
DTSTART;TZID=Europe/Berlin:20260416T190000
DTEND;TZID=Europe/Berlin:20260416T200000
UID:261LB30110-20260416T190000@VHSUNTERLAND
SUMMARY:Pilates und Rückenfit für Männer und Frauen (261LB30110) 
LOCATION:lb Grundschule Langenbeutingen, Bewegungshalle, Schulstraße 54, 74243 Langenbrettach
END:VEVENT
BEGIN:VEVENT
DTSTAMP:20260419T174945
DTSTART;TZID=Europe/Berlin:20260423T190000
DTEND;TZID=Europe/Berlin:20260423T200000
UID:261LB30110-20260423T190000@VHSUNTERLAND
SUMMARY:Pilates und Rückenfit für Männer und Frauen (261LB30110) 
LOCATION:lb Grundschule Langenbeutingen, Bewegungshalle, Schulstraße 54, 74243 Langenbrettach
END:VEVENT
BEGIN:VEVENT
DTSTAMP:20260419T174945
DTSTART;TZID=Europe/Berlin:20260430T190000
DTEND;TZID=Europe/Berlin:20260430T200000
UID:261LB30110-20260430T190000@VHSUNTERLAND
SUMMARY:Pilates und Rückenfit für Männer und Frauen (261LB30110) 
LOCATION:lb Grundschule Langenbeutingen, Bewegungshalle, Schulstraße 54, 74243 Langenbrettach
END:VEVENT
BEGIN:VEVENT
DTSTAMP:20260419T174945
DTSTART;TZID=Europe/Berlin:20260507T190000
DTEND;TZID=Europe/Berlin:20260507T200000
UID:261LB30110-20260507T190000@VHSUNTERLAND
SUMMARY:Pilates und Rückenfit für Männer und Frauen (261LB30110) 
LOCATION:lb Grundschule Langenbeutingen, Bewegungshalle, Schulstraße 54, 74243 Langenbrettach
END:VEVENT
BEGIN:VEVENT
DTSTAMP:20260419T174945
DTSTART;TZID=Europe/Berlin:20260521T190000
DTEND;TZID=Europe/Berlin:20260521T200000
UID:261LB30110-20260521T190000@VHSUNTERLAND
SUMMARY:Pilates und Rückenfit für Männer und Frauen (261LB30110) 
LOCATION:lb Grundschule Langenbeutingen, Bewegungshalle, Schulstraße 54, 74243 Langenbrettach
END:VEVENT
BEGIN:VEVENT
DTSTAMP:20260419T174945
DTSTART;TZID=Europe/Berlin:20260611T190000
DTEND;TZID=Europe/Berlin:20260611T200000
UID:261LB30110-20260611T190000@VHSUNTERLAND
SUMMARY:Pilates und Rückenfit für Männer und Frauen (261LB30110) 
LOCATION:lb Grundschule Langenbeutingen, Bewegungshalle, Schulstraße 54, 74243 Langenbrettach
END:VEVENT
BEGIN:VEVENT
DTSTAMP:20260419T174945
DTSTART;TZID=Europe/Berlin:20260618T190000
DTEND;TZID=Europe/Berlin:20260618T200000
UID:261LB30110-20260618T190000@VHSUNTERLAND
SUMMARY:Pilates und Rückenfit für Männer und Frauen (261LB30110) 
LOCATION:lb Grundschule Langenbeutingen, Bewegungshalle, Schulstraße 54, 74243 Langenbrettach
END:VEVENT
BEGIN:VEVENT
DTSTAMP:20260419T174945
DTSTART;TZID=Europe/Berlin:20260625T190000
DTEND;TZID=Europe/Berlin:20260625T200000
UID:261LB30110-20260625T190000@VHSUNTERLAND
DESCRIPTION:Ersatz für Ausfall am 26.02.2026
SUMMARY:Pilates und Rückenfit für Männer und Frauen (261LB30110) 
LOCATION:lb Grundschule Langenbeutingen, Bewegungshalle, Schulstraße 54, 74243 Langenbrettach
END:VEVENT
END:VCALENDAR