BEGIN:VCALENDAR
VERSION:2.0
PRODID:http://www.kufer.de/kuferweb / DE
METHOD:PUBLISH
CALSCALE:GREGORIAN
X-WR-TIMEZONE:Europe/Berlin
BEGIN:VTIMEZONE
TZID:Europe/Berlin
X-LIC-LOCATION:Europe/Berlin
BEGIN:DAYLIGHT
TZOFFSETFROM:+0100
TZOFFSETTO:+0200
TZNAME:CEST
DTSTART;TZID=Europe/Berlin:19700329T020000
RRULE:FREQ=YEARLY;INTERVAL=1;BYDAY=-1SU;BYMONTH=3
END:DAYLIGHT
BEGIN:STANDARD
TZOFFSETFROM:+0200
TZOFFSETTO:+0100
TZNAME:CET
DTSTART;TZID=Europe/Berlin:19701025T030000
RRULE:FREQ=YEARLY;INTERVAL=1;BYDAY=-1SU;BYMONTH=10
END:STANDARD
END:VTIMEZONE
BEGIN:VEVENT
DTSTAMP:20260420T230819
DTSTART;TZID=Europe/Berlin:20260225T090000
DTEND;TZID=Europe/Berlin:20260225T100000
UID:261LA30250-20260225T090000@VHSUNTERLAND
SUMMARY:Body – Fit & Style (261LA30250) 
LOCATION:la Musikschule, großer Saal, Südstraße 25, 74348 Lauffen a. N.
END:VEVENT
BEGIN:VEVENT
DTSTAMP:20260420T230819
DTSTART;TZID=Europe/Berlin:20260304T090000
DTEND;TZID=Europe/Berlin:20260304T100000
UID:261LA30250-20260304T090000@VHSUNTERLAND
SUMMARY:Body – Fit & Style (261LA30250) 
LOCATION:la Musikschule, großer Saal, Südstraße 25, 74348 Lauffen a. N.
END:VEVENT
BEGIN:VEVENT
DTSTAMP:20260420T230819
DTSTART;TZID=Europe/Berlin:20260311T090000
DTEND;TZID=Europe/Berlin:20260311T100000
UID:261LA30250-20260311T090000@VHSUNTERLAND
SUMMARY:Body – Fit & Style (261LA30250) 
LOCATION:la Musikschule, großer Saal, Südstraße 25, 74348 Lauffen a. N.
END:VEVENT
BEGIN:VEVENT
DTSTAMP:20260420T230819
DTSTART;TZID=Europe/Berlin:20260325T090000
DTEND;TZID=Europe/Berlin:20260325T100000
UID:261LA30250-20260325T090000@VHSUNTERLAND
SUMMARY:Body – Fit & Style (261LA30250) 
LOCATION:la Musikschule, großer Saal, Südstraße 25, 74348 Lauffen a. N.
END:VEVENT
BEGIN:VEVENT
DTSTAMP:20260420T230819
DTSTART;TZID=Europe/Berlin:20260415T090000
DTEND;TZID=Europe/Berlin:20260415T100000
UID:261LA30250-20260415T090000@VHSUNTERLAND
SUMMARY:Body – Fit & Style (261LA30250) 
LOCATION:la Musikschule, großer Saal, Südstraße 25, 74348 Lauffen a. N.
END:VEVENT
BEGIN:VEVENT
DTSTAMP:20260420T230819
DTSTART;TZID=Europe/Berlin:20260422T090000
DTEND;TZID=Europe/Berlin:20260422T100000
UID:261LA30250-20260422T090000@VHSUNTERLAND
SUMMARY:Body – Fit & Style (261LA30250) 
LOCATION:la Musikschule, großer Saal, Südstraße 25, 74348 Lauffen a. N.
END:VEVENT
BEGIN:VEVENT
DTSTAMP:20260420T230819
DTSTART;TZID=Europe/Berlin:20260429T090000
DTEND;TZID=Europe/Berlin:20260429T100000
UID:261LA30250-20260429T090000@VHSUNTERLAND
SUMMARY:Body – Fit & Style (261LA30250) 
LOCATION:la Musikschule, großer Saal, Südstraße 25, 74348 Lauffen a. N.
END:VEVENT
BEGIN:VEVENT
DTSTAMP:20260420T230819
DTSTART;TZID=Europe/Berlin:20260506T090000
DTEND;TZID=Europe/Berlin:20260506T100000
UID:261LA30250-20260506T090000@VHSUNTERLAND
SUMMARY:Body – Fit & Style (261LA30250) 
LOCATION:la Musikschule, großer Saal, Südstraße 25, 74348 Lauffen a. N.
END:VEVENT
BEGIN:VEVENT
DTSTAMP:20260420T230819
DTSTART;TZID=Europe/Berlin:20260603T090000
DTEND;TZID=Europe/Berlin:20260603T100000
UID:261LA30250-20260603T090000@VHSUNTERLAND
SUMMARY:Body – Fit & Style (261LA30250) 
LOCATION:la Musikschule, großer Saal, Südstraße 25, 74348 Lauffen a. N.
END:VEVENT
BEGIN:VEVENT
DTSTAMP:20260420T230819
DTSTART;TZID=Europe/Berlin:20260610T090000
DTEND;TZID=Europe/Berlin:20260610T100000
UID:261LA30250-20260610T090000@VHSUNTERLAND
SUMMARY:Body – Fit & Style (261LA30250) 
LOCATION:la Musikschule, großer Saal, Südstraße 25, 74348 Lauffen a. N.
END:VEVENT
BEGIN:VEVENT
DTSTAMP:20260420T230819
DTSTART;TZID=Europe/Berlin:20260624T090000
DTEND;TZID=Europe/Berlin:20260624T100000
UID:261LA30250-20260624T090000@VHSUNTERLAND
SUMMARY:Body – Fit & Style (261LA30250) 
LOCATION:la Musikschule, großer Saal, Südstraße 25, 74348 Lauffen a. N.
END:VEVENT
END:VCALENDAR