BEGIN:VCALENDAR
VERSION:2.0
PRODID:http://www.kufer.de/kuferweb / DE
METHOD:PUBLISH
CALSCALE:GREGORIAN
X-WR-TIMEZONE:Europe/Berlin
BEGIN:VTIMEZONE
TZID:Europe/Berlin
X-LIC-LOCATION:Europe/Berlin
BEGIN:DAYLIGHT
TZOFFSETFROM:+0100
TZOFFSETTO:+0200
TZNAME:CEST
DTSTART;TZID=Europe/Berlin:19700329T020000
RRULE:FREQ=YEARLY;INTERVAL=1;BYDAY=-1SU;BYMONTH=3
END:DAYLIGHT
BEGIN:STANDARD
TZOFFSETFROM:+0200
TZOFFSETTO:+0100
TZNAME:CET
DTSTART;TZID=Europe/Berlin:19701025T030000
RRULE:FREQ=YEARLY;INTERVAL=1;BYDAY=-1SU;BYMONTH=10
END:STANDARD
END:VTIMEZONE
BEGIN:VEVENT
DTSTAMP:20260421T212335
DTSTART;TZID=Europe/Berlin:20260224T175500
DTEND;TZID=Europe/Berlin:20260224T185500
UID:261LA30221-20260224T175500@VHSUNTERLAND
SUMMARY:Wirbelsäulenfitness (261LA30221) 
LOCATION:la Kiga Generationenquartier, Bewegungsraum, Bismarckstraße 20, 74348 Lauffen
END:VEVENT
BEGIN:VEVENT
DTSTAMP:20260421T212335
DTSTART;TZID=Europe/Berlin:20260303T175500
DTEND;TZID=Europe/Berlin:20260303T185500
UID:261LA30221-20260303T175500@VHSUNTERLAND
SUMMARY:Wirbelsäulenfitness (261LA30221) 
LOCATION:la Kiga Generationenquartier, Bewegungsraum, Bismarckstraße 20, 74348 Lauffen
END:VEVENT
BEGIN:VEVENT
DTSTAMP:20260421T212335
DTSTART;TZID=Europe/Berlin:20260310T175500
DTEND;TZID=Europe/Berlin:20260310T185500
UID:261LA30221-20260310T175500@VHSUNTERLAND
SUMMARY:Wirbelsäulenfitness (261LA30221) 
LOCATION:la Kiga Generationenquartier, Bewegungsraum, Bismarckstraße 20, 74348 Lauffen
END:VEVENT
BEGIN:VEVENT
DTSTAMP:20260421T212335
DTSTART;TZID=Europe/Berlin:20260317T175500
DTEND;TZID=Europe/Berlin:20260317T185500
UID:261LA30221-20260317T175500@VHSUNTERLAND
SUMMARY:Wirbelsäulenfitness (261LA30221) 
LOCATION:la Kiga Generationenquartier, Bewegungsraum, Bismarckstraße 20, 74348 Lauffen
END:VEVENT
BEGIN:VEVENT
DTSTAMP:20260421T212335
DTSTART;TZID=Europe/Berlin:20260324T175500
DTEND;TZID=Europe/Berlin:20260324T185500
UID:261LA30221-20260324T175500@VHSUNTERLAND
SUMMARY:Wirbelsäulenfitness (261LA30221) 
LOCATION:la Kiga Generationenquartier, Bewegungsraum, Bismarckstraße 20, 74348 Lauffen
END:VEVENT
BEGIN:VEVENT
DTSTAMP:20260421T212335
DTSTART;TZID=Europe/Berlin:20260414T175500
DTEND;TZID=Europe/Berlin:20260414T185500
UID:261LA30221-20260414T175500@VHSUNTERLAND
SUMMARY:Wirbelsäulenfitness (261LA30221) 
LOCATION:la Kiga Generationenquartier, Bewegungsraum, Bismarckstraße 20, 74348 Lauffen
END:VEVENT
BEGIN:VEVENT
DTSTAMP:20260421T212335
DTSTART;TZID=Europe/Berlin:20260421T175500
DTEND;TZID=Europe/Berlin:20260421T185500
UID:261LA30221-20260421T175500@VHSUNTERLAND
SUMMARY:Wirbelsäulenfitness (261LA30221) 
LOCATION:la Kiga Generationenquartier, Bewegungsraum, Bismarckstraße 20, 74348 Lauffen
END:VEVENT
BEGIN:VEVENT
DTSTAMP:20260421T212335
DTSTART;TZID=Europe/Berlin:20260428T175500
DTEND;TZID=Europe/Berlin:20260428T185500
UID:261LA30221-20260428T175500@VHSUNTERLAND
SUMMARY:Wirbelsäulenfitness (261LA30221) 
LOCATION:la Kiga Generationenquartier, Bewegungsraum, Bismarckstraße 20, 74348 Lauffen
END:VEVENT
BEGIN:VEVENT
DTSTAMP:20260421T212335
DTSTART;TZID=Europe/Berlin:20260505T175500
DTEND;TZID=Europe/Berlin:20260505T185500
UID:261LA30221-20260505T175500@VHSUNTERLAND
SUMMARY:Wirbelsäulenfitness (261LA30221) 
LOCATION:la Kiga Generationenquartier, Bewegungsraum, Bismarckstraße 20, 74348 Lauffen
END:VEVENT
BEGIN:VEVENT
DTSTAMP:20260421T212335
DTSTART;TZID=Europe/Berlin:20260512T175500
DTEND;TZID=Europe/Berlin:20260512T185500
UID:261LA30221-20260512T175500@VHSUNTERLAND
SUMMARY:Wirbelsäulenfitness (261LA30221) 
LOCATION:la Kiga Generationenquartier, Bewegungsraum, Bismarckstraße 20, 74348 Lauffen
END:VEVENT
BEGIN:VEVENT
DTSTAMP:20260421T212335
DTSTART;TZID=Europe/Berlin:20260519T175500
DTEND;TZID=Europe/Berlin:20260519T185500
UID:261LA30221-20260519T175500@VHSUNTERLAND
SUMMARY:Wirbelsäulenfitness (261LA30221) 
LOCATION:la Kiga Generationenquartier, Bewegungsraum, Bismarckstraße 20, 74348 Lauffen
END:VEVENT
BEGIN:VEVENT
DTSTAMP:20260421T212335
DTSTART;TZID=Europe/Berlin:20260609T175500
DTEND;TZID=Europe/Berlin:20260609T185500
UID:261LA30221-20260609T175500@VHSUNTERLAND
SUMMARY:Wirbelsäulenfitness (261LA30221) 
LOCATION:la Kiga Generationenquartier, Bewegungsraum, Bismarckstraße 20, 74348 Lauffen
END:VEVENT
END:VCALENDAR