BEGIN:VCALENDAR
VERSION:2.0
PRODID:http://www.kufer.de/kuferweb / DE
METHOD:PUBLISH
CALSCALE:GREGORIAN
X-WR-TIMEZONE:Europe/Berlin
BEGIN:VTIMEZONE
TZID:Europe/Berlin
X-LIC-LOCATION:Europe/Berlin
BEGIN:DAYLIGHT
TZOFFSETFROM:+0100
TZOFFSETTO:+0200
TZNAME:CEST
DTSTART;TZID=Europe/Berlin:19700329T020000
RRULE:FREQ=YEARLY;INTERVAL=1;BYDAY=-1SU;BYMONTH=3
END:DAYLIGHT
BEGIN:STANDARD
TZOFFSETFROM:+0200
TZOFFSETTO:+0100
TZNAME:CET
DTSTART;TZID=Europe/Berlin:19701025T030000
RRULE:FREQ=YEARLY;INTERVAL=1;BYDAY=-1SU;BYMONTH=10
END:STANDARD
END:VTIMEZONE
BEGIN:VEVENT
DTSTAMP:20260420T185433
DTSTART;TZID=Europe/Berlin:20260511T201000
DTEND;TZID=Europe/Berlin:20260511T212500
UID:261LA30161-20260511T201000@VHSUNTERLAND
SUMMARY:Entdecke neue Bewegungsmöglichkeiten mit der Feldenkrais-Methode (261LA30161) 
LOCATION:la Musikschule, Raum 1.6, Südstraße 25, 74348 Lauffen a. N.
END:VEVENT
BEGIN:VEVENT
DTSTAMP:20260420T185433
DTSTART;TZID=Europe/Berlin:20260518T201000
DTEND;TZID=Europe/Berlin:20260518T212500
UID:261LA30161-20260518T201000@VHSUNTERLAND
SUMMARY:Entdecke neue Bewegungsmöglichkeiten mit der Feldenkrais-Methode (261LA30161) 
LOCATION:la Musikschule, Raum 1.6, Südstraße 25, 74348 Lauffen a. N.
END:VEVENT
BEGIN:VEVENT
DTSTAMP:20260420T185433
DTSTART;TZID=Europe/Berlin:20260608T201000
DTEND;TZID=Europe/Berlin:20260608T212500
UID:261LA30161-20260608T201000@VHSUNTERLAND
SUMMARY:Entdecke neue Bewegungsmöglichkeiten mit der Feldenkrais-Methode (261LA30161) 
LOCATION:la Musikschule, Raum 1.6, Südstraße 25, 74348 Lauffen a. N.
END:VEVENT
BEGIN:VEVENT
DTSTAMP:20260420T185433
DTSTART;TZID=Europe/Berlin:20260615T201000
DTEND;TZID=Europe/Berlin:20260615T212500
UID:261LA30161-20260615T201000@VHSUNTERLAND
SUMMARY:Entdecke neue Bewegungsmöglichkeiten mit der Feldenkrais-Methode (261LA30161) 
LOCATION:la Musikschule, Raum 1.6, Südstraße 25, 74348 Lauffen a. N.
END:VEVENT
BEGIN:VEVENT
DTSTAMP:20260420T185433
DTSTART;TZID=Europe/Berlin:20260622T201000
DTEND;TZID=Europe/Berlin:20260622T212500
UID:261LA30161-20260622T201000@VHSUNTERLAND
SUMMARY:Entdecke neue Bewegungsmöglichkeiten mit der Feldenkrais-Methode (261LA30161) 
LOCATION:la Musikschule, Raum 1.6, Südstraße 25, 74348 Lauffen a. N.
END:VEVENT
BEGIN:VEVENT
DTSTAMP:20260420T185433
DTSTART;TZID=Europe/Berlin:20260629T201000
DTEND;TZID=Europe/Berlin:20260629T212500
UID:261LA30161-20260629T201000@VHSUNTERLAND
SUMMARY:Entdecke neue Bewegungsmöglichkeiten mit der Feldenkrais-Methode (261LA30161) 
LOCATION:la Musikschule, Raum 1.6, Südstraße 25, 74348 Lauffen a. N.
END:VEVENT
BEGIN:VEVENT
DTSTAMP:20260420T185433
DTSTART;TZID=Europe/Berlin:20260706T201000
DTEND;TZID=Europe/Berlin:20260706T212500
UID:261LA30161-20260706T201000@VHSUNTERLAND
SUMMARY:Entdecke neue Bewegungsmöglichkeiten mit der Feldenkrais-Methode (261LA30161) 
LOCATION:la Musikschule, Raum 1.6, Südstraße 25, 74348 Lauffen a. N.
END:VEVENT
BEGIN:VEVENT
DTSTAMP:20260420T185433
DTSTART;TZID=Europe/Berlin:20260713T201000
DTEND;TZID=Europe/Berlin:20260713T212500
UID:261LA30161-20260713T201000@VHSUNTERLAND
SUMMARY:Entdecke neue Bewegungsmöglichkeiten mit der Feldenkrais-Methode (261LA30161) 
LOCATION:la Musikschule, Raum 1.6, Südstraße 25, 74348 Lauffen a. N.
END:VEVENT
BEGIN:VEVENT
DTSTAMP:20260420T185433
DTSTART;TZID=Europe/Berlin:20260720T201000
DTEND;TZID=Europe/Berlin:20260720T212500
UID:261LA30161-20260720T201000@VHSUNTERLAND
SUMMARY:Entdecke neue Bewegungsmöglichkeiten mit der Feldenkrais-Methode (261LA30161) 
LOCATION:la Musikschule, Raum 1.6, Südstraße 25, 74348 Lauffen a. N.
END:VEVENT
END:VCALENDAR