BEGIN:VCALENDAR
VERSION:2.0
PRODID:http://www.kufer.de/kuferweb / DE
METHOD:PUBLISH
CALSCALE:GREGORIAN
X-WR-TIMEZONE:Europe/Berlin
BEGIN:VTIMEZONE
TZID:Europe/Berlin
X-LIC-LOCATION:Europe/Berlin
BEGIN:DAYLIGHT
TZOFFSETFROM:+0100
TZOFFSETTO:+0200
TZNAME:CEST
DTSTART;TZID=Europe/Berlin:19700329T020000
RRULE:FREQ=YEARLY;INTERVAL=1;BYDAY=-1SU;BYMONTH=3
END:DAYLIGHT
BEGIN:STANDARD
TZOFFSETFROM:+0200
TZOFFSETTO:+0100
TZNAME:CET
DTSTART;TZID=Europe/Berlin:19701025T030000
RRULE:FREQ=YEARLY;INTERVAL=1;BYDAY=-1SU;BYMONTH=10
END:STANDARD
END:VTIMEZONE
BEGIN:VEVENT
DTSTAMP:20260421T212327
DTSTART;TZID=Europe/Berlin:20260223T090000
DTEND;TZID=Europe/Berlin:20260223T101500
UID:261LA30150-20260223T090000@VHSUNTERLAND
SUMMARY:Qi Gong am Vormittag für Fortgeschrittene (261LA30150) 
LOCATION:la Musikschule, Raum 1.6, Südstraße 25, 74348 Lauffen a. N.
END:VEVENT
BEGIN:VEVENT
DTSTAMP:20260421T212327
DTSTART;TZID=Europe/Berlin:20260302T090000
DTEND;TZID=Europe/Berlin:20260302T101500
UID:261LA30150-20260302T090000@VHSUNTERLAND
SUMMARY:Qi Gong am Vormittag für Fortgeschrittene (261LA30150) 
LOCATION:la Musikschule, Raum 1.6, Südstraße 25, 74348 Lauffen a. N.
END:VEVENT
BEGIN:VEVENT
DTSTAMP:20260421T212327
DTSTART;TZID=Europe/Berlin:20260309T090000
DTEND;TZID=Europe/Berlin:20260309T101500
UID:261LA30150-20260309T090000@VHSUNTERLAND
SUMMARY:Qi Gong am Vormittag für Fortgeschrittene (261LA30150) 
LOCATION:la Musikschule, Raum 1.6, Südstraße 25, 74348 Lauffen a. N.
END:VEVENT
BEGIN:VEVENT
DTSTAMP:20260421T212327
DTSTART;TZID=Europe/Berlin:20260316T090000
DTEND;TZID=Europe/Berlin:20260316T101500
UID:261LA30150-20260316T090000@VHSUNTERLAND
SUMMARY:Qi Gong am Vormittag für Fortgeschrittene (261LA30150) 
LOCATION:la Musikschule, Raum 1.6, Südstraße 25, 74348 Lauffen a. N.
END:VEVENT
BEGIN:VEVENT
DTSTAMP:20260421T212327
DTSTART;TZID=Europe/Berlin:20260323T090000
DTEND;TZID=Europe/Berlin:20260323T101500
UID:261LA30150-20260323T090000@VHSUNTERLAND
SUMMARY:Qi Gong am Vormittag für Fortgeschrittene (261LA30150) 
LOCATION:la Musikschule, Raum 1.6, Südstraße 25, 74348 Lauffen a. N.
END:VEVENT
BEGIN:VEVENT
DTSTAMP:20260421T212327
DTSTART;TZID=Europe/Berlin:20260413T090000
DTEND;TZID=Europe/Berlin:20260413T101500
UID:261LA30150-20260413T090000@VHSUNTERLAND
SUMMARY:Qi Gong am Vormittag für Fortgeschrittene (261LA30150) 
LOCATION:la Musikschule, Raum 1.6, Südstraße 25, 74348 Lauffen a. N.
END:VEVENT
BEGIN:VEVENT
DTSTAMP:20260421T212327
DTSTART;TZID=Europe/Berlin:20260420T090000
DTEND;TZID=Europe/Berlin:20260420T101500
UID:261LA30150-20260420T090000@VHSUNTERLAND
SUMMARY:Qi Gong am Vormittag für Fortgeschrittene (261LA30150) 
LOCATION:la Musikschule, Raum 1.6, Südstraße 25, 74348 Lauffen a. N.
END:VEVENT
BEGIN:VEVENT
DTSTAMP:20260421T212327
DTSTART;TZID=Europe/Berlin:20260427T090000
DTEND;TZID=Europe/Berlin:20260427T101500
UID:261LA30150-20260427T090000@VHSUNTERLAND
SUMMARY:Qi Gong am Vormittag für Fortgeschrittene (261LA30150) 
LOCATION:la Musikschule, Raum 1.6, Südstraße 25, 74348 Lauffen a. N.
END:VEVENT
BEGIN:VEVENT
DTSTAMP:20260421T212327
DTSTART;TZID=Europe/Berlin:20260504T090000
DTEND;TZID=Europe/Berlin:20260504T101500
UID:261LA30150-20260504T090000@VHSUNTERLAND
SUMMARY:Qi Gong am Vormittag für Fortgeschrittene (261LA30150) 
LOCATION:la Musikschule, Raum 1.6, Südstraße 25, 74348 Lauffen a. N.
END:VEVENT
BEGIN:VEVENT
DTSTAMP:20260421T212327
DTSTART;TZID=Europe/Berlin:20260511T090000
DTEND;TZID=Europe/Berlin:20260511T101500
UID:261LA30150-20260511T090000@VHSUNTERLAND
SUMMARY:Qi Gong am Vormittag für Fortgeschrittene (261LA30150) 
LOCATION:la Musikschule, Raum 1.6, Südstraße 25, 74348 Lauffen a. N.
END:VEVENT
BEGIN:VEVENT
DTSTAMP:20260421T212327
DTSTART;TZID=Europe/Berlin:20260518T090000
DTEND;TZID=Europe/Berlin:20260518T101500
UID:261LA30150-20260518T090000@VHSUNTERLAND
SUMMARY:Qi Gong am Vormittag für Fortgeschrittene (261LA30150) 
LOCATION:la Musikschule, Raum 1.6, Südstraße 25, 74348 Lauffen a. N.
END:VEVENT
BEGIN:VEVENT
DTSTAMP:20260421T212327
DTSTART;TZID=Europe/Berlin:20260608T090000
DTEND;TZID=Europe/Berlin:20260608T101500
UID:261LA30150-20260608T090000@VHSUNTERLAND
SUMMARY:Qi Gong am Vormittag für Fortgeschrittene (261LA30150) 
LOCATION:la Musikschule, Raum 1.6, Südstraße 25, 74348 Lauffen a. N.
END:VEVENT
END:VCALENDAR