BEGIN:VCALENDAR
VERSION:2.0
PRODID:http://www.kufer.de/kuferweb / DE
METHOD:PUBLISH
CALSCALE:GREGORIAN
X-WR-TIMEZONE:Europe/Berlin
BEGIN:VTIMEZONE
TZID:Europe/Berlin
X-LIC-LOCATION:Europe/Berlin
BEGIN:DAYLIGHT
TZOFFSETFROM:+0100
TZOFFSETTO:+0200
TZNAME:CEST
DTSTART;TZID=Europe/Berlin:19700329T020000
RRULE:FREQ=YEARLY;INTERVAL=1;BYDAY=-1SU;BYMONTH=3
END:DAYLIGHT
BEGIN:STANDARD
TZOFFSETFROM:+0200
TZOFFSETTO:+0100
TZNAME:CET
DTSTART;TZID=Europe/Berlin:19701025T030000
RRULE:FREQ=YEARLY;INTERVAL=1;BYDAY=-1SU;BYMONTH=10
END:STANDARD
END:VTIMEZONE
BEGIN:VEVENT
DTSTAMP:20260422T110603
DTSTART;TZID=Europe/Berlin:20260224T200000
DTEND;TZID=Europe/Berlin:20260224T211500
UID:261LA30132-20260224T200000@VHSUNTERLAND
SUMMARY:Hatha Yoga (261LA30132) 
LOCATION:la Herzog-Ulrich-GS, Gymnastikraum, Ludwigstraße 1, 74348 Lauffen a. N.
END:VEVENT
BEGIN:VEVENT
DTSTAMP:20260422T110603
DTSTART;TZID=Europe/Berlin:20260303T200000
DTEND;TZID=Europe/Berlin:20260303T211500
UID:261LA30132-20260303T200000@VHSUNTERLAND
SUMMARY:Hatha Yoga (261LA30132) 
LOCATION:la Herzog-Ulrich-GS, Gymnastikraum, Ludwigstraße 1, 74348 Lauffen a. N.
END:VEVENT
BEGIN:VEVENT
DTSTAMP:20260422T110603
DTSTART;TZID=Europe/Berlin:20260310T200000
DTEND;TZID=Europe/Berlin:20260310T211500
UID:261LA30132-20260310T200000@VHSUNTERLAND
SUMMARY:Hatha Yoga (261LA30132) 
LOCATION:la Herzog-Ulrich-GS, Gymnastikraum, Ludwigstraße 1, 74348 Lauffen a. N.
END:VEVENT
BEGIN:VEVENT
DTSTAMP:20260422T110603
DTSTART;TZID=Europe/Berlin:20260317T200000
DTEND;TZID=Europe/Berlin:20260317T211500
UID:261LA30132-20260317T200000@VHSUNTERLAND
SUMMARY:Hatha Yoga (261LA30132) 
LOCATION:la Herzog-Ulrich-GS, Gymnastikraum, Ludwigstraße 1, 74348 Lauffen a. N.
END:VEVENT
BEGIN:VEVENT
DTSTAMP:20260422T110603
DTSTART;TZID=Europe/Berlin:20260324T200000
DTEND;TZID=Europe/Berlin:20260324T211500
UID:261LA30132-20260324T200000@VHSUNTERLAND
SUMMARY:Hatha Yoga (261LA30132) 
LOCATION:la Herzog-Ulrich-GS, Gymnastikraum, Ludwigstraße 1, 74348 Lauffen a. N.
END:VEVENT
BEGIN:VEVENT
DTSTAMP:20260422T110603
DTSTART;TZID=Europe/Berlin:20260414T200000
DTEND;TZID=Europe/Berlin:20260414T211500
UID:261LA30132-20260414T200000@VHSUNTERLAND
SUMMARY:Hatha Yoga (261LA30132) 
LOCATION:la Herzog-Ulrich-GS, Gymnastikraum, Ludwigstraße 1, 74348 Lauffen a. N.
END:VEVENT
BEGIN:VEVENT
DTSTAMP:20260422T110603
DTSTART;TZID=Europe/Berlin:20260421T200000
DTEND;TZID=Europe/Berlin:20260421T211500
UID:261LA30132-20260421T200000@VHSUNTERLAND
SUMMARY:Hatha Yoga (261LA30132) 
LOCATION:la Herzog-Ulrich-GS, Gymnastikraum, Ludwigstraße 1, 74348 Lauffen a. N.
END:VEVENT
BEGIN:VEVENT
DTSTAMP:20260422T110603
DTSTART;TZID=Europe/Berlin:20260428T200000
DTEND;TZID=Europe/Berlin:20260428T211500
UID:261LA30132-20260428T200000@VHSUNTERLAND
SUMMARY:Hatha Yoga (261LA30132) 
LOCATION:la Herzog-Ulrich-GS, Gymnastikraum, Ludwigstraße 1, 74348 Lauffen a. N.
END:VEVENT
BEGIN:VEVENT
DTSTAMP:20260422T110603
DTSTART;TZID=Europe/Berlin:20260505T200000
DTEND;TZID=Europe/Berlin:20260505T211500
UID:261LA30132-20260505T200000@VHSUNTERLAND
SUMMARY:Hatha Yoga (261LA30132) 
LOCATION:la Herzog-Ulrich-GS, Gymnastikraum, Ludwigstraße 1, 74348 Lauffen a. N.
END:VEVENT
BEGIN:VEVENT
DTSTAMP:20260422T110603
DTSTART;TZID=Europe/Berlin:20260512T200000
DTEND;TZID=Europe/Berlin:20260512T211500
UID:261LA30132-20260512T200000@VHSUNTERLAND
SUMMARY:Hatha Yoga (261LA30132) 
LOCATION:la Herzog-Ulrich-GS, Gymnastikraum, Ludwigstraße 1, 74348 Lauffen a. N.
END:VEVENT
END:VCALENDAR