BEGIN:VCALENDAR
VERSION:2.0
PRODID:http://www.kufer.de/kuferweb / DE
METHOD:PUBLISH
CALSCALE:GREGORIAN
X-WR-TIMEZONE:Europe/Berlin
BEGIN:VTIMEZONE
TZID:Europe/Berlin
X-LIC-LOCATION:Europe/Berlin
BEGIN:DAYLIGHT
TZOFFSETFROM:+0100
TZOFFSETTO:+0200
TZNAME:CEST
DTSTART;TZID=Europe/Berlin:19700329T020000
RRULE:FREQ=YEARLY;INTERVAL=1;BYDAY=-1SU;BYMONTH=3
END:DAYLIGHT
BEGIN:STANDARD
TZOFFSETFROM:+0200
TZOFFSETTO:+0100
TZNAME:CET
DTSTART;TZID=Europe/Berlin:19701025T030000
RRULE:FREQ=YEARLY;INTERVAL=1;BYDAY=-1SU;BYMONTH=10
END:STANDARD
END:VTIMEZONE
BEGIN:VEVENT
DTSTAMP:20260422T094538
DTSTART;TZID=Europe/Berlin:20260306T171500
DTEND;TZID=Europe/Berlin:20260306T181500
UID:261LA20585-20260306T171500@VHSUNTERLAND
SUMMARY:Kindertanz im klassischen Stil für Kinder ab 6 Jahren für Anfänger*innen (261LA20585) 
LOCATION:la Hölderlin-Sporthalle, Gymnastiksaal, Hölderlinstr. 35, 74348 Lauffen a. N.
END:VEVENT
BEGIN:VEVENT
DTSTAMP:20260422T094538
DTSTART;TZID=Europe/Berlin:20260313T171500
DTEND;TZID=Europe/Berlin:20260313T181500
UID:261LA20585-20260313T171500@VHSUNTERLAND
SUMMARY:Kindertanz im klassischen Stil für Kinder ab 6 Jahren für Anfänger*innen (261LA20585) 
LOCATION:la Hölderlin-Sporthalle, Gymnastiksaal, Hölderlinstr. 35, 74348 Lauffen a. N.
END:VEVENT
BEGIN:VEVENT
DTSTAMP:20260422T094538
DTSTART;TZID=Europe/Berlin:20260320T171500
DTEND;TZID=Europe/Berlin:20260320T181500
UID:261LA20585-20260320T171500@VHSUNTERLAND
SUMMARY:Kindertanz im klassischen Stil für Kinder ab 6 Jahren für Anfänger*innen (261LA20585) 
LOCATION:la Hölderlin-Sporthalle, Gymnastiksaal, Hölderlinstr. 35, 74348 Lauffen a. N.
END:VEVENT
BEGIN:VEVENT
DTSTAMP:20260422T094538
DTSTART;TZID=Europe/Berlin:20260327T171500
DTEND;TZID=Europe/Berlin:20260327T181500
UID:261LA20585-20260327T171500@VHSUNTERLAND
SUMMARY:Kindertanz im klassischen Stil für Kinder ab 6 Jahren für Anfänger*innen (261LA20585) 
LOCATION:la Hölderlin-Sporthalle, Gymnastiksaal, Hölderlinstr. 35, 74348 Lauffen a. N.
END:VEVENT
BEGIN:VEVENT
DTSTAMP:20260422T094538
DTSTART;TZID=Europe/Berlin:20260424T171500
DTEND;TZID=Europe/Berlin:20260424T181500
UID:261LA20585-20260424T171500@VHSUNTERLAND
SUMMARY:Kindertanz im klassischen Stil für Kinder ab 6 Jahren für Anfänger*innen (261LA20585) 
LOCATION:la Hölderlin-Sporthalle, Gymnastiksaal, Hölderlinstr. 35, 74348 Lauffen a. N.
END:VEVENT
BEGIN:VEVENT
DTSTAMP:20260422T094538
DTSTART;TZID=Europe/Berlin:20260508T171500
DTEND;TZID=Europe/Berlin:20260508T181500
UID:261LA20585-20260508T171500@VHSUNTERLAND
SUMMARY:Kindertanz im klassischen Stil für Kinder ab 6 Jahren für Anfänger*innen (261LA20585) 
LOCATION:la Hölderlin-Sporthalle, Gymnastiksaal, Hölderlinstr. 35, 74348 Lauffen a. N.
END:VEVENT
BEGIN:VEVENT
DTSTAMP:20260422T094538
DTSTART;TZID=Europe/Berlin:20260515T171500
DTEND;TZID=Europe/Berlin:20260515T181500
UID:261LA20585-20260515T171500@VHSUNTERLAND
SUMMARY:Kindertanz im klassischen Stil für Kinder ab 6 Jahren für Anfänger*innen (261LA20585) 
LOCATION:la Hölderlin-Sporthalle, Gymnastiksaal, Hölderlinstr. 35, 74348 Lauffen a. N.
END:VEVENT
BEGIN:VEVENT
DTSTAMP:20260422T094538
DTSTART;TZID=Europe/Berlin:20260522T171500
DTEND;TZID=Europe/Berlin:20260522T181500
UID:261LA20585-20260522T171500@VHSUNTERLAND
SUMMARY:Kindertanz im klassischen Stil für Kinder ab 6 Jahren für Anfänger*innen (261LA20585) 
LOCATION:la Hölderlin-Sporthalle, Gymnastiksaal, Hölderlinstr. 35, 74348 Lauffen a. N.
END:VEVENT
BEGIN:VEVENT
DTSTAMP:20260422T094538
DTSTART;TZID=Europe/Berlin:20260612T171500
DTEND;TZID=Europe/Berlin:20260612T181500
UID:261LA20585-20260612T171500@VHSUNTERLAND
SUMMARY:Kindertanz im klassischen Stil für Kinder ab 6 Jahren für Anfänger*innen (261LA20585) 
LOCATION:la Hölderlin-Sporthalle, Gymnastiksaal, Hölderlinstr. 35, 74348 Lauffen a. N.
END:VEVENT
BEGIN:VEVENT
DTSTAMP:20260422T094538
DTSTART;TZID=Europe/Berlin:20260619T171500
DTEND;TZID=Europe/Berlin:20260619T181500
UID:261LA20585-20260619T171500@VHSUNTERLAND
SUMMARY:Kindertanz im klassischen Stil für Kinder ab 6 Jahren für Anfänger*innen (261LA20585) 
LOCATION:la Hölderlin-Sporthalle, Gymnastiksaal, Hölderlinstr. 35, 74348 Lauffen a. N.
END:VEVENT
BEGIN:VEVENT
DTSTAMP:20260422T094538
DTSTART;TZID=Europe/Berlin:20260626T171500
DTEND;TZID=Europe/Berlin:20260626T181500
UID:261LA20585-20260626T171500@VHSUNTERLAND
SUMMARY:Kindertanz im klassischen Stil für Kinder ab 6 Jahren für Anfänger*innen (261LA20585) 
LOCATION:la Hölderlin-Sporthalle, Gymnastiksaal, Hölderlinstr. 35, 74348 Lauffen a. N.
END:VEVENT
BEGIN:VEVENT
DTSTAMP:20260422T094538
DTSTART;TZID=Europe/Berlin:20260703T171500
DTEND;TZID=Europe/Berlin:20260703T181500
UID:261LA20585-20260703T171500@VHSUNTERLAND
SUMMARY:Kindertanz im klassischen Stil für Kinder ab 6 Jahren für Anfänger*innen (261LA20585) 
LOCATION:la Hölderlin-Sporthalle, Gymnastiksaal, Hölderlinstr. 35, 74348 Lauffen a. N.
END:VEVENT
BEGIN:VEVENT
DTSTAMP:20260422T094538
DTSTART;TZID=Europe/Berlin:20260710T171500
DTEND;TZID=Europe/Berlin:20260710T181500
UID:261LA20585-20260710T171500@VHSUNTERLAND
SUMMARY:Kindertanz im klassischen Stil für Kinder ab 6 Jahren für Anfänger*innen (261LA20585) 
LOCATION:la Hölderlin-Sporthalle, Gymnastiksaal, Hölderlinstr. 35, 74348 Lauffen a. N.
END:VEVENT
BEGIN:VEVENT
DTSTAMP:20260422T094538
DTSTART;TZID=Europe/Berlin:20260717T171500
DTEND;TZID=Europe/Berlin:20260717T181500
UID:261LA20585-20260717T171500@VHSUNTERLAND
DESCRIPTION:Ersatz für Ausfall am 17.04.2026
SUMMARY:Kindertanz im klassischen Stil für Kinder ab 6 Jahren für Anfänger*innen (261LA20585) 
LOCATION:la Hölderlin-Sporthalle, Gymnastiksaal, Hölderlinstr. 35, 74348 Lauffen a. N.
END:VEVENT
END:VCALENDAR