BEGIN:VCALENDAR
VERSION:2.0
PRODID:http://www.kufer.de/kuferweb / DE
METHOD:PUBLISH
CALSCALE:GREGORIAN
X-WR-TIMEZONE:Europe/Berlin
BEGIN:VTIMEZONE
TZID:Europe/Berlin
X-LIC-LOCATION:Europe/Berlin
BEGIN:DAYLIGHT
TZOFFSETFROM:+0100
TZOFFSETTO:+0200
TZNAME:CEST
DTSTART;TZID=Europe/Berlin:19700329T020000
RRULE:FREQ=YEARLY;INTERVAL=1;BYDAY=-1SU;BYMONTH=3
END:DAYLIGHT
BEGIN:STANDARD
TZOFFSETFROM:+0200
TZOFFSETTO:+0100
TZNAME:CET
DTSTART;TZID=Europe/Berlin:19701025T030000
RRULE:FREQ=YEARLY;INTERVAL=1;BYDAY=-1SU;BYMONTH=10
END:STANDARD
END:VTIMEZONE
BEGIN:VEVENT
DTSTAMP:20260423T101610
DTSTART;TZID=Europe/Berlin:20260306T160000
DTEND;TZID=Europe/Berlin:20260306T170000
UID:261LA20580-20260306T160000@VHSUNTERLAND
SUMMARY:Kindertanz im klassischen Stil für Kinder ab 4 Jahren für Anfänger*innen (261LA20580) 
LOCATION:la Hölderlin-Sporthalle, Gymnastiksaal, Hölderlinstr. 35, 74348 Lauffen a. N.
END:VEVENT
BEGIN:VEVENT
DTSTAMP:20260423T101610
DTSTART;TZID=Europe/Berlin:20260313T160000
DTEND;TZID=Europe/Berlin:20260313T170000
UID:261LA20580-20260313T160000@VHSUNTERLAND
SUMMARY:Kindertanz im klassischen Stil für Kinder ab 4 Jahren für Anfänger*innen (261LA20580) 
LOCATION:la Hölderlin-Sporthalle, Gymnastiksaal, Hölderlinstr. 35, 74348 Lauffen a. N.
END:VEVENT
BEGIN:VEVENT
DTSTAMP:20260423T101610
DTSTART;TZID=Europe/Berlin:20260320T160000
DTEND;TZID=Europe/Berlin:20260320T170000
UID:261LA20580-20260320T160000@VHSUNTERLAND
SUMMARY:Kindertanz im klassischen Stil für Kinder ab 4 Jahren für Anfänger*innen (261LA20580) 
LOCATION:la Hölderlin-Sporthalle, Gymnastiksaal, Hölderlinstr. 35, 74348 Lauffen a. N.
END:VEVENT
BEGIN:VEVENT
DTSTAMP:20260423T101610
DTSTART;TZID=Europe/Berlin:20260327T160000
DTEND;TZID=Europe/Berlin:20260327T170000
UID:261LA20580-20260327T160000@VHSUNTERLAND
SUMMARY:Kindertanz im klassischen Stil für Kinder ab 4 Jahren für Anfänger*innen (261LA20580) 
LOCATION:la Hölderlin-Sporthalle, Gymnastiksaal, Hölderlinstr. 35, 74348 Lauffen a. N.
END:VEVENT
BEGIN:VEVENT
DTSTAMP:20260423T101610
DTSTART;TZID=Europe/Berlin:20260424T160000
DTEND;TZID=Europe/Berlin:20260424T170000
UID:261LA20580-20260424T160000@VHSUNTERLAND
SUMMARY:Kindertanz im klassischen Stil für Kinder ab 4 Jahren für Anfänger*innen (261LA20580) 
LOCATION:la Hölderlin-Sporthalle, Gymnastiksaal, Hölderlinstr. 35, 74348 Lauffen a. N.
END:VEVENT
BEGIN:VEVENT
DTSTAMP:20260423T101610
DTSTART;TZID=Europe/Berlin:20260508T160000
DTEND;TZID=Europe/Berlin:20260508T170000
UID:261LA20580-20260508T160000@VHSUNTERLAND
SUMMARY:Kindertanz im klassischen Stil für Kinder ab 4 Jahren für Anfänger*innen (261LA20580) 
LOCATION:la Hölderlin-Sporthalle, Gymnastiksaal, Hölderlinstr. 35, 74348 Lauffen a. N.
END:VEVENT
BEGIN:VEVENT
DTSTAMP:20260423T101610
DTSTART;TZID=Europe/Berlin:20260515T160000
DTEND;TZID=Europe/Berlin:20260515T170000
UID:261LA20580-20260515T160000@VHSUNTERLAND
SUMMARY:Kindertanz im klassischen Stil für Kinder ab 4 Jahren für Anfänger*innen (261LA20580) 
LOCATION:la Hölderlin-Sporthalle, Gymnastiksaal, Hölderlinstr. 35, 74348 Lauffen a. N.
END:VEVENT
BEGIN:VEVENT
DTSTAMP:20260423T101610
DTSTART;TZID=Europe/Berlin:20260522T160000
DTEND;TZID=Europe/Berlin:20260522T170000
UID:261LA20580-20260522T160000@VHSUNTERLAND
SUMMARY:Kindertanz im klassischen Stil für Kinder ab 4 Jahren für Anfänger*innen (261LA20580) 
LOCATION:la Hölderlin-Sporthalle, Gymnastiksaal, Hölderlinstr. 35, 74348 Lauffen a. N.
END:VEVENT
BEGIN:VEVENT
DTSTAMP:20260423T101610
DTSTART;TZID=Europe/Berlin:20260612T160000
DTEND;TZID=Europe/Berlin:20260612T170000
UID:261LA20580-20260612T160000@VHSUNTERLAND
SUMMARY:Kindertanz im klassischen Stil für Kinder ab 4 Jahren für Anfänger*innen (261LA20580) 
LOCATION:la Hölderlin-Sporthalle, Gymnastiksaal, Hölderlinstr. 35, 74348 Lauffen a. N.
END:VEVENT
BEGIN:VEVENT
DTSTAMP:20260423T101610
DTSTART;TZID=Europe/Berlin:20260619T160000
DTEND;TZID=Europe/Berlin:20260619T170000
UID:261LA20580-20260619T160000@VHSUNTERLAND
SUMMARY:Kindertanz im klassischen Stil für Kinder ab 4 Jahren für Anfänger*innen (261LA20580) 
LOCATION:la Hölderlin-Sporthalle, Gymnastiksaal, Hölderlinstr. 35, 74348 Lauffen a. N.
END:VEVENT
BEGIN:VEVENT
DTSTAMP:20260423T101610
DTSTART;TZID=Europe/Berlin:20260626T160000
DTEND;TZID=Europe/Berlin:20260626T170000
UID:261LA20580-20260626T160000@VHSUNTERLAND
SUMMARY:Kindertanz im klassischen Stil für Kinder ab 4 Jahren für Anfänger*innen (261LA20580) 
LOCATION:la Hölderlin-Sporthalle, Gymnastiksaal, Hölderlinstr. 35, 74348 Lauffen a. N.
END:VEVENT
BEGIN:VEVENT
DTSTAMP:20260423T101610
DTSTART;TZID=Europe/Berlin:20260703T160000
DTEND;TZID=Europe/Berlin:20260703T170000
UID:261LA20580-20260703T160000@VHSUNTERLAND
SUMMARY:Kindertanz im klassischen Stil für Kinder ab 4 Jahren für Anfänger*innen (261LA20580) 
LOCATION:la Hölderlin-Sporthalle, Gymnastiksaal, Hölderlinstr. 35, 74348 Lauffen a. N.
END:VEVENT
BEGIN:VEVENT
DTSTAMP:20260423T101610
DTSTART;TZID=Europe/Berlin:20260710T160000
DTEND;TZID=Europe/Berlin:20260710T170000
UID:261LA20580-20260710T160000@VHSUNTERLAND
SUMMARY:Kindertanz im klassischen Stil für Kinder ab 4 Jahren für Anfänger*innen (261LA20580) 
LOCATION:la Hölderlin-Sporthalle, Gymnastiksaal, Hölderlinstr. 35, 74348 Lauffen a. N.
END:VEVENT
BEGIN:VEVENT
DTSTAMP:20260423T101610
DTSTART;TZID=Europe/Berlin:20260717T160000
DTEND;TZID=Europe/Berlin:20260717T170000
UID:261LA20580-20260717T160000@VHSUNTERLAND
DESCRIPTION:Ersatz für Ausfall am 17.04.2026
SUMMARY:Kindertanz im klassischen Stil für Kinder ab 4 Jahren für Anfänger*innen (261LA20580) 
LOCATION:la Hölderlin-Sporthalle, Gymnastiksaal, Hölderlinstr. 35, 74348 Lauffen a. N.
END:VEVENT
END:VCALENDAR