BEGIN:VCALENDAR
VERSION:2.0
PRODID:http://www.kufer.de/kuferweb / DE
METHOD:PUBLISH
CALSCALE:GREGORIAN
X-WR-TIMEZONE:Europe/Berlin
BEGIN:VTIMEZONE
TZID:Europe/Berlin
X-LIC-LOCATION:Europe/Berlin
BEGIN:DAYLIGHT
TZOFFSETFROM:+0100
TZOFFSETTO:+0200
TZNAME:CEST
DTSTART;TZID=Europe/Berlin:19700329T020000
RRULE:FREQ=YEARLY;INTERVAL=1;BYDAY=-1SU;BYMONTH=3
END:DAYLIGHT
BEGIN:STANDARD
TZOFFSETFROM:+0200
TZOFFSETTO:+0100
TZNAME:CET
DTSTART;TZID=Europe/Berlin:19701025T030000
RRULE:FREQ=YEARLY;INTERVAL=1;BYDAY=-1SU;BYMONTH=10
END:STANDARD
END:VTIMEZONE
BEGIN:VEVENT
DTSTAMP:20260422T032239
DTSTART;TZID=Europe/Berlin:20260226T170000
DTEND;TZID=Europe/Berlin:20260226T180000
UID:261LA20570-20260226T170000@VHSUNTERLAND
SUMMARY:Hip-Hop und Jazz für Kinder ab 6 Jahren (261LA20570) 
LOCATION:la Hölderlin-Sporthalle, Gymnastiksaal, Hölderlinstr. 35, 74348 Lauffen a. N.
END:VEVENT
BEGIN:VEVENT
DTSTAMP:20260422T032239
DTSTART;TZID=Europe/Berlin:20260305T170000
DTEND;TZID=Europe/Berlin:20260305T180000
UID:261LA20570-20260305T170000@VHSUNTERLAND
SUMMARY:Hip-Hop und Jazz für Kinder ab 6 Jahren (261LA20570) 
LOCATION:la Hölderlin-Sporthalle, Gymnastiksaal, Hölderlinstr. 35, 74348 Lauffen a. N.
END:VEVENT
BEGIN:VEVENT
DTSTAMP:20260422T032239
DTSTART;TZID=Europe/Berlin:20260312T170000
DTEND;TZID=Europe/Berlin:20260312T180000
UID:261LA20570-20260312T170000@VHSUNTERLAND
SUMMARY:Hip-Hop und Jazz für Kinder ab 6 Jahren (261LA20570) 
LOCATION:la Hölderlin-Sporthalle, Gymnastiksaal, Hölderlinstr. 35, 74348 Lauffen a. N.
END:VEVENT
BEGIN:VEVENT
DTSTAMP:20260422T032239
DTSTART;TZID=Europe/Berlin:20260326T170000
DTEND;TZID=Europe/Berlin:20260326T180000
UID:261LA20570-20260326T170000@VHSUNTERLAND
SUMMARY:Hip-Hop und Jazz für Kinder ab 6 Jahren (261LA20570) 
LOCATION:la Hölderlin-Sporthalle, Gymnastiksaal, Hölderlinstr. 35, 74348 Lauffen a. N.
END:VEVENT
BEGIN:VEVENT
DTSTAMP:20260422T032239
DTSTART;TZID=Europe/Berlin:20260416T170000
DTEND;TZID=Europe/Berlin:20260416T180000
UID:261LA20570-20260416T170000@VHSUNTERLAND
SUMMARY:Hip-Hop und Jazz für Kinder ab 6 Jahren (261LA20570) 
LOCATION:la Hölderlin-Sporthalle, Gymnastiksaal, Hölderlinstr. 35, 74348 Lauffen a. N.
END:VEVENT
BEGIN:VEVENT
DTSTAMP:20260422T032239
DTSTART;TZID=Europe/Berlin:20260423T170000
DTEND;TZID=Europe/Berlin:20260423T180000
UID:261LA20570-20260423T170000@VHSUNTERLAND
SUMMARY:Hip-Hop und Jazz für Kinder ab 6 Jahren (261LA20570) 
LOCATION:la Hölderlin-Sporthalle, Gymnastiksaal, Hölderlinstr. 35, 74348 Lauffen a. N.
END:VEVENT
BEGIN:VEVENT
DTSTAMP:20260422T032239
DTSTART;TZID=Europe/Berlin:20260430T170000
DTEND;TZID=Europe/Berlin:20260430T180000
UID:261LA20570-20260430T170000@VHSUNTERLAND
SUMMARY:Hip-Hop und Jazz für Kinder ab 6 Jahren (261LA20570) 
LOCATION:la Hölderlin-Sporthalle, Gymnastiksaal, Hölderlinstr. 35, 74348 Lauffen a. N.
END:VEVENT
BEGIN:VEVENT
DTSTAMP:20260422T032239
DTSTART;TZID=Europe/Berlin:20260507T170000
DTEND;TZID=Europe/Berlin:20260507T180000
UID:261LA20570-20260507T170000@VHSUNTERLAND
SUMMARY:Hip-Hop und Jazz für Kinder ab 6 Jahren (261LA20570) 
LOCATION:la Hölderlin-Sporthalle, Gymnastiksaal, Hölderlinstr. 35, 74348 Lauffen a. N.
END:VEVENT
BEGIN:VEVENT
DTSTAMP:20260422T032239
DTSTART;TZID=Europe/Berlin:20260521T170000
DTEND;TZID=Europe/Berlin:20260521T180000
UID:261LA20570-20260521T170000@VHSUNTERLAND
SUMMARY:Hip-Hop und Jazz für Kinder ab 6 Jahren (261LA20570) 
LOCATION:la Hölderlin-Sporthalle, Gymnastiksaal, Hölderlinstr. 35, 74348 Lauffen a. N.
END:VEVENT
BEGIN:VEVENT
DTSTAMP:20260422T032239
DTSTART;TZID=Europe/Berlin:20260611T170000
DTEND;TZID=Europe/Berlin:20260611T180000
UID:261LA20570-20260611T170000@VHSUNTERLAND
SUMMARY:Hip-Hop und Jazz für Kinder ab 6 Jahren (261LA20570) 
LOCATION:la Hölderlin-Sporthalle, Gymnastiksaal, Hölderlinstr. 35, 74348 Lauffen a. N.
END:VEVENT
BEGIN:VEVENT
DTSTAMP:20260422T032239
DTSTART;TZID=Europe/Berlin:20260618T170000
DTEND;TZID=Europe/Berlin:20260618T180000
UID:261LA20570-20260618T170000@VHSUNTERLAND
SUMMARY:Hip-Hop und Jazz für Kinder ab 6 Jahren (261LA20570) 
LOCATION:la Hölderlin-Sporthalle, Gymnastiksaal, Hölderlinstr. 35, 74348 Lauffen a. N.
END:VEVENT
BEGIN:VEVENT
DTSTAMP:20260422T032239
DTSTART;TZID=Europe/Berlin:20260625T170000
DTEND;TZID=Europe/Berlin:20260625T180000
UID:261LA20570-20260625T170000@VHSUNTERLAND
SUMMARY:Hip-Hop und Jazz für Kinder ab 6 Jahren (261LA20570) 
LOCATION:la Hölderlin-Sporthalle, Gymnastiksaal, Hölderlinstr. 35, 74348 Lauffen a. N.
END:VEVENT
BEGIN:VEVENT
DTSTAMP:20260422T032239
DTSTART;TZID=Europe/Berlin:20260702T170000
DTEND;TZID=Europe/Berlin:20260702T180000
UID:261LA20570-20260702T170000@VHSUNTERLAND
DESCRIPTION:Ersatz für Ausfall am 19.03.2026
SUMMARY:Hip-Hop und Jazz für Kinder ab 6 Jahren (261LA20570) 
LOCATION:la Hölderlin-Sporthalle, Gymnastiksaal, Hölderlinstr. 35, 74348 Lauffen a. N.
END:VEVENT
END:VCALENDAR