BEGIN:VCALENDAR
VERSION:2.0
PRODID:http://www.kufer.de/kuferweb / DE
METHOD:PUBLISH
CALSCALE:GREGORIAN
X-WR-TIMEZONE:Europe/Berlin
BEGIN:VTIMEZONE
TZID:Europe/Berlin
X-LIC-LOCATION:Europe/Berlin
BEGIN:DAYLIGHT
TZOFFSETFROM:+0100
TZOFFSETTO:+0200
TZNAME:CEST
DTSTART;TZID=Europe/Berlin:19700329T020000
RRULE:FREQ=YEARLY;INTERVAL=1;BYDAY=-1SU;BYMONTH=3
END:DAYLIGHT
BEGIN:STANDARD
TZOFFSETFROM:+0200
TZOFFSETTO:+0100
TZNAME:CET
DTSTART;TZID=Europe/Berlin:19701025T030000
RRULE:FREQ=YEARLY;INTERVAL=1;BYDAY=-1SU;BYMONTH=10
END:STANDARD
END:VTIMEZONE
BEGIN:VEVENT
DTSTAMP:20260422T123108
DTSTART;TZID=Europe/Berlin:20260429T163000
DTEND;TZID=Europe/Berlin:20260429T183000
UID:261LA20210-20260429T163000@VHSUNTERLAND
SUMMARY:Schreiben mit Freude (261LA20210) 
LOCATION:la VHS-Raum, Lindenstraße 16/2, Lindenstraße 16/2, 74348 Lauffen a. N.
END:VEVENT
BEGIN:VEVENT
DTSTAMP:20260422T123108
DTSTART;TZID=Europe/Berlin:20260506T163000
DTEND;TZID=Europe/Berlin:20260506T183000
UID:261LA20210-20260506T163000@VHSUNTERLAND
SUMMARY:Schreiben mit Freude (261LA20210) 
LOCATION:la VHS-Raum, Lindenstraße 16/2, Lindenstraße 16/2, 74348 Lauffen a. N.
END:VEVENT
BEGIN:VEVENT
DTSTAMP:20260422T123108
DTSTART;TZID=Europe/Berlin:20260513T163000
DTEND;TZID=Europe/Berlin:20260513T183000
UID:261LA20210-20260513T163000@VHSUNTERLAND
SUMMARY:Schreiben mit Freude (261LA20210) 
LOCATION:la VHS-Raum, Lindenstraße 16/2, Lindenstraße 16/2, 74348 Lauffen a. N.
END:VEVENT
END:VCALENDAR