BEGIN:VCALENDAR
VERSION:2.0
PRODID:http://www.kufer.de/kuferweb / DE
METHOD:PUBLISH
CALSCALE:GREGORIAN
X-WR-TIMEZONE:Europe/Berlin
BEGIN:VTIMEZONE
TZID:Europe/Berlin
X-LIC-LOCATION:Europe/Berlin
BEGIN:DAYLIGHT
TZOFFSETFROM:+0100
TZOFFSETTO:+0200
TZNAME:CEST
DTSTART;TZID=Europe/Berlin:19700329T020000
RRULE:FREQ=YEARLY;INTERVAL=1;BYDAY=-1SU;BYMONTH=3
END:DAYLIGHT
BEGIN:STANDARD
TZOFFSETFROM:+0200
TZOFFSETTO:+0100
TZNAME:CET
DTSTART;TZID=Europe/Berlin:19701025T030000
RRULE:FREQ=YEARLY;INTERVAL=1;BYDAY=-1SU;BYMONTH=10
END:STANDARD
END:VTIMEZONE
BEGIN:VEVENT
DTSTAMP:20260421T172735
DTSTART;TZID=Europe/Berlin:20260730T093000
DTEND;TZID=Europe/Berlin:20260730T123000
UID:261LA11032-20260730T093000@VHSUNTERLAND
SUMMARY:Einführung in die Robotik mit Lego Mindstorms EV3 für Kinder und Jugendliche ab 9 Jahren (261LA11032) 
LOCATION:la Hölderlin-Realschule, Computerraum, Herdegenstraße 15, 74348 Lauffen a. N.
END:VEVENT
BEGIN:VEVENT
DTSTAMP:20260421T172735
DTSTART;TZID=Europe/Berlin:20260731T093000
DTEND;TZID=Europe/Berlin:20260731T123000
UID:261LA11032-20260731T093000@VHSUNTERLAND
SUMMARY:Einführung in die Robotik mit Lego Mindstorms EV3 für Kinder und Jugendliche ab 9 Jahren (261LA11032) 
LOCATION:la Hölderlin-Realschule, Computerraum, Herdegenstraße 15, 74348 Lauffen a. N.
END:VEVENT
END:VCALENDAR