BEGIN:VCALENDAR
VERSION:2.0
PRODID:http://www.kufer.de/kuferweb / DE
METHOD:PUBLISH
CALSCALE:GREGORIAN
X-WR-TIMEZONE:Europe/Berlin
BEGIN:VTIMEZONE
TZID:Europe/Berlin
X-LIC-LOCATION:Europe/Berlin
BEGIN:DAYLIGHT
TZOFFSETFROM:+0100
TZOFFSETTO:+0200
TZNAME:CEST
DTSTART;TZID=Europe/Berlin:19700329T020000
RRULE:FREQ=YEARLY;INTERVAL=1;BYDAY=-1SU;BYMONTH=3
END:DAYLIGHT
BEGIN:STANDARD
TZOFFSETFROM:+0200
TZOFFSETTO:+0100
TZNAME:CET
DTSTART;TZID=Europe/Berlin:19701025T030000
RRULE:FREQ=YEARLY;INTERVAL=1;BYDAY=-1SU;BYMONTH=10
END:STANDARD
END:VTIMEZONE
BEGIN:VEVENT
DTSTAMP:20260422T074356
DTSTART;TZID=Europe/Berlin:20260428T191500
DTEND;TZID=Europe/Berlin:20260428T201500
UID:261KI30175-20260428T191500@VHSUNTERLAND
SUMMARY:Entspannung und Achtsamkeit – Meditieren lernen (261KI30175) 
LOCATION:ki VHS-Raum, Goethestraße 3/2, 74912 Kirchardt
END:VEVENT
BEGIN:VEVENT
DTSTAMP:20260422T074356
DTSTART;TZID=Europe/Berlin:20260505T191500
DTEND;TZID=Europe/Berlin:20260505T201500
UID:261KI30175-20260505T191500@VHSUNTERLAND
SUMMARY:Entspannung und Achtsamkeit – Meditieren lernen (261KI30175) 
LOCATION:ki VHS-Raum, Goethestraße 3/2, 74912 Kirchardt
END:VEVENT
BEGIN:VEVENT
DTSTAMP:20260422T074356
DTSTART;TZID=Europe/Berlin:20260512T191500
DTEND;TZID=Europe/Berlin:20260512T201500
UID:261KI30175-20260512T191500@VHSUNTERLAND
SUMMARY:Entspannung und Achtsamkeit – Meditieren lernen (261KI30175) 
LOCATION:ki VHS-Raum, Goethestraße 3/2, 74912 Kirchardt
END:VEVENT
BEGIN:VEVENT
DTSTAMP:20260422T074356
DTSTART;TZID=Europe/Berlin:20260519T191500
DTEND;TZID=Europe/Berlin:20260519T201500
UID:261KI30175-20260519T191500@VHSUNTERLAND
SUMMARY:Entspannung und Achtsamkeit – Meditieren lernen (261KI30175) 
LOCATION:ki VHS-Raum, Goethestraße 3/2, 74912 Kirchardt
END:VEVENT
END:VCALENDAR