BEGIN:VCALENDAR
VERSION:2.0
PRODID:http://www.kufer.de/kuferweb / DE
METHOD:PUBLISH
CALSCALE:GREGORIAN
X-WR-TIMEZONE:Europe/Berlin
BEGIN:VTIMEZONE
TZID:Europe/Berlin
X-LIC-LOCATION:Europe/Berlin
BEGIN:DAYLIGHT
TZOFFSETFROM:+0100
TZOFFSETTO:+0200
TZNAME:CEST
DTSTART;TZID=Europe/Berlin:19700329T020000
RRULE:FREQ=YEARLY;INTERVAL=1;BYDAY=-1SU;BYMONTH=3
END:DAYLIGHT
BEGIN:STANDARD
TZOFFSETFROM:+0200
TZOFFSETTO:+0100
TZNAME:CET
DTSTART;TZID=Europe/Berlin:19701025T030000
RRULE:FREQ=YEARLY;INTERVAL=1;BYDAY=-1SU;BYMONTH=10
END:STANDARD
END:VTIMEZONE
BEGIN:VEVENT
DTSTAMP:20260423T144153
DTSTART;TZID=Europe/Berlin:20260303T181500
DTEND;TZID=Europe/Berlin:20260303T194500
UID:261IL42225-20260303T181500@VHSUNTERLAND
SUMMARY:Spanisch A2 Auffrischungskurs (261IL42225) 
LOCATION:il Bahnhofstr. 2, Schulungsraum, EG, Bahnhofstraße 2, 74360 Ilsfeld
END:VEVENT
BEGIN:VEVENT
DTSTAMP:20260423T144153
DTSTART;TZID=Europe/Berlin:20260310T181500
DTEND;TZID=Europe/Berlin:20260310T194500
UID:261IL42225-20260310T181500@VHSUNTERLAND
SUMMARY:Spanisch A2 Auffrischungskurs (261IL42225) 
LOCATION:il Bahnhofstr. 2, Schulungsraum, EG, Bahnhofstraße 2, 74360 Ilsfeld
END:VEVENT
BEGIN:VEVENT
DTSTAMP:20260423T144153
DTSTART;TZID=Europe/Berlin:20260317T181500
DTEND;TZID=Europe/Berlin:20260317T194500
UID:261IL42225-20260317T181500@VHSUNTERLAND
SUMMARY:Spanisch A2 Auffrischungskurs (261IL42225) 
LOCATION:il Bahnhofstr. 2, Schulungsraum, EG, Bahnhofstraße 2, 74360 Ilsfeld
END:VEVENT
BEGIN:VEVENT
DTSTAMP:20260423T144153
DTSTART;TZID=Europe/Berlin:20260324T181500
DTEND;TZID=Europe/Berlin:20260324T194500
UID:261IL42225-20260324T181500@VHSUNTERLAND
SUMMARY:Spanisch A2 Auffrischungskurs (261IL42225) 
LOCATION:il Bahnhofstr. 2, Schulungsraum, EG, Bahnhofstraße 2, 74360 Ilsfeld
END:VEVENT
BEGIN:VEVENT
DTSTAMP:20260423T144153
DTSTART;TZID=Europe/Berlin:20260414T181500
DTEND;TZID=Europe/Berlin:20260414T194500
UID:261IL42225-20260414T181500@VHSUNTERLAND
SUMMARY:Spanisch A2 Auffrischungskurs (261IL42225) 
LOCATION:il Bahnhofstr. 2, Schulungsraum, EG, Bahnhofstraße 2, 74360 Ilsfeld
END:VEVENT
BEGIN:VEVENT
DTSTAMP:20260423T144153
DTSTART;TZID=Europe/Berlin:20260421T181500
DTEND;TZID=Europe/Berlin:20260421T194500
UID:261IL42225-20260421T181500@VHSUNTERLAND
SUMMARY:Spanisch A2 Auffrischungskurs (261IL42225) 
LOCATION:il Bahnhofstr. 2, Schulungsraum, EG, Bahnhofstraße 2, 74360 Ilsfeld
END:VEVENT
BEGIN:VEVENT
DTSTAMP:20260423T144153
DTSTART;TZID=Europe/Berlin:20260428T181500
DTEND;TZID=Europe/Berlin:20260428T194500
UID:261IL42225-20260428T181500@VHSUNTERLAND
SUMMARY:Spanisch A2 Auffrischungskurs (261IL42225) 
LOCATION:il Bahnhofstr. 2, Schulungsraum, EG, Bahnhofstraße 2, 74360 Ilsfeld
END:VEVENT
BEGIN:VEVENT
DTSTAMP:20260423T144153
DTSTART;TZID=Europe/Berlin:20260505T181500
DTEND;TZID=Europe/Berlin:20260505T194500
UID:261IL42225-20260505T181500@VHSUNTERLAND
SUMMARY:Spanisch A2 Auffrischungskurs (261IL42225) 
LOCATION:il Bahnhofstr. 2, Schulungsraum, EG, Bahnhofstraße 2, 74360 Ilsfeld
END:VEVENT
BEGIN:VEVENT
DTSTAMP:20260423T144153
DTSTART;TZID=Europe/Berlin:20260512T181500
DTEND;TZID=Europe/Berlin:20260512T194500
UID:261IL42225-20260512T181500@VHSUNTERLAND
SUMMARY:Spanisch A2 Auffrischungskurs (261IL42225) 
LOCATION:il Bahnhofstr. 2, Schulungsraum, EG, Bahnhofstraße 2, 74360 Ilsfeld
END:VEVENT
BEGIN:VEVENT
DTSTAMP:20260423T144153
DTSTART;TZID=Europe/Berlin:20260519T181500
DTEND;TZID=Europe/Berlin:20260519T194500
UID:261IL42225-20260519T181500@VHSUNTERLAND
SUMMARY:Spanisch A2 Auffrischungskurs (261IL42225) 
LOCATION:il Bahnhofstr. 2, Schulungsraum, EG, Bahnhofstraße 2, 74360 Ilsfeld
END:VEVENT
BEGIN:VEVENT
DTSTAMP:20260423T144153
DTSTART;TZID=Europe/Berlin:20260616T181500
DTEND;TZID=Europe/Berlin:20260616T194500
UID:261IL42225-20260616T181500@VHSUNTERLAND
SUMMARY:Spanisch A2 Auffrischungskurs (261IL42225) 
LOCATION:il Bahnhofstr. 2, Schulungsraum, EG, Bahnhofstraße 2, 74360 Ilsfeld
END:VEVENT
BEGIN:VEVENT
DTSTAMP:20260423T144153
DTSTART;TZID=Europe/Berlin:20260623T181500
DTEND;TZID=Europe/Berlin:20260623T194500
UID:261IL42225-20260623T181500@VHSUNTERLAND
SUMMARY:Spanisch A2 Auffrischungskurs (261IL42225) 
LOCATION:il Bahnhofstr. 2, Schulungsraum, EG, Bahnhofstraße 2, 74360 Ilsfeld
END:VEVENT
BEGIN:VEVENT
DTSTAMP:20260423T144153
DTSTART;TZID=Europe/Berlin:20260630T181500
DTEND;TZID=Europe/Berlin:20260630T194500
UID:261IL42225-20260630T181500@VHSUNTERLAND
SUMMARY:Spanisch A2 Auffrischungskurs (261IL42225) 
LOCATION:il Bahnhofstr. 2, Schulungsraum, EG, Bahnhofstraße 2, 74360 Ilsfeld
END:VEVENT
BEGIN:VEVENT
DTSTAMP:20260423T144153
DTSTART;TZID=Europe/Berlin:20260707T181500
DTEND;TZID=Europe/Berlin:20260707T194500
UID:261IL42225-20260707T181500@VHSUNTERLAND
SUMMARY:Spanisch A2 Auffrischungskurs (261IL42225) 
LOCATION:il Bahnhofstr. 2, Schulungsraum, EG, Bahnhofstraße 2, 74360 Ilsfeld
END:VEVENT
END:VCALENDAR