BEGIN:VCALENDAR
VERSION:2.0
PRODID:http://www.kufer.de/kuferweb / DE
METHOD:PUBLISH
CALSCALE:GREGORIAN
X-WR-TIMEZONE:Europe/Berlin
BEGIN:VTIMEZONE
TZID:Europe/Berlin
X-LIC-LOCATION:Europe/Berlin
BEGIN:DAYLIGHT
TZOFFSETFROM:+0100
TZOFFSETTO:+0200
TZNAME:CEST
DTSTART;TZID=Europe/Berlin:19700329T020000
RRULE:FREQ=YEARLY;INTERVAL=1;BYDAY=-1SU;BYMONTH=3
END:DAYLIGHT
BEGIN:STANDARD
TZOFFSETFROM:+0200
TZOFFSETTO:+0100
TZNAME:CET
DTSTART;TZID=Europe/Berlin:19701025T030000
RRULE:FREQ=YEARLY;INTERVAL=1;BYDAY=-1SU;BYMONTH=10
END:STANDARD
END:VTIMEZONE
BEGIN:VEVENT
DTSTAMP:20260422T210228
DTSTART;TZID=Europe/Berlin:20260224T090000
DTEND;TZID=Europe/Berlin:20260224T103000
UID:261IL40631-20260224T090000@VHSUNTERLAND
SUMMARY:Englisch B1.1 (261IL40631) 
LOCATION:il Bahnhofstr. 2, Schulungsraum, EG, Bahnhofstraße 2, 74360 Ilsfeld
END:VEVENT
BEGIN:VEVENT
DTSTAMP:20260422T210228
DTSTART;TZID=Europe/Berlin:20260303T090000
DTEND;TZID=Europe/Berlin:20260303T103000
UID:261IL40631-20260303T090000@VHSUNTERLAND
SUMMARY:Englisch B1.1 (261IL40631) 
LOCATION:il Bahnhofstr. 2, Schulungsraum, EG, Bahnhofstraße 2, 74360 Ilsfeld
END:VEVENT
BEGIN:VEVENT
DTSTAMP:20260422T210228
DTSTART;TZID=Europe/Berlin:20260310T090000
DTEND;TZID=Europe/Berlin:20260310T103000
UID:261IL40631-20260310T090000@VHSUNTERLAND
SUMMARY:Englisch B1.1 (261IL40631) 
LOCATION:il Bahnhofstr. 2, Schulungsraum, EG, Bahnhofstraße 2, 74360 Ilsfeld
END:VEVENT
BEGIN:VEVENT
DTSTAMP:20260422T210228
DTSTART;TZID=Europe/Berlin:20260317T090000
DTEND;TZID=Europe/Berlin:20260317T103000
UID:261IL40631-20260317T090000@VHSUNTERLAND
SUMMARY:Englisch B1.1 (261IL40631) 
LOCATION:il Bahnhofstr. 2, Schulungsraum, EG, Bahnhofstraße 2, 74360 Ilsfeld
END:VEVENT
BEGIN:VEVENT
DTSTAMP:20260422T210228
DTSTART;TZID=Europe/Berlin:20260324T090000
DTEND;TZID=Europe/Berlin:20260324T103000
UID:261IL40631-20260324T090000@VHSUNTERLAND
SUMMARY:Englisch B1.1 (261IL40631) 
LOCATION:il Bahnhofstr. 2, Schulungsraum, EG, Bahnhofstraße 2, 74360 Ilsfeld
END:VEVENT
BEGIN:VEVENT
DTSTAMP:20260422T210228
DTSTART;TZID=Europe/Berlin:20260414T090000
DTEND;TZID=Europe/Berlin:20260414T103000
UID:261IL40631-20260414T090000@VHSUNTERLAND
SUMMARY:Englisch B1.1 (261IL40631) 
LOCATION:il Bahnhofstr. 2, Schulungsraum, EG, Bahnhofstraße 2, 74360 Ilsfeld
END:VEVENT
BEGIN:VEVENT
DTSTAMP:20260422T210228
DTSTART;TZID=Europe/Berlin:20260421T090000
DTEND;TZID=Europe/Berlin:20260421T103000
UID:261IL40631-20260421T090000@VHSUNTERLAND
SUMMARY:Englisch B1.1 (261IL40631) 
LOCATION:il Bahnhofstr. 2, Schulungsraum, EG, Bahnhofstraße 2, 74360 Ilsfeld
END:VEVENT
BEGIN:VEVENT
DTSTAMP:20260422T210228
DTSTART;TZID=Europe/Berlin:20260428T090000
DTEND;TZID=Europe/Berlin:20260428T103000
UID:261IL40631-20260428T090000@VHSUNTERLAND
SUMMARY:Englisch B1.1 (261IL40631) 
LOCATION:il Bahnhofstr. 2, Schulungsraum, EG, Bahnhofstraße 2, 74360 Ilsfeld
END:VEVENT
BEGIN:VEVENT
DTSTAMP:20260422T210228
DTSTART;TZID=Europe/Berlin:20260505T090000
DTEND;TZID=Europe/Berlin:20260505T103000
UID:261IL40631-20260505T090000@VHSUNTERLAND
SUMMARY:Englisch B1.1 (261IL40631) 
LOCATION:il Bahnhofstr. 2, Schulungsraum, EG, Bahnhofstraße 2, 74360 Ilsfeld
END:VEVENT
BEGIN:VEVENT
DTSTAMP:20260422T210228
DTSTART;TZID=Europe/Berlin:20260512T090000
DTEND;TZID=Europe/Berlin:20260512T103000
UID:261IL40631-20260512T090000@VHSUNTERLAND
SUMMARY:Englisch B1.1 (261IL40631) 
LOCATION:il Bahnhofstr. 2, Schulungsraum, EG, Bahnhofstraße 2, 74360 Ilsfeld
END:VEVENT
BEGIN:VEVENT
DTSTAMP:20260422T210228
DTSTART;TZID=Europe/Berlin:20260519T090000
DTEND;TZID=Europe/Berlin:20260519T103000
UID:261IL40631-20260519T090000@VHSUNTERLAND
SUMMARY:Englisch B1.1 (261IL40631) 
LOCATION:il Bahnhofstr. 2, Schulungsraum, EG, Bahnhofstraße 2, 74360 Ilsfeld
END:VEVENT
BEGIN:VEVENT
DTSTAMP:20260422T210228
DTSTART;TZID=Europe/Berlin:20260609T090000
DTEND;TZID=Europe/Berlin:20260609T103000
UID:261IL40631-20260609T090000@VHSUNTERLAND
SUMMARY:Englisch B1.1 (261IL40631) 
LOCATION:il Bahnhofstr. 2, Schulungsraum, EG, Bahnhofstraße 2, 74360 Ilsfeld
END:VEVENT
BEGIN:VEVENT
DTSTAMP:20260422T210228
DTSTART;TZID=Europe/Berlin:20260616T090000
DTEND;TZID=Europe/Berlin:20260616T103000
UID:261IL40631-20260616T090000@VHSUNTERLAND
SUMMARY:Englisch B1.1 (261IL40631) 
LOCATION:il Bahnhofstr. 2, Schulungsraum, EG, Bahnhofstraße 2, 74360 Ilsfeld
END:VEVENT
BEGIN:VEVENT
DTSTAMP:20260422T210228
DTSTART;TZID=Europe/Berlin:20260623T090000
DTEND;TZID=Europe/Berlin:20260623T103000
UID:261IL40631-20260623T090000@VHSUNTERLAND
SUMMARY:Englisch B1.1 (261IL40631) 
LOCATION:il Bahnhofstr. 2, Schulungsraum, EG, Bahnhofstraße 2, 74360 Ilsfeld
END:VEVENT
BEGIN:VEVENT
DTSTAMP:20260422T210228
DTSTART;TZID=Europe/Berlin:20260630T090000
DTEND;TZID=Europe/Berlin:20260630T103000
UID:261IL40631-20260630T090000@VHSUNTERLAND
SUMMARY:Englisch B1.1 (261IL40631) 
LOCATION:il Bahnhofstr. 2, Schulungsraum, EG, Bahnhofstraße 2, 74360 Ilsfeld
END:VEVENT
END:VCALENDAR