BEGIN:VCALENDAR
VERSION:2.0
PRODID:http://www.kufer.de/kuferweb / DE
METHOD:PUBLISH
CALSCALE:GREGORIAN
X-WR-TIMEZONE:Europe/Berlin
BEGIN:VTIMEZONE
TZID:Europe/Berlin
X-LIC-LOCATION:Europe/Berlin
BEGIN:DAYLIGHT
TZOFFSETFROM:+0100
TZOFFSETTO:+0200
TZNAME:CEST
DTSTART;TZID=Europe/Berlin:19700329T020000
RRULE:FREQ=YEARLY;INTERVAL=1;BYDAY=-1SU;BYMONTH=3
END:DAYLIGHT
BEGIN:STANDARD
TZOFFSETFROM:+0200
TZOFFSETTO:+0100
TZNAME:CET
DTSTART;TZID=Europe/Berlin:19701025T030000
RRULE:FREQ=YEARLY;INTERVAL=1;BYDAY=-1SU;BYMONTH=10
END:STANDARD
END:VTIMEZONE
BEGIN:VEVENT
DTSTAMP:20260422T104102
DTSTART;TZID=Europe/Berlin:20260226T183000
DTEND;TZID=Europe/Berlin:20260226T200000
UID:261IL40630-20260226T183000@VHSUNTERLAND
SUMMARY:Englisch B1.1 (online) (261IL40630) 
LOCATION:HN online Zoom, , 
END:VEVENT
BEGIN:VEVENT
DTSTAMP:20260422T104102
DTSTART;TZID=Europe/Berlin:20260305T183000
DTEND;TZID=Europe/Berlin:20260305T200000
UID:261IL40630-20260305T183000@VHSUNTERLAND
SUMMARY:Englisch B1.1 (online) (261IL40630) 
LOCATION:HN online Zoom, , 
END:VEVENT
BEGIN:VEVENT
DTSTAMP:20260422T104102
DTSTART;TZID=Europe/Berlin:20260312T183000
DTEND;TZID=Europe/Berlin:20260312T200000
UID:261IL40630-20260312T183000@VHSUNTERLAND
SUMMARY:Englisch B1.1 (online) (261IL40630) 
LOCATION:HN online Zoom, , 
END:VEVENT
BEGIN:VEVENT
DTSTAMP:20260422T104102
DTSTART;TZID=Europe/Berlin:20260319T183000
DTEND;TZID=Europe/Berlin:20260319T200000
UID:261IL40630-20260319T183000@VHSUNTERLAND
SUMMARY:Englisch B1.1 (online) (261IL40630) 
LOCATION:HN online Zoom, , 
END:VEVENT
BEGIN:VEVENT
DTSTAMP:20260422T104102
DTSTART;TZID=Europe/Berlin:20260326T183000
DTEND;TZID=Europe/Berlin:20260326T200000
UID:261IL40630-20260326T183000@VHSUNTERLAND
SUMMARY:Englisch B1.1 (online) (261IL40630) 
LOCATION:HN online Zoom, , 
END:VEVENT
BEGIN:VEVENT
DTSTAMP:20260422T104102
DTSTART;TZID=Europe/Berlin:20260423T183000
DTEND;TZID=Europe/Berlin:20260423T200000
UID:261IL40630-20260423T183000@VHSUNTERLAND
SUMMARY:Englisch B1.1 (online) (261IL40630) 
LOCATION:HN online Zoom, , 
END:VEVENT
BEGIN:VEVENT
DTSTAMP:20260422T104102
DTSTART;TZID=Europe/Berlin:20260430T183000
DTEND;TZID=Europe/Berlin:20260430T200000
UID:261IL40630-20260430T183000@VHSUNTERLAND
SUMMARY:Englisch B1.1 (online) (261IL40630) 
LOCATION:HN online Zoom, , 
END:VEVENT
BEGIN:VEVENT
DTSTAMP:20260422T104102
DTSTART;TZID=Europe/Berlin:20260521T183000
DTEND;TZID=Europe/Berlin:20260521T200000
UID:261IL40630-20260521T183000@VHSUNTERLAND
SUMMARY:Englisch B1.1 (online) (261IL40630) 
LOCATION:HN online Zoom, , 
END:VEVENT
BEGIN:VEVENT
DTSTAMP:20260422T104102
DTSTART;TZID=Europe/Berlin:20260611T183000
DTEND;TZID=Europe/Berlin:20260611T200000
UID:261IL40630-20260611T183000@VHSUNTERLAND
SUMMARY:Englisch B1.1 (online) (261IL40630) 
LOCATION:HN online Zoom, , 
END:VEVENT
BEGIN:VEVENT
DTSTAMP:20260422T104102
DTSTART;TZID=Europe/Berlin:20260618T183000
DTEND;TZID=Europe/Berlin:20260618T200000
UID:261IL40630-20260618T183000@VHSUNTERLAND
SUMMARY:Englisch B1.1 (online) (261IL40630) 
LOCATION:HN online Zoom, , 
END:VEVENT
BEGIN:VEVENT
DTSTAMP:20260422T104102
DTSTART;TZID=Europe/Berlin:20260625T183000
DTEND;TZID=Europe/Berlin:20260625T200000
UID:261IL40630-20260625T183000@VHSUNTERLAND
DESCRIPTION:Ersatz für Ausfall am 16.04.2026
SUMMARY:Englisch B1.1 (online) (261IL40630) 
LOCATION:HN online Zoom, , 
END:VEVENT
BEGIN:VEVENT
DTSTAMP:20260422T104102
DTSTART;TZID=Europe/Berlin:20260702T183000
DTEND;TZID=Europe/Berlin:20260702T200000
UID:261IL40630-20260702T183000@VHSUNTERLAND
DESCRIPTION:Ersatz für Ausfall am 07.05.2026
SUMMARY:Englisch B1.1 (online) (261IL40630) 
LOCATION:HN online Zoom, , 
END:VEVENT
END:VCALENDAR