BEGIN:VCALENDAR
VERSION:2.0
PRODID:http://www.kufer.de/kuferweb / DE
METHOD:PUBLISH
CALSCALE:GREGORIAN
X-WR-TIMEZONE:Europe/Berlin
BEGIN:VTIMEZONE
TZID:Europe/Berlin
X-LIC-LOCATION:Europe/Berlin
BEGIN:DAYLIGHT
TZOFFSETFROM:+0100
TZOFFSETTO:+0200
TZNAME:CEST
DTSTART;TZID=Europe/Berlin:19700329T020000
RRULE:FREQ=YEARLY;INTERVAL=1;BYDAY=-1SU;BYMONTH=3
END:DAYLIGHT
BEGIN:STANDARD
TZOFFSETFROM:+0200
TZOFFSETTO:+0100
TZNAME:CET
DTSTART;TZID=Europe/Berlin:19701025T030000
RRULE:FREQ=YEARLY;INTERVAL=1;BYDAY=-1SU;BYMONTH=10
END:STANDARD
END:VTIMEZONE
BEGIN:VEVENT
DTSTAMP:20260423T151654
DTSTART;TZID=Europe/Berlin:20260205T193000
DTEND;TZID=Europe/Berlin:20260205T203000
UID:261IL30223-20260205T193000@VHSUNTERLAND
SUMMARY:Rücken-Fit (261IL30223) 
LOCATION:il Polizeigebäude, Raum 1, Charlottenstraße 5, 74360 Ilsfeld
END:VEVENT
BEGIN:VEVENT
DTSTAMP:20260423T151654
DTSTART;TZID=Europe/Berlin:20260212T193000
DTEND;TZID=Europe/Berlin:20260212T203000
UID:261IL30223-20260212T193000@VHSUNTERLAND
SUMMARY:Rücken-Fit (261IL30223) 
LOCATION:il Polizeigebäude, Raum 1, Charlottenstraße 5, 74360 Ilsfeld
END:VEVENT
BEGIN:VEVENT
DTSTAMP:20260423T151654
DTSTART;TZID=Europe/Berlin:20260226T193000
DTEND;TZID=Europe/Berlin:20260226T203000
UID:261IL30223-20260226T193000@VHSUNTERLAND
SUMMARY:Rücken-Fit (261IL30223) 
LOCATION:il Polizeigebäude, Raum 1, Charlottenstraße 5, 74360 Ilsfeld
END:VEVENT
BEGIN:VEVENT
DTSTAMP:20260423T151654
DTSTART;TZID=Europe/Berlin:20260305T193000
DTEND;TZID=Europe/Berlin:20260305T203000
UID:261IL30223-20260305T193000@VHSUNTERLAND
SUMMARY:Rücken-Fit (261IL30223) 
LOCATION:il Polizeigebäude, Raum 1, Charlottenstraße 5, 74360 Ilsfeld
END:VEVENT
BEGIN:VEVENT
DTSTAMP:20260423T151654
DTSTART;TZID=Europe/Berlin:20260312T193000
DTEND;TZID=Europe/Berlin:20260312T203000
UID:261IL30223-20260312T193000@VHSUNTERLAND
SUMMARY:Rücken-Fit (261IL30223) 
LOCATION:il Polizeigebäude, Raum 1, Charlottenstraße 5, 74360 Ilsfeld
END:VEVENT
BEGIN:VEVENT
DTSTAMP:20260423T151654
DTSTART;TZID=Europe/Berlin:20260319T193000
DTEND;TZID=Europe/Berlin:20260319T203000
UID:261IL30223-20260319T193000@VHSUNTERLAND
SUMMARY:Rücken-Fit (261IL30223) 
LOCATION:il Polizeigebäude, Raum 1, Charlottenstraße 5, 74360 Ilsfeld
END:VEVENT
BEGIN:VEVENT
DTSTAMP:20260423T151654
DTSTART;TZID=Europe/Berlin:20260326T193000
DTEND;TZID=Europe/Berlin:20260326T203000
UID:261IL30223-20260326T193000@VHSUNTERLAND
SUMMARY:Rücken-Fit (261IL30223) 
LOCATION:il Polizeigebäude, Raum 1, Charlottenstraße 5, 74360 Ilsfeld
END:VEVENT
BEGIN:VEVENT
DTSTAMP:20260423T151654
DTSTART;TZID=Europe/Berlin:20260416T193000
DTEND;TZID=Europe/Berlin:20260416T203000
UID:261IL30223-20260416T193000@VHSUNTERLAND
SUMMARY:Rücken-Fit (261IL30223) 
LOCATION:il Polizeigebäude, Raum 1, Charlottenstraße 5, 74360 Ilsfeld
END:VEVENT
BEGIN:VEVENT
DTSTAMP:20260423T151654
DTSTART;TZID=Europe/Berlin:20260423T193000
DTEND;TZID=Europe/Berlin:20260423T203000
UID:261IL30223-20260423T193000@VHSUNTERLAND
SUMMARY:Rücken-Fit (261IL30223) 
LOCATION:il Polizeigebäude, Raum 1, Charlottenstraße 5, 74360 Ilsfeld
END:VEVENT
BEGIN:VEVENT
DTSTAMP:20260423T151654
DTSTART;TZID=Europe/Berlin:20260430T193000
DTEND;TZID=Europe/Berlin:20260430T203000
UID:261IL30223-20260430T193000@VHSUNTERLAND
SUMMARY:Rücken-Fit (261IL30223) 
LOCATION:il Polizeigebäude, Raum 1, Charlottenstraße 5, 74360 Ilsfeld
END:VEVENT
END:VCALENDAR