BEGIN:VCALENDAR
VERSION:2.0
PRODID:http://www.kufer.de/kuferweb / DE
METHOD:PUBLISH
CALSCALE:GREGORIAN
X-WR-TIMEZONE:Europe/Berlin
BEGIN:VTIMEZONE
TZID:Europe/Berlin
X-LIC-LOCATION:Europe/Berlin
BEGIN:DAYLIGHT
TZOFFSETFROM:+0100
TZOFFSETTO:+0200
TZNAME:CEST
DTSTART;TZID=Europe/Berlin:19700329T020000
RRULE:FREQ=YEARLY;INTERVAL=1;BYDAY=-1SU;BYMONTH=3
END:DAYLIGHT
BEGIN:STANDARD
TZOFFSETFROM:+0200
TZOFFSETTO:+0100
TZNAME:CET
DTSTART;TZID=Europe/Berlin:19701025T030000
RRULE:FREQ=YEARLY;INTERVAL=1;BYDAY=-1SU;BYMONTH=10
END:STANDARD
END:VTIMEZONE
BEGIN:VEVENT
DTSTAMP:20260421T185258
DTSTART;TZID=Europe/Berlin:20260223T200000
DTEND;TZID=Europe/Berlin:20260223T210000
UID:261IL30216-20260223T200000@VHSUNTERLAND
SUMMARY:Rücken-Fit (261IL30216) 
LOCATION:il Gemeindeaus Helfenberg, Schloßbergstr. 2, 74360 Ilsfeld
END:VEVENT
BEGIN:VEVENT
DTSTAMP:20260421T185258
DTSTART;TZID=Europe/Berlin:20260302T200000
DTEND;TZID=Europe/Berlin:20260302T210000
UID:261IL30216-20260302T200000@VHSUNTERLAND
SUMMARY:Rücken-Fit (261IL30216) 
LOCATION:il Gemeindeaus Helfenberg, Schloßbergstr. 2, 74360 Ilsfeld
END:VEVENT
BEGIN:VEVENT
DTSTAMP:20260421T185258
DTSTART;TZID=Europe/Berlin:20260309T200000
DTEND;TZID=Europe/Berlin:20260309T210000
UID:261IL30216-20260309T200000@VHSUNTERLAND
SUMMARY:Rücken-Fit (261IL30216) 
LOCATION:il Gemeindeaus Helfenberg, Schloßbergstr. 2, 74360 Ilsfeld
END:VEVENT
BEGIN:VEVENT
DTSTAMP:20260421T185258
DTSTART;TZID=Europe/Berlin:20260316T200000
DTEND;TZID=Europe/Berlin:20260316T210000
UID:261IL30216-20260316T200000@VHSUNTERLAND
SUMMARY:Rücken-Fit (261IL30216) 
LOCATION:il Gemeindeaus Helfenberg, Schloßbergstr. 2, 74360 Ilsfeld
END:VEVENT
BEGIN:VEVENT
DTSTAMP:20260421T185258
DTSTART;TZID=Europe/Berlin:20260323T200000
DTEND;TZID=Europe/Berlin:20260323T210000
UID:261IL30216-20260323T200000@VHSUNTERLAND
SUMMARY:Rücken-Fit (261IL30216) 
LOCATION:il Gemeindeaus Helfenberg, Schloßbergstr. 2, 74360 Ilsfeld
END:VEVENT
BEGIN:VEVENT
DTSTAMP:20260421T185258
DTSTART;TZID=Europe/Berlin:20260413T200000
DTEND;TZID=Europe/Berlin:20260413T210000
UID:261IL30216-20260413T200000@VHSUNTERLAND
SUMMARY:Rücken-Fit (261IL30216) 
LOCATION:il Gemeindeaus Helfenberg, Schloßbergstr. 2, 74360 Ilsfeld
END:VEVENT
BEGIN:VEVENT
DTSTAMP:20260421T185258
DTSTART;TZID=Europe/Berlin:20260420T200000
DTEND;TZID=Europe/Berlin:20260420T210000
UID:261IL30216-20260420T200000@VHSUNTERLAND
SUMMARY:Rücken-Fit (261IL30216) 
LOCATION:il Gemeindeaus Helfenberg, Schloßbergstr. 2, 74360 Ilsfeld
END:VEVENT
BEGIN:VEVENT
DTSTAMP:20260421T185258
DTSTART;TZID=Europe/Berlin:20260427T200000
DTEND;TZID=Europe/Berlin:20260427T210000
UID:261IL30216-20260427T200000@VHSUNTERLAND
SUMMARY:Rücken-Fit (261IL30216) 
LOCATION:il Gemeindeaus Helfenberg, Schloßbergstr. 2, 74360 Ilsfeld
END:VEVENT
BEGIN:VEVENT
DTSTAMP:20260421T185258
DTSTART;TZID=Europe/Berlin:20260504T200000
DTEND;TZID=Europe/Berlin:20260504T210000
UID:261IL30216-20260504T200000@VHSUNTERLAND
SUMMARY:Rücken-Fit (261IL30216) 
LOCATION:il Gemeindeaus Helfenberg, Schloßbergstr. 2, 74360 Ilsfeld
END:VEVENT
BEGIN:VEVENT
DTSTAMP:20260421T185258
DTSTART;TZID=Europe/Berlin:20260511T200000
DTEND;TZID=Europe/Berlin:20260511T210000
UID:261IL30216-20260511T200000@VHSUNTERLAND
SUMMARY:Rücken-Fit (261IL30216) 
LOCATION:il Gemeindeaus Helfenberg, Schloßbergstr. 2, 74360 Ilsfeld
END:VEVENT
END:VCALENDAR