BEGIN:VCALENDAR
VERSION:2.0
PRODID:http://www.kufer.de/kuferweb / DE
METHOD:PUBLISH
CALSCALE:GREGORIAN
X-WR-TIMEZONE:Europe/Berlin
BEGIN:VTIMEZONE
TZID:Europe/Berlin
X-LIC-LOCATION:Europe/Berlin
BEGIN:DAYLIGHT
TZOFFSETFROM:+0100
TZOFFSETTO:+0200
TZNAME:CEST
DTSTART;TZID=Europe/Berlin:19700329T020000
RRULE:FREQ=YEARLY;INTERVAL=1;BYDAY=-1SU;BYMONTH=3
END:DAYLIGHT
BEGIN:STANDARD
TZOFFSETFROM:+0200
TZOFFSETTO:+0100
TZNAME:CET
DTSTART;TZID=Europe/Berlin:19701025T030000
RRULE:FREQ=YEARLY;INTERVAL=1;BYDAY=-1SU;BYMONTH=10
END:STANDARD
END:VTIMEZONE
BEGIN:VEVENT
DTSTAMP:20260421T171855
DTSTART;TZID=Europe/Berlin:20260513T094500
DTEND;TZID=Europe/Berlin:20260513T110000
UID:261IL30149-20260513T094500@VHSUNTERLAND
SUMMARY:Vinyasa Yoga (261IL30149) 
LOCATION:il Polizeigebäude, Raum 1, Charlottenstraße 5, 74360 Ilsfeld
END:VEVENT
BEGIN:VEVENT
DTSTAMP:20260421T171855
DTSTART;TZID=Europe/Berlin:20260520T094500
DTEND;TZID=Europe/Berlin:20260520T110000
UID:261IL30149-20260520T094500@VHSUNTERLAND
SUMMARY:Vinyasa Yoga (261IL30149) 
LOCATION:il Polizeigebäude, Raum 1, Charlottenstraße 5, 74360 Ilsfeld
END:VEVENT
BEGIN:VEVENT
DTSTAMP:20260421T171855
DTSTART;TZID=Europe/Berlin:20260610T094500
DTEND;TZID=Europe/Berlin:20260610T110000
UID:261IL30149-20260610T094500@VHSUNTERLAND
SUMMARY:Vinyasa Yoga (261IL30149) 
LOCATION:il Polizeigebäude, Raum 1, Charlottenstraße 5, 74360 Ilsfeld
END:VEVENT
BEGIN:VEVENT
DTSTAMP:20260421T171855
DTSTART;TZID=Europe/Berlin:20260617T094500
DTEND;TZID=Europe/Berlin:20260617T110000
UID:261IL30149-20260617T094500@VHSUNTERLAND
SUMMARY:Vinyasa Yoga (261IL30149) 
LOCATION:il Polizeigebäude, Raum 1, Charlottenstraße 5, 74360 Ilsfeld
END:VEVENT
BEGIN:VEVENT
DTSTAMP:20260421T171855
DTSTART;TZID=Europe/Berlin:20260624T094500
DTEND;TZID=Europe/Berlin:20260624T110000
UID:261IL30149-20260624T094500@VHSUNTERLAND
SUMMARY:Vinyasa Yoga (261IL30149) 
LOCATION:il Polizeigebäude, Raum 1, Charlottenstraße 5, 74360 Ilsfeld
END:VEVENT
BEGIN:VEVENT
DTSTAMP:20260421T171855
DTSTART;TZID=Europe/Berlin:20260701T094500
DTEND;TZID=Europe/Berlin:20260701T110000
UID:261IL30149-20260701T094500@VHSUNTERLAND
SUMMARY:Vinyasa Yoga (261IL30149) 
LOCATION:il Polizeigebäude, Raum 1, Charlottenstraße 5, 74360 Ilsfeld
END:VEVENT
BEGIN:VEVENT
DTSTAMP:20260421T171855
DTSTART;TZID=Europe/Berlin:20260708T094500
DTEND;TZID=Europe/Berlin:20260708T110000
UID:261IL30149-20260708T094500@VHSUNTERLAND
SUMMARY:Vinyasa Yoga (261IL30149) 
LOCATION:il Polizeigebäude, Raum 1, Charlottenstraße 5, 74360 Ilsfeld
END:VEVENT
BEGIN:VEVENT
DTSTAMP:20260421T171855
DTSTART;TZID=Europe/Berlin:20260715T094500
DTEND;TZID=Europe/Berlin:20260715T110000
UID:261IL30149-20260715T094500@VHSUNTERLAND
SUMMARY:Vinyasa Yoga (261IL30149) 
LOCATION:il Polizeigebäude, Raum 1, Charlottenstraße 5, 74360 Ilsfeld
END:VEVENT
END:VCALENDAR